BEGIN:VCALENDAR
VERSION:2.0
PRODID:-//Hotel Brunswick - ECPv6.15.17.1//NONSGML v1.0//EN
CALSCALE:GREGORIAN
METHOD:PUBLISH
X-WR-CALNAME:Hotel Brunswick
X-ORIGINAL-URL:https://hotelbrunswick.com.au
X-WR-CALDESC:Events for Hotel Brunswick
REFRESH-INTERVAL;VALUE=DURATION:PT1H
X-Robots-Tag:noindex
X-PUBLISHED-TTL:PT1H
BEGIN:VTIMEZONE
TZID:UTC
BEGIN:STANDARD
TZOFFSETFROM:+0000
TZOFFSETTO:+0000
TZNAME:UTC
DTSTART:20250101T000000
END:STANDARD
END:VTIMEZONE
BEGIN:VEVENT
DTSTART;TZID=UTC:20260423T150000
DTEND;TZID=UTC:20260423T170000
DTSTAMP:20260423T193857
CREATED:20250804T170605Z
LAST-MODIFIED:20260201T225429Z
UID:10007753-1776956400-1776963600@hotelbrunswick.com.au
SUMMARY:Happy Hour
DESCRIPTION:HAPPY HOUR | MO-FR 3-5PM | $7.50 Tap Beers \nWeekday Happy Hour! \nRaise your glass to $7.50 tap beers\, available Monday–Friday\, 3–5PM.Because afternoons are made for good company and cold brews. \nOpen to everyone. No membership needed. T&Cs apply. Excludes public holidays and NSW/QLD school holidays.
URL:https://hotelbrunswick.com.au/event/happy-hour-2/2026-04-23/
CATEGORIES:What's On
ATTACH;FMTTYPE=image/jpeg:https://hotelbrunswick.com.au/wp-content/uploads/2025/08/happy-hour-scaled-e1761525027291.jpg
END:VEVENT
BEGIN:VEVENT
DTSTART;TZID=UTC:20260423T180000
DTEND;TZID=UTC:20260423T190000
DTSTAMP:20260423T193857
CREATED:20251218T070057Z
LAST-MODIFIED:20260105T044514Z
UID:10006967-1776967200-1776970800@hotelbrunswick.com.au
SUMMARY:Raffle Night
DESCRIPTION:
URL:https://hotelbrunswick.com.au/event/raffle-night-thursdays-2-2/2026-04-23/
CATEGORIES:What's On
ATTACH;FMTTYPE=image/jpeg:https://hotelbrunswick.com.au/wp-content/uploads/2025/08/raffle-scaled.jpg
END:VEVENT
BEGIN:VEVENT
DTSTART;TZID=UTC:20260423T180000
DTEND;TZID=UTC:20260423T190000
DTSTAMP:20260423T193857
CREATED:20251223T161425Z
LAST-MODIFIED:20251223T161826Z
UID:10010382-1776967200-1776970800@hotelbrunswick.com.au
SUMMARY:Raffle Night
DESCRIPTION:
URL:https://hotelbrunswick.com.au/event/raffle-night-thursdays-2-2-2/2026-04-23/
CATEGORIES:What's On
ATTACH;FMTTYPE=image/jpeg:https://hotelbrunswick.com.au/wp-content/uploads/2025/08/raffle-scaled.jpg
END:VEVENT
BEGIN:VEVENT
DTSTART;TZID=UTC:20260423T180000
DTEND;TZID=UTC:20260423T203000
DTSTAMP:20260423T193857
CREATED:20260311T045027Z
LAST-MODIFIED:20260311T045027Z
UID:10011280-1776967200-1776976200@hotelbrunswick.com.au
SUMMARY:JOSH LEE HAMILTON
DESCRIPTION:JOSH LEE HAMILTON | HOTEL BRUNSWICK | 23 APRIL 6PM  \nJosh Lee Hamilton is a Northern Rivers local with a sound that’ll stop you in your tracks. His indie folk and roots music is warm\, honest and deeply personal — songs about love\, struggle and faith that feel like they were written just for you. \nTriple J have played his music\, he’s won multiple songwriter awards and played Splendour in the Grass. \nFree Entry
URL:https://hotelbrunswick.com.au/event/josh-lee-hamilton/
CATEGORIES:Gig
ATTACH;FMTTYPE=image/webp:https://hotelbrunswick.com.au/wp-content/uploads/2024/12/meta_eyJzcmNCdWNrZXQiOiJiemdsZmlsZXMifQ-1-e1746398931627.webp
END:VEVENT
END:VCALENDAR