BEGIN:VCALENDAR
VERSION:2.0
PRODID:-//Hotel Brunswick - ECPv6.15.17.1//NONSGML v1.0//EN
CALSCALE:GREGORIAN
METHOD:PUBLISH
X-WR-CALNAME:Hotel Brunswick
X-ORIGINAL-URL:https://hotelbrunswick.com.au
X-WR-CALDESC:Events for Hotel Brunswick
REFRESH-INTERVAL;VALUE=DURATION:PT1H
X-Robots-Tag:noindex
X-PUBLISHED-TTL:PT1H
BEGIN:VTIMEZONE
TZID:UTC
BEGIN:STANDARD
TZOFFSETFROM:+0000
TZOFFSETTO:+0000
TZNAME:UTC
DTSTART:20240101T000000
END:STANDARD
END:VTIMEZONE
BEGIN:VTIMEZONE
TZID:Australia/Sydney
BEGIN:STANDARD
TZOFFSETFROM:+1100
TZOFFSETTO:+1000
TZNAME:AEST
DTSTART:20250405T160000
END:STANDARD
BEGIN:DAYLIGHT
TZOFFSETFROM:+1000
TZOFFSETTO:+1100
TZNAME:AEDT
DTSTART:20251004T160000
END:DAYLIGHT
BEGIN:STANDARD
TZOFFSETFROM:+1100
TZOFFSETTO:+1000
TZNAME:AEST
DTSTART:20260404T160000
END:STANDARD
BEGIN:DAYLIGHT
TZOFFSETFROM:+1000
TZOFFSETTO:+1100
TZNAME:AEDT
DTSTART:20261003T160000
END:DAYLIGHT
BEGIN:STANDARD
TZOFFSETFROM:+1100
TZOFFSETTO:+1000
TZNAME:AEST
DTSTART:20270403T160000
END:STANDARD
BEGIN:DAYLIGHT
TZOFFSETFROM:+1000
TZOFFSETTO:+1100
TZNAME:AEDT
DTSTART:20271002T160000
END:DAYLIGHT
END:VTIMEZONE
BEGIN:VEVENT
DTSTART;TZID=UTC:20251101T120000
DTEND;TZID=UTC:20261101T090000
DTSTAMP:20260422T195258
CREATED:20251012T155739Z
LAST-MODIFIED:20251030T141752Z
UID:10007561-1761998400-1793523600@hotelbrunswick.com.au
SUMMARY:BOTTOMLESS BRUNCH NOV
DESCRIPTION:Bottomless Brunch – First Saturday of Every Month10:00 AM | Live Music from 10:30 AM \nHey brunch lovers! Gather your crew and join us for a relaxed\, delicious Bottomless Brunch. We’re talking shareable plates full of coastal flavours – roasted pumpkin with tahini\, chilli chicken wings\, sesame prawn toast\, mini bay lobster rolls… and yes\, warm sticky date pudding to finish. \nSip bottomless Mimosas ($79) or cocktails ($99) while enjoying coastal flavours\, live music and good chats. \nShared Menu | 10:00 AM Booking OnlyMake sure your group books together so you can all sit and brunch as one. \nBook Your Brunch Now – and make the first Saturday of the month your new favourite tradition. \nCAN’T MAKE IT IN NOVEMBER?\nIf you can’t join us in November\, we’d love to see you at our December Brunch — Reservations are now open: Book here for December.
URL:https://hotelbrunswick.com.au/event/bottomless-brunch-3/
CATEGORIES:What's On
ATTACH;FMTTYPE=image/png:https://hotelbrunswick.com.au/wp-content/uploads/2025/10/Hotel-Brunswick_Bottomless-2025_Digital_Horizontal_1920x1080.png
END:VEVENT
BEGIN:VEVENT
DTSTART;TZID=UTC:20260701T150000
DTEND;TZID=UTC:20260701T170000
DTSTAMP:20260422T195258
CREATED:20250804T170605Z
LAST-MODIFIED:20260201T225429Z
UID:10007792-1782918000-1782925200@hotelbrunswick.com.au
SUMMARY:Happy Hour
DESCRIPTION:HAPPY HOUR | MO-FR 3-5PM | $7.50 Tap Beers \nWeekday Happy Hour! \nRaise your glass to $7.50 tap beers\, available Monday–Friday\, 3–5PM.Because afternoons are made for good company and cold brews. \nOpen to everyone. No membership needed. T&Cs apply. Excludes public holidays and NSW/QLD school holidays.
URL:https://hotelbrunswick.com.au/event/happy-hour-2/2026-07-01/
CATEGORIES:What's On
ATTACH;FMTTYPE=image/jpeg:https://hotelbrunswick.com.au/wp-content/uploads/2025/08/happy-hour-scaled-e1761525027291.jpg
END:VEVENT
BEGIN:VEVENT
DTSTART;TZID=UTC:20260701T160000
DTEND;TZID=UTC:20260701T190000
DTSTAMP:20260422T195258
CREATED:20251223T155349Z
LAST-MODIFIED:20260105T044836Z
UID:10005560-1782921600-1782932400@hotelbrunswick.com.au
SUMMARY:Joker Poker
DESCRIPTION: 
URL:https://hotelbrunswick.com.au/event/joker-poker-4-2/2026-07-01/
CATEGORIES:What's On
ATTACH;FMTTYPE=image/jpeg:https://hotelbrunswick.com.au/wp-content/uploads/2025/08/happyhour-scaled.jpg
END:VEVENT
BEGIN:VEVENT
DTSTART;TZID=UTC:20260702T150000
DTEND;TZID=UTC:20260702T170000
DTSTAMP:20260422T195258
CREATED:20250804T170605Z
LAST-MODIFIED:20260201T225429Z
UID:10007793-1783004400-1783011600@hotelbrunswick.com.au
SUMMARY:Happy Hour
DESCRIPTION:HAPPY HOUR | MO-FR 3-5PM | $7.50 Tap Beers \nWeekday Happy Hour! \nRaise your glass to $7.50 tap beers\, available Monday–Friday\, 3–5PM.Because afternoons are made for good company and cold brews. \nOpen to everyone. No membership needed. T&Cs apply. Excludes public holidays and NSW/QLD school holidays.
URL:https://hotelbrunswick.com.au/event/happy-hour-2/2026-07-02/
CATEGORIES:What's On
ATTACH;FMTTYPE=image/jpeg:https://hotelbrunswick.com.au/wp-content/uploads/2025/08/happy-hour-scaled-e1761525027291.jpg
END:VEVENT
BEGIN:VEVENT
DTSTART;TZID=UTC:20260702T180000
DTEND;TZID=UTC:20260702T190000
DTSTAMP:20260422T195258
CREATED:20251218T070057Z
LAST-MODIFIED:20260105T044514Z
UID:10006977-1783015200-1783018800@hotelbrunswick.com.au
SUMMARY:Raffle Night
DESCRIPTION:
URL:https://hotelbrunswick.com.au/event/raffle-night-thursdays-2-2/2026-07-02/
CATEGORIES:What's On
ATTACH;FMTTYPE=image/jpeg:https://hotelbrunswick.com.au/wp-content/uploads/2025/08/raffle-scaled.jpg
END:VEVENT
BEGIN:VEVENT
DTSTART;TZID=UTC:20260702T180000
DTEND;TZID=UTC:20260702T190000
DTSTAMP:20260422T195258
CREATED:20251223T161425Z
LAST-MODIFIED:20251223T161826Z
UID:10010392-1783015200-1783018800@hotelbrunswick.com.au
SUMMARY:Raffle Night
DESCRIPTION:
URL:https://hotelbrunswick.com.au/event/raffle-night-thursdays-2-2-2/2026-07-02/
CATEGORIES:What's On
ATTACH;FMTTYPE=image/jpeg:https://hotelbrunswick.com.au/wp-content/uploads/2025/08/raffle-scaled.jpg
END:VEVENT
BEGIN:VEVENT
DTSTART;TZID=UTC:20260703T150000
DTEND;TZID=UTC:20260703T170000
DTSTAMP:20260422T195258
CREATED:20250804T170605Z
LAST-MODIFIED:20260201T225429Z
UID:10007794-1783090800-1783098000@hotelbrunswick.com.au
SUMMARY:Happy Hour
DESCRIPTION:HAPPY HOUR | MO-FR 3-5PM | $7.50 Tap Beers \nWeekday Happy Hour! \nRaise your glass to $7.50 tap beers\, available Monday–Friday\, 3–5PM.Because afternoons are made for good company and cold brews. \nOpen to everyone. No membership needed. T&Cs apply. Excludes public holidays and NSW/QLD school holidays.
URL:https://hotelbrunswick.com.au/event/happy-hour-2/2026-07-03/
CATEGORIES:What's On
ATTACH;FMTTYPE=image/jpeg:https://hotelbrunswick.com.au/wp-content/uploads/2025/08/happy-hour-scaled-e1761525027291.jpg
END:VEVENT
BEGIN:VEVENT
DTSTART;TZID=UTC:20260705T160000
DTEND;TZID=UTC:20260705T200000
DTSTAMP:20260422T195258
CREATED:20241015T135233Z
LAST-MODIFIED:20250120T180639Z
UID:10003084-1783267200-1783281600@hotelbrunswick.com.au
SUMMARY:SUNDAY BRUNSDAY
DESCRIPTION:Join us every Sunday for an unforgettable afternoon of live music\, delicious food\, great vibes and company. \nShowcasing amazing talent with some of the best live music around. Admission is free\, so bring your friends and family for an enjoyable experience for all involved. \nThe perfect Sunday Session \nView Gig Guide
URL:https://hotelbrunswick.com.au/event/sundays-brunsday/2026-07-05/
CATEGORIES:What's On
ATTACH;FMTTYPE=image/jpeg:https://hotelbrunswick.com.au/wp-content/uploads/2024/10/AMD_4970-RA1-scaled.jpg
END:VEVENT
BEGIN:VEVENT
DTSTART;TZID=UTC:20260706T150000
DTEND;TZID=UTC:20260706T170000
DTSTAMP:20260422T195258
CREATED:20250804T170605Z
LAST-MODIFIED:20260201T225429Z
UID:10007795-1783350000-1783357200@hotelbrunswick.com.au
SUMMARY:Happy Hour
DESCRIPTION:HAPPY HOUR | MO-FR 3-5PM | $7.50 Tap Beers \nWeekday Happy Hour! \nRaise your glass to $7.50 tap beers\, available Monday–Friday\, 3–5PM.Because afternoons are made for good company and cold brews. \nOpen to everyone. No membership needed. T&Cs apply. Excludes public holidays and NSW/QLD school holidays.
URL:https://hotelbrunswick.com.au/event/happy-hour-2/2026-07-06/
CATEGORIES:What's On
ATTACH;FMTTYPE=image/jpeg:https://hotelbrunswick.com.au/wp-content/uploads/2025/08/happy-hour-scaled-e1761525027291.jpg
END:VEVENT
BEGIN:VEVENT
DTSTART;TZID=UTC:20260707T150000
DTEND;TZID=UTC:20260707T170000
DTSTAMP:20260422T195258
CREATED:20250804T170605Z
LAST-MODIFIED:20260201T225429Z
UID:10010715-1783436400-1783443600@hotelbrunswick.com.au
SUMMARY:Happy Hour
DESCRIPTION:HAPPY HOUR | MO-FR 3-5PM | $7.50 Tap Beers \nWeekday Happy Hour! \nRaise your glass to $7.50 tap beers\, available Monday–Friday\, 3–5PM.Because afternoons are made for good company and cold brews. \nOpen to everyone. No membership needed. T&Cs apply. Excludes public holidays and NSW/QLD school holidays.
URL:https://hotelbrunswick.com.au/event/happy-hour-2/2026-07-07/
CATEGORIES:What's On
ATTACH;FMTTYPE=image/jpeg:https://hotelbrunswick.com.au/wp-content/uploads/2025/08/happy-hour-scaled-e1761525027291.jpg
END:VEVENT
BEGIN:VEVENT
DTSTART;TZID=Australia/Sydney:20260707T180000
DTEND;TZID=Australia/Sydney:20260707T203000
DTSTAMP:20260422T195258
CREATED:20260209T235354Z
LAST-MODIFIED:20260209T235726Z
UID:10011006-1783447200-1783456200@hotelbrunswick.com.au
SUMMARY:TUESDAY TUNES
DESCRIPTION:Tuesday Tunes: Legends on the Keys | 6 PM \nEvery Tuesday\, catch a solo pianist performing two 1-hour sets: 6:00–7:00 PM and 7:30–8:30 PM. Fun\, live music to set the right tone for a Tuesday night. \nFREE Event
URL:https://hotelbrunswick.com.au/event/tuesday-tunes/2026-07-07/
CATEGORIES:What's On
ATTACH;FMTTYPE=image/jpeg:https://hotelbrunswick.com.au/wp-content/uploads/2026/02/tuesday_tunes.jpg
END:VEVENT
BEGIN:VEVENT
DTSTART;TZID=UTC:20260708T150000
DTEND;TZID=UTC:20260708T170000
DTSTAMP:20260422T195258
CREATED:20250804T170605Z
LAST-MODIFIED:20260201T225429Z
UID:10007796-1783522800-1783530000@hotelbrunswick.com.au
SUMMARY:Happy Hour
DESCRIPTION:HAPPY HOUR | MO-FR 3-5PM | $7.50 Tap Beers \nWeekday Happy Hour! \nRaise your glass to $7.50 tap beers\, available Monday–Friday\, 3–5PM.Because afternoons are made for good company and cold brews. \nOpen to everyone. No membership needed. T&Cs apply. Excludes public holidays and NSW/QLD school holidays.
URL:https://hotelbrunswick.com.au/event/happy-hour-2/2026-07-08/
CATEGORIES:What's On
ATTACH;FMTTYPE=image/jpeg:https://hotelbrunswick.com.au/wp-content/uploads/2025/08/happy-hour-scaled-e1761525027291.jpg
END:VEVENT
BEGIN:VEVENT
DTSTART;TZID=UTC:20260708T160000
DTEND;TZID=UTC:20260708T190000
DTSTAMP:20260422T195258
CREATED:20251223T155349Z
LAST-MODIFIED:20260105T044836Z
UID:10005561-1783526400-1783537200@hotelbrunswick.com.au
SUMMARY:Joker Poker
DESCRIPTION: 
URL:https://hotelbrunswick.com.au/event/joker-poker-4-2/2026-07-08/
CATEGORIES:What's On
ATTACH;FMTTYPE=image/jpeg:https://hotelbrunswick.com.au/wp-content/uploads/2025/08/happyhour-scaled.jpg
END:VEVENT
BEGIN:VEVENT
DTSTART;TZID=UTC:20260709T150000
DTEND;TZID=UTC:20260709T170000
DTSTAMP:20260422T195258
CREATED:20250804T170605Z
LAST-MODIFIED:20260201T225429Z
UID:10007797-1783609200-1783616400@hotelbrunswick.com.au
SUMMARY:Happy Hour
DESCRIPTION:HAPPY HOUR | MO-FR 3-5PM | $7.50 Tap Beers \nWeekday Happy Hour! \nRaise your glass to $7.50 tap beers\, available Monday–Friday\, 3–5PM.Because afternoons are made for good company and cold brews. \nOpen to everyone. No membership needed. T&Cs apply. Excludes public holidays and NSW/QLD school holidays.
URL:https://hotelbrunswick.com.au/event/happy-hour-2/2026-07-09/
CATEGORIES:What's On
ATTACH;FMTTYPE=image/jpeg:https://hotelbrunswick.com.au/wp-content/uploads/2025/08/happy-hour-scaled-e1761525027291.jpg
END:VEVENT
BEGIN:VEVENT
DTSTART;TZID=UTC:20260709T180000
DTEND;TZID=UTC:20260709T190000
DTSTAMP:20260422T195258
CREATED:20251218T070057Z
LAST-MODIFIED:20260105T044514Z
UID:10006978-1783620000-1783623600@hotelbrunswick.com.au
SUMMARY:Raffle Night
DESCRIPTION:
URL:https://hotelbrunswick.com.au/event/raffle-night-thursdays-2-2/2026-07-09/
CATEGORIES:What's On
ATTACH;FMTTYPE=image/jpeg:https://hotelbrunswick.com.au/wp-content/uploads/2025/08/raffle-scaled.jpg
END:VEVENT
BEGIN:VEVENT
DTSTART;TZID=UTC:20260709T180000
DTEND;TZID=UTC:20260709T190000
DTSTAMP:20260422T195258
CREATED:20251223T161425Z
LAST-MODIFIED:20251223T161826Z
UID:10010393-1783620000-1783623600@hotelbrunswick.com.au
SUMMARY:Raffle Night
DESCRIPTION:
URL:https://hotelbrunswick.com.au/event/raffle-night-thursdays-2-2-2/2026-07-09/
CATEGORIES:What's On
ATTACH;FMTTYPE=image/jpeg:https://hotelbrunswick.com.au/wp-content/uploads/2025/08/raffle-scaled.jpg
END:VEVENT
BEGIN:VEVENT
DTSTART;TZID=UTC:20260710T150000
DTEND;TZID=UTC:20260710T170000
DTSTAMP:20260422T195258
CREATED:20250804T170605Z
LAST-MODIFIED:20260201T225429Z
UID:10007798-1783695600-1783702800@hotelbrunswick.com.au
SUMMARY:Happy Hour
DESCRIPTION:HAPPY HOUR | MO-FR 3-5PM | $7.50 Tap Beers \nWeekday Happy Hour! \nRaise your glass to $7.50 tap beers\, available Monday–Friday\, 3–5PM.Because afternoons are made for good company and cold brews. \nOpen to everyone. No membership needed. T&Cs apply. Excludes public holidays and NSW/QLD school holidays.
URL:https://hotelbrunswick.com.au/event/happy-hour-2/2026-07-10/
CATEGORIES:What's On
ATTACH;FMTTYPE=image/jpeg:https://hotelbrunswick.com.au/wp-content/uploads/2025/08/happy-hour-scaled-e1761525027291.jpg
END:VEVENT
BEGIN:VEVENT
DTSTART;TZID=UTC:20260712T160000
DTEND;TZID=UTC:20260712T200000
DTSTAMP:20260422T195258
CREATED:20241015T135233Z
LAST-MODIFIED:20250120T180639Z
UID:10003085-1783872000-1783886400@hotelbrunswick.com.au
SUMMARY:SUNDAY BRUNSDAY
DESCRIPTION:Join us every Sunday for an unforgettable afternoon of live music\, delicious food\, great vibes and company. \nShowcasing amazing talent with some of the best live music around. Admission is free\, so bring your friends and family for an enjoyable experience for all involved. \nThe perfect Sunday Session \nView Gig Guide
URL:https://hotelbrunswick.com.au/event/sundays-brunsday/2026-07-12/
CATEGORIES:What's On
ATTACH;FMTTYPE=image/jpeg:https://hotelbrunswick.com.au/wp-content/uploads/2024/10/AMD_4970-RA1-scaled.jpg
END:VEVENT
BEGIN:VEVENT
DTSTART;TZID=UTC:20260713T150000
DTEND;TZID=UTC:20260713T170000
DTSTAMP:20260422T195258
CREATED:20250804T170605Z
LAST-MODIFIED:20260201T225429Z
UID:10007799-1783954800-1783962000@hotelbrunswick.com.au
SUMMARY:Happy Hour
DESCRIPTION:HAPPY HOUR | MO-FR 3-5PM | $7.50 Tap Beers \nWeekday Happy Hour! \nRaise your glass to $7.50 tap beers\, available Monday–Friday\, 3–5PM.Because afternoons are made for good company and cold brews. \nOpen to everyone. No membership needed. T&Cs apply. Excludes public holidays and NSW/QLD school holidays.
URL:https://hotelbrunswick.com.au/event/happy-hour-2/2026-07-13/
CATEGORIES:What's On
ATTACH;FMTTYPE=image/jpeg:https://hotelbrunswick.com.au/wp-content/uploads/2025/08/happy-hour-scaled-e1761525027291.jpg
END:VEVENT
BEGIN:VEVENT
DTSTART;TZID=UTC:20260714T150000
DTEND;TZID=UTC:20260714T170000
DTSTAMP:20260422T195258
CREATED:20250804T170605Z
LAST-MODIFIED:20260201T225429Z
UID:10010716-1784041200-1784048400@hotelbrunswick.com.au
SUMMARY:Happy Hour
DESCRIPTION:HAPPY HOUR | MO-FR 3-5PM | $7.50 Tap Beers \nWeekday Happy Hour! \nRaise your glass to $7.50 tap beers\, available Monday–Friday\, 3–5PM.Because afternoons are made for good company and cold brews. \nOpen to everyone. No membership needed. T&Cs apply. Excludes public holidays and NSW/QLD school holidays.
URL:https://hotelbrunswick.com.au/event/happy-hour-2/2026-07-14/
CATEGORIES:What's On
ATTACH;FMTTYPE=image/jpeg:https://hotelbrunswick.com.au/wp-content/uploads/2025/08/happy-hour-scaled-e1761525027291.jpg
END:VEVENT
BEGIN:VEVENT
DTSTART;TZID=Australia/Sydney:20260714T180000
DTEND;TZID=Australia/Sydney:20260714T203000
DTSTAMP:20260422T195258
CREATED:20260209T235354Z
LAST-MODIFIED:20260209T235726Z
UID:10011007-1784052000-1784061000@hotelbrunswick.com.au
SUMMARY:TUESDAY TUNES
DESCRIPTION:Tuesday Tunes: Legends on the Keys | 6 PM \nEvery Tuesday\, catch a solo pianist performing two 1-hour sets: 6:00–7:00 PM and 7:30–8:30 PM. Fun\, live music to set the right tone for a Tuesday night. \nFREE Event
URL:https://hotelbrunswick.com.au/event/tuesday-tunes/2026-07-14/
CATEGORIES:What's On
ATTACH;FMTTYPE=image/jpeg:https://hotelbrunswick.com.au/wp-content/uploads/2026/02/tuesday_tunes.jpg
END:VEVENT
BEGIN:VEVENT
DTSTART;TZID=UTC:20260715T150000
DTEND;TZID=UTC:20260715T170000
DTSTAMP:20260422T195258
CREATED:20250804T170605Z
LAST-MODIFIED:20260201T225429Z
UID:10007800-1784127600-1784134800@hotelbrunswick.com.au
SUMMARY:Happy Hour
DESCRIPTION:HAPPY HOUR | MO-FR 3-5PM | $7.50 Tap Beers \nWeekday Happy Hour! \nRaise your glass to $7.50 tap beers\, available Monday–Friday\, 3–5PM.Because afternoons are made for good company and cold brews. \nOpen to everyone. No membership needed. T&Cs apply. Excludes public holidays and NSW/QLD school holidays.
URL:https://hotelbrunswick.com.au/event/happy-hour-2/2026-07-15/
CATEGORIES:What's On
ATTACH;FMTTYPE=image/jpeg:https://hotelbrunswick.com.au/wp-content/uploads/2025/08/happy-hour-scaled-e1761525027291.jpg
END:VEVENT
BEGIN:VEVENT
DTSTART;TZID=UTC:20260715T160000
DTEND;TZID=UTC:20260715T190000
DTSTAMP:20260422T195258
CREATED:20251223T155349Z
LAST-MODIFIED:20260105T044836Z
UID:10005562-1784131200-1784142000@hotelbrunswick.com.au
SUMMARY:Joker Poker
DESCRIPTION: 
URL:https://hotelbrunswick.com.au/event/joker-poker-4-2/2026-07-15/
CATEGORIES:What's On
ATTACH;FMTTYPE=image/jpeg:https://hotelbrunswick.com.au/wp-content/uploads/2025/08/happyhour-scaled.jpg
END:VEVENT
BEGIN:VEVENT
DTSTART;TZID=UTC:20260716T150000
DTEND;TZID=UTC:20260716T170000
DTSTAMP:20260422T195258
CREATED:20250804T170605Z
LAST-MODIFIED:20260201T225429Z
UID:10007801-1784214000-1784221200@hotelbrunswick.com.au
SUMMARY:Happy Hour
DESCRIPTION:HAPPY HOUR | MO-FR 3-5PM | $7.50 Tap Beers \nWeekday Happy Hour! \nRaise your glass to $7.50 tap beers\, available Monday–Friday\, 3–5PM.Because afternoons are made for good company and cold brews. \nOpen to everyone. No membership needed. T&Cs apply. Excludes public holidays and NSW/QLD school holidays.
URL:https://hotelbrunswick.com.au/event/happy-hour-2/2026-07-16/
CATEGORIES:What's On
ATTACH;FMTTYPE=image/jpeg:https://hotelbrunswick.com.au/wp-content/uploads/2025/08/happy-hour-scaled-e1761525027291.jpg
END:VEVENT
BEGIN:VEVENT
DTSTART;TZID=UTC:20260716T180000
DTEND;TZID=UTC:20260716T190000
DTSTAMP:20260422T195258
CREATED:20251218T070057Z
LAST-MODIFIED:20260105T044514Z
UID:10006979-1784224800-1784228400@hotelbrunswick.com.au
SUMMARY:Raffle Night
DESCRIPTION:
URL:https://hotelbrunswick.com.au/event/raffle-night-thursdays-2-2/2026-07-16/
CATEGORIES:What's On
ATTACH;FMTTYPE=image/jpeg:https://hotelbrunswick.com.au/wp-content/uploads/2025/08/raffle-scaled.jpg
END:VEVENT
BEGIN:VEVENT
DTSTART;TZID=UTC:20260716T180000
DTEND;TZID=UTC:20260716T190000
DTSTAMP:20260422T195258
CREATED:20251223T161425Z
LAST-MODIFIED:20251223T161826Z
UID:10010394-1784224800-1784228400@hotelbrunswick.com.au
SUMMARY:Raffle Night
DESCRIPTION:
URL:https://hotelbrunswick.com.au/event/raffle-night-thursdays-2-2-2/2026-07-16/
CATEGORIES:What's On
ATTACH;FMTTYPE=image/jpeg:https://hotelbrunswick.com.au/wp-content/uploads/2025/08/raffle-scaled.jpg
END:VEVENT
BEGIN:VEVENT
DTSTART;TZID=UTC:20260717T150000
DTEND;TZID=UTC:20260717T170000
DTSTAMP:20260422T195258
CREATED:20250804T170605Z
LAST-MODIFIED:20260201T225429Z
UID:10007802-1784300400-1784307600@hotelbrunswick.com.au
SUMMARY:Happy Hour
DESCRIPTION:HAPPY HOUR | MO-FR 3-5PM | $7.50 Tap Beers \nWeekday Happy Hour! \nRaise your glass to $7.50 tap beers\, available Monday–Friday\, 3–5PM.Because afternoons are made for good company and cold brews. \nOpen to everyone. No membership needed. T&Cs apply. Excludes public holidays and NSW/QLD school holidays.
URL:https://hotelbrunswick.com.au/event/happy-hour-2/2026-07-17/
CATEGORIES:What's On
ATTACH;FMTTYPE=image/jpeg:https://hotelbrunswick.com.au/wp-content/uploads/2025/08/happy-hour-scaled-e1761525027291.jpg
END:VEVENT
BEGIN:VEVENT
DTSTART;TZID=UTC:20260719T160000
DTEND;TZID=UTC:20260719T200000
DTSTAMP:20260422T195258
CREATED:20241015T135233Z
LAST-MODIFIED:20250120T180639Z
UID:10003086-1784476800-1784491200@hotelbrunswick.com.au
SUMMARY:SUNDAY BRUNSDAY
DESCRIPTION:Join us every Sunday for an unforgettable afternoon of live music\, delicious food\, great vibes and company. \nShowcasing amazing talent with some of the best live music around. Admission is free\, so bring your friends and family for an enjoyable experience for all involved. \nThe perfect Sunday Session \nView Gig Guide
URL:https://hotelbrunswick.com.au/event/sundays-brunsday/2026-07-19/
CATEGORIES:What's On
ATTACH;FMTTYPE=image/jpeg:https://hotelbrunswick.com.au/wp-content/uploads/2024/10/AMD_4970-RA1-scaled.jpg
END:VEVENT
BEGIN:VEVENT
DTSTART;TZID=UTC:20260720T150000
DTEND;TZID=UTC:20260720T170000
DTSTAMP:20260422T195258
CREATED:20250804T170605Z
LAST-MODIFIED:20260201T225429Z
UID:10007803-1784559600-1784566800@hotelbrunswick.com.au
SUMMARY:Happy Hour
DESCRIPTION:HAPPY HOUR | MO-FR 3-5PM | $7.50 Tap Beers \nWeekday Happy Hour! \nRaise your glass to $7.50 tap beers\, available Monday–Friday\, 3–5PM.Because afternoons are made for good company and cold brews. \nOpen to everyone. No membership needed. T&Cs apply. Excludes public holidays and NSW/QLD school holidays.
URL:https://hotelbrunswick.com.au/event/happy-hour-2/2026-07-20/
CATEGORIES:What's On
ATTACH;FMTTYPE=image/jpeg:https://hotelbrunswick.com.au/wp-content/uploads/2025/08/happy-hour-scaled-e1761525027291.jpg
END:VEVENT
BEGIN:VEVENT
DTSTART;TZID=UTC:20260721T150000
DTEND;TZID=UTC:20260721T170000
DTSTAMP:20260422T195258
CREATED:20250804T170605Z
LAST-MODIFIED:20260201T225429Z
UID:10010717-1784646000-1784653200@hotelbrunswick.com.au
SUMMARY:Happy Hour
DESCRIPTION:HAPPY HOUR | MO-FR 3-5PM | $7.50 Tap Beers \nWeekday Happy Hour! \nRaise your glass to $7.50 tap beers\, available Monday–Friday\, 3–5PM.Because afternoons are made for good company and cold brews. \nOpen to everyone. No membership needed. T&Cs apply. Excludes public holidays and NSW/QLD school holidays.
URL:https://hotelbrunswick.com.au/event/happy-hour-2/2026-07-21/
CATEGORIES:What's On
ATTACH;FMTTYPE=image/jpeg:https://hotelbrunswick.com.au/wp-content/uploads/2025/08/happy-hour-scaled-e1761525027291.jpg
END:VEVENT
END:VCALENDAR