BEGIN:VCALENDAR
VERSION:2.0
PRODID:-//Hotel Brunswick - ECPv6.15.17.1//NONSGML v1.0//EN
CALSCALE:GREGORIAN
METHOD:PUBLISH
X-ORIGINAL-URL:https://hotelbrunswick.com.au
X-WR-CALDESC:Events for Hotel Brunswick
REFRESH-INTERVAL;VALUE=DURATION:PT1H
X-Robots-Tag:noindex
X-PUBLISHED-TTL:PT1H
BEGIN:VTIMEZONE
TZID:UTC
BEGIN:STANDARD
TZOFFSETFROM:+0000
TZOFFSETTO:+0000
TZNAME:UTC
DTSTART:20240101T000000
END:STANDARD
END:VTIMEZONE
BEGIN:VTIMEZONE
TZID:Australia/Sydney
BEGIN:STANDARD
TZOFFSETFROM:+1100
TZOFFSETTO:+1000
TZNAME:AEST
DTSTART:20250405T160000
END:STANDARD
BEGIN:DAYLIGHT
TZOFFSETFROM:+1000
TZOFFSETTO:+1100
TZNAME:AEDT
DTSTART:20251004T160000
END:DAYLIGHT
BEGIN:STANDARD
TZOFFSETFROM:+1100
TZOFFSETTO:+1000
TZNAME:AEST
DTSTART:20260404T160000
END:STANDARD
BEGIN:DAYLIGHT
TZOFFSETFROM:+1000
TZOFFSETTO:+1100
TZNAME:AEDT
DTSTART:20261003T160000
END:DAYLIGHT
BEGIN:STANDARD
TZOFFSETFROM:+1100
TZOFFSETTO:+1000
TZNAME:AEST
DTSTART:20270403T160000
END:STANDARD
BEGIN:DAYLIGHT
TZOFFSETFROM:+1000
TZOFFSETTO:+1100
TZNAME:AEDT
DTSTART:20271002T160000
END:DAYLIGHT
END:VTIMEZONE
BEGIN:VEVENT
DTSTART;TZID=UTC:20251101T120000
DTEND;TZID=UTC:20261101T090000
DTSTAMP:20260422T093846
CREATED:20251012T155739Z
LAST-MODIFIED:20251030T141752Z
UID:10007561-1761998400-1793523600@hotelbrunswick.com.au
SUMMARY:BOTTOMLESS BRUNCH NOV
DESCRIPTION:Bottomless Brunch – First Saturday of Every Month10:00 AM | Live Music from 10:30 AM \nHey brunch lovers! Gather your crew and join us for a relaxed\, delicious Bottomless Brunch. We’re talking shareable plates full of coastal flavours – roasted pumpkin with tahini\, chilli chicken wings\, sesame prawn toast\, mini bay lobster rolls… and yes\, warm sticky date pudding to finish. \nSip bottomless Mimosas ($79) or cocktails ($99) while enjoying coastal flavours\, live music and good chats. \nShared Menu | 10:00 AM Booking OnlyMake sure your group books together so you can all sit and brunch as one. \nBook Your Brunch Now – and make the first Saturday of the month your new favourite tradition. \nCAN’T MAKE IT IN NOVEMBER?\nIf you can’t join us in November\, we’d love to see you at our December Brunch — Reservations are now open: Book here for December.
URL:https://hotelbrunswick.com.au/event/bottomless-brunch-3/
CATEGORIES:What's On
ATTACH;FMTTYPE=image/png:https://hotelbrunswick.com.au/wp-content/uploads/2025/10/Hotel-Brunswick_Bottomless-2025_Digital_Horizontal_1920x1080.png
END:VEVENT
BEGIN:VEVENT
DTSTART;TZID=UTC:20260601T150000
DTEND;TZID=UTC:20260601T170000
DTSTAMP:20260422T093846
CREATED:20250804T170605Z
LAST-MODIFIED:20260201T225429Z
UID:10007775-1780326000-1780333200@hotelbrunswick.com.au
SUMMARY:Happy Hour
DESCRIPTION:HAPPY HOUR | MO-FR 3-5PM | $7.50 Tap Beers \nWeekday Happy Hour! \nRaise your glass to $7.50 tap beers\, available Monday–Friday\, 3–5PM.Because afternoons are made for good company and cold brews. \nOpen to everyone. No membership needed. T&Cs apply. Excludes public holidays and NSW/QLD school holidays.
URL:https://hotelbrunswick.com.au/event/happy-hour-2/2026-06-01/
CATEGORIES:What's On
ATTACH;FMTTYPE=image/jpeg:https://hotelbrunswick.com.au/wp-content/uploads/2025/08/happy-hour-scaled-e1761525027291.jpg
END:VEVENT
BEGIN:VEVENT
DTSTART;TZID=UTC:20260602T150000
DTEND;TZID=UTC:20260602T170000
DTSTAMP:20260422T093846
CREATED:20250804T170605Z
LAST-MODIFIED:20260201T225429Z
UID:10010710-1780412400-1780419600@hotelbrunswick.com.au
SUMMARY:Happy Hour
DESCRIPTION:HAPPY HOUR | MO-FR 3-5PM | $7.50 Tap Beers \nWeekday Happy Hour! \nRaise your glass to $7.50 tap beers\, available Monday–Friday\, 3–5PM.Because afternoons are made for good company and cold brews. \nOpen to everyone. No membership needed. T&Cs apply. Excludes public holidays and NSW/QLD school holidays.
URL:https://hotelbrunswick.com.au/event/happy-hour-2/2026-06-02/
CATEGORIES:What's On
ATTACH;FMTTYPE=image/jpeg:https://hotelbrunswick.com.au/wp-content/uploads/2025/08/happy-hour-scaled-e1761525027291.jpg
END:VEVENT
BEGIN:VEVENT
DTSTART;TZID=Australia/Sydney:20260602T180000
DTEND;TZID=Australia/Sydney:20260602T203000
DTSTAMP:20260422T093846
CREATED:20260209T235354Z
LAST-MODIFIED:20260209T235726Z
UID:10011001-1780423200-1780432200@hotelbrunswick.com.au
SUMMARY:TUESDAY TUNES
DESCRIPTION:Tuesday Tunes: Legends on the Keys | 6 PM \nEvery Tuesday\, catch a solo pianist performing two 1-hour sets: 6:00–7:00 PM and 7:30–8:30 PM. Fun\, live music to set the right tone for a Tuesday night. \nFREE Event
URL:https://hotelbrunswick.com.au/event/tuesday-tunes/2026-06-02/
CATEGORIES:What's On
ATTACH;FMTTYPE=image/jpeg:https://hotelbrunswick.com.au/wp-content/uploads/2026/02/tuesday_tunes.jpg
END:VEVENT
BEGIN:VEVENT
DTSTART;TZID=UTC:20260603T150000
DTEND;TZID=UTC:20260603T170000
DTSTAMP:20260422T093846
CREATED:20250804T170605Z
LAST-MODIFIED:20260201T225429Z
UID:10007776-1780498800-1780506000@hotelbrunswick.com.au
SUMMARY:Happy Hour
DESCRIPTION:HAPPY HOUR | MO-FR 3-5PM | $7.50 Tap Beers \nWeekday Happy Hour! \nRaise your glass to $7.50 tap beers\, available Monday–Friday\, 3–5PM.Because afternoons are made for good company and cold brews. \nOpen to everyone. No membership needed. T&Cs apply. Excludes public holidays and NSW/QLD school holidays.
URL:https://hotelbrunswick.com.au/event/happy-hour-2/2026-06-03/
CATEGORIES:What's On
ATTACH;FMTTYPE=image/jpeg:https://hotelbrunswick.com.au/wp-content/uploads/2025/08/happy-hour-scaled-e1761525027291.jpg
END:VEVENT
BEGIN:VEVENT
DTSTART;TZID=UTC:20260603T160000
DTEND;TZID=UTC:20260603T190000
DTSTAMP:20260422T093846
CREATED:20251223T155349Z
LAST-MODIFIED:20260105T044836Z
UID:10005556-1780502400-1780513200@hotelbrunswick.com.au
SUMMARY:Joker Poker
DESCRIPTION: 
URL:https://hotelbrunswick.com.au/event/joker-poker-4-2/2026-06-03/
CATEGORIES:What's On
ATTACH;FMTTYPE=image/jpeg:https://hotelbrunswick.com.au/wp-content/uploads/2025/08/happyhour-scaled.jpg
END:VEVENT
BEGIN:VEVENT
DTSTART;TZID=UTC:20260604T150000
DTEND;TZID=UTC:20260604T170000
DTSTAMP:20260422T093846
CREATED:20250804T170605Z
LAST-MODIFIED:20260201T225429Z
UID:10007777-1780585200-1780592400@hotelbrunswick.com.au
SUMMARY:Happy Hour
DESCRIPTION:HAPPY HOUR | MO-FR 3-5PM | $7.50 Tap Beers \nWeekday Happy Hour! \nRaise your glass to $7.50 tap beers\, available Monday–Friday\, 3–5PM.Because afternoons are made for good company and cold brews. \nOpen to everyone. No membership needed. T&Cs apply. Excludes public holidays and NSW/QLD school holidays.
URL:https://hotelbrunswick.com.au/event/happy-hour-2/2026-06-04/
CATEGORIES:What's On
ATTACH;FMTTYPE=image/jpeg:https://hotelbrunswick.com.au/wp-content/uploads/2025/08/happy-hour-scaled-e1761525027291.jpg
END:VEVENT
BEGIN:VEVENT
DTSTART;TZID=UTC:20260604T180000
DTEND;TZID=UTC:20260604T190000
DTSTAMP:20260422T093846
CREATED:20251218T070057Z
LAST-MODIFIED:20260105T044514Z
UID:10006973-1780596000-1780599600@hotelbrunswick.com.au
SUMMARY:Raffle Night
DESCRIPTION:
URL:https://hotelbrunswick.com.au/event/raffle-night-thursdays-2-2/2026-06-04/
CATEGORIES:What's On
ATTACH;FMTTYPE=image/jpeg:https://hotelbrunswick.com.au/wp-content/uploads/2025/08/raffle-scaled.jpg
END:VEVENT
BEGIN:VEVENT
DTSTART;TZID=UTC:20260604T180000
DTEND;TZID=UTC:20260604T190000
DTSTAMP:20260422T093846
CREATED:20251223T161425Z
LAST-MODIFIED:20251223T161826Z
UID:10010388-1780596000-1780599600@hotelbrunswick.com.au
SUMMARY:Raffle Night
DESCRIPTION:
URL:https://hotelbrunswick.com.au/event/raffle-night-thursdays-2-2-2/2026-06-04/
CATEGORIES:What's On
ATTACH;FMTTYPE=image/jpeg:https://hotelbrunswick.com.au/wp-content/uploads/2025/08/raffle-scaled.jpg
END:VEVENT
BEGIN:VEVENT
DTSTART;TZID=UTC:20260605T150000
DTEND;TZID=UTC:20260605T170000
DTSTAMP:20260422T093846
CREATED:20250804T170605Z
LAST-MODIFIED:20260201T225429Z
UID:10007778-1780671600-1780678800@hotelbrunswick.com.au
SUMMARY:Happy Hour
DESCRIPTION:HAPPY HOUR | MO-FR 3-5PM | $7.50 Tap Beers \nWeekday Happy Hour! \nRaise your glass to $7.50 tap beers\, available Monday–Friday\, 3–5PM.Because afternoons are made for good company and cold brews. \nOpen to everyone. No membership needed. T&Cs apply. Excludes public holidays and NSW/QLD school holidays.
URL:https://hotelbrunswick.com.au/event/happy-hour-2/2026-06-05/
CATEGORIES:What's On
ATTACH;FMTTYPE=image/jpeg:https://hotelbrunswick.com.au/wp-content/uploads/2025/08/happy-hour-scaled-e1761525027291.jpg
END:VEVENT
BEGIN:VEVENT
DTSTART;TZID=Australia/Sydney:20260605T190000
DTEND;TZID=Australia/Sydney:20260605T220000
DTSTAMP:20260422T093846
CREATED:20260311T040054Z
LAST-MODIFIED:20260315T232711Z
UID:10011261-1780686000-1780696800@hotelbrunswick.com.au
SUMMARY:ARC PLAYS EAGLES
DESCRIPTION:ARC PLAYS EAGLES\nHOTEL BRUNSWICK | 5 JUNE \nThe local supergroup Australian Rock Collective (ARC) is going on tour to bring the Eagles’ legendary album HOTEL CALIFORNIA to life this June\, along with a selection of the band’s greatest hits.\n \nARC is undoubtedly Australia’s most celebrated supergroup\, with a combined 33 ARIA Awards and 16 Top Ten ARIA Albums. Comprised of four living legends of Australian rock music – Kram (Spiderbait)\, Darren Middleton (Powderfinger)\, Mark Wilson (Jet) and Davey Lane (You Am I) – ARC bring not just the rabid enthusiasm of friends who grew up as diehard fans of rock music and its legacy\, but the chops\, skills and experience of musicians who have directly contributed to it. \nThis is music played for music fans\, by music fans. The tour starts at Hotel Brunswick\, NSW on Friday 5 June! \nTICKETS ON SALE NOW. \nPresented by Live Nation.
URL:https://hotelbrunswick.com.au/event/hotel-california-the-50th-anniversary/
CATEGORIES:Gig,What's On
ATTACH;FMTTYPE=image/jpeg:https://hotelbrunswick.com.au/wp-content/uploads/2026/02/260605_ARC_web.jpg
END:VEVENT
BEGIN:VEVENT
DTSTART;TZID=UTC:20260606T180000
DTEND;TZID=UTC:20260606T220000
DTSTAMP:20260422T093846
CREATED:20250807T220455Z
LAST-MODIFIED:20260213T021214Z
UID:10007475-1780768800-1780783200@hotelbrunswick.com.au
SUMMARY:PETE MURRAY
DESCRIPTION:NEW DATE: SAT 6 JUNE | Hotel Brunswick \nPete Murray is bringing his exciting full-live-band show to Hotel Brunswick to celebrate the release of his latest album ‘Longing’. Pete will be performing songs from the new record as well as his biggest and most-loved hits. \nDon’t miss this chance to see one of Australia’s greatest songwriters perform with some of the best musicians in the country in what promises to be an awesome night of live entertainment. \n 
URL:https://hotelbrunswick.com.au/event/pete-murray/
CATEGORIES:Gig,What's On
ATTACH;FMTTYPE=image/jpeg:https://hotelbrunswick.com.au/wp-content/uploads/2025/08/pete-murray.jpg
END:VEVENT
BEGIN:VEVENT
DTSTART;TZID=UTC:20260607T160000
DTEND;TZID=UTC:20260607T200000
DTSTAMP:20260422T093846
CREATED:20241015T135233Z
LAST-MODIFIED:20250120T180639Z
UID:10003080-1780848000-1780862400@hotelbrunswick.com.au
SUMMARY:SUNDAY BRUNSDAY
DESCRIPTION:Join us every Sunday for an unforgettable afternoon of live music\, delicious food\, great vibes and company. \nShowcasing amazing talent with some of the best live music around. Admission is free\, so bring your friends and family for an enjoyable experience for all involved. \nThe perfect Sunday Session \nView Gig Guide
URL:https://hotelbrunswick.com.au/event/sundays-brunsday/2026-06-07/
CATEGORIES:What's On
ATTACH;FMTTYPE=image/jpeg:https://hotelbrunswick.com.au/wp-content/uploads/2024/10/AMD_4970-RA1-scaled.jpg
END:VEVENT
BEGIN:VEVENT
DTSTART;TZID=UTC:20260608T150000
DTEND;TZID=UTC:20260608T170000
DTSTAMP:20260422T093846
CREATED:20250804T170605Z
LAST-MODIFIED:20260201T225429Z
UID:10007779-1780930800-1780938000@hotelbrunswick.com.au
SUMMARY:Happy Hour
DESCRIPTION:HAPPY HOUR | MO-FR 3-5PM | $7.50 Tap Beers \nWeekday Happy Hour! \nRaise your glass to $7.50 tap beers\, available Monday–Friday\, 3–5PM.Because afternoons are made for good company and cold brews. \nOpen to everyone. No membership needed. T&Cs apply. Excludes public holidays and NSW/QLD school holidays.
URL:https://hotelbrunswick.com.au/event/happy-hour-2/2026-06-08/
CATEGORIES:What's On
ATTACH;FMTTYPE=image/jpeg:https://hotelbrunswick.com.au/wp-content/uploads/2025/08/happy-hour-scaled-e1761525027291.jpg
END:VEVENT
BEGIN:VEVENT
DTSTART;TZID=UTC:20260609T150000
DTEND;TZID=UTC:20260609T170000
DTSTAMP:20260422T093846
CREATED:20250804T170605Z
LAST-MODIFIED:20260201T225429Z
UID:10010711-1781017200-1781024400@hotelbrunswick.com.au
SUMMARY:Happy Hour
DESCRIPTION:HAPPY HOUR | MO-FR 3-5PM | $7.50 Tap Beers \nWeekday Happy Hour! \nRaise your glass to $7.50 tap beers\, available Monday–Friday\, 3–5PM.Because afternoons are made for good company and cold brews. \nOpen to everyone. No membership needed. T&Cs apply. Excludes public holidays and NSW/QLD school holidays.
URL:https://hotelbrunswick.com.au/event/happy-hour-2/2026-06-09/
CATEGORIES:What's On
ATTACH;FMTTYPE=image/jpeg:https://hotelbrunswick.com.au/wp-content/uploads/2025/08/happy-hour-scaled-e1761525027291.jpg
END:VEVENT
BEGIN:VEVENT
DTSTART;TZID=Australia/Sydney:20260609T180000
DTEND;TZID=Australia/Sydney:20260609T203000
DTSTAMP:20260422T093846
CREATED:20260209T235354Z
LAST-MODIFIED:20260209T235726Z
UID:10011002-1781028000-1781037000@hotelbrunswick.com.au
SUMMARY:TUESDAY TUNES
DESCRIPTION:Tuesday Tunes: Legends on the Keys | 6 PM \nEvery Tuesday\, catch a solo pianist performing two 1-hour sets: 6:00–7:00 PM and 7:30–8:30 PM. Fun\, live music to set the right tone for a Tuesday night. \nFREE Event
URL:https://hotelbrunswick.com.au/event/tuesday-tunes/2026-06-09/
CATEGORIES:What's On
ATTACH;FMTTYPE=image/jpeg:https://hotelbrunswick.com.au/wp-content/uploads/2026/02/tuesday_tunes.jpg
END:VEVENT
BEGIN:VEVENT
DTSTART;TZID=UTC:20260610T150000
DTEND;TZID=UTC:20260610T170000
DTSTAMP:20260422T093846
CREATED:20250804T170605Z
LAST-MODIFIED:20260201T225429Z
UID:10007780-1781103600-1781110800@hotelbrunswick.com.au
SUMMARY:Happy Hour
DESCRIPTION:HAPPY HOUR | MO-FR 3-5PM | $7.50 Tap Beers \nWeekday Happy Hour! \nRaise your glass to $7.50 tap beers\, available Monday–Friday\, 3–5PM.Because afternoons are made for good company and cold brews. \nOpen to everyone. No membership needed. T&Cs apply. Excludes public holidays and NSW/QLD school holidays.
URL:https://hotelbrunswick.com.au/event/happy-hour-2/2026-06-10/
CATEGORIES:What's On
ATTACH;FMTTYPE=image/jpeg:https://hotelbrunswick.com.au/wp-content/uploads/2025/08/happy-hour-scaled-e1761525027291.jpg
END:VEVENT
BEGIN:VEVENT
DTSTART;TZID=UTC:20260610T160000
DTEND;TZID=UTC:20260610T190000
DTSTAMP:20260422T093846
CREATED:20251223T155349Z
LAST-MODIFIED:20260105T044836Z
UID:10005557-1781107200-1781118000@hotelbrunswick.com.au
SUMMARY:Joker Poker
DESCRIPTION: 
URL:https://hotelbrunswick.com.au/event/joker-poker-4-2/2026-06-10/
CATEGORIES:What's On
ATTACH;FMTTYPE=image/jpeg:https://hotelbrunswick.com.au/wp-content/uploads/2025/08/happyhour-scaled.jpg
END:VEVENT
BEGIN:VEVENT
DTSTART;TZID=UTC:20260611T150000
DTEND;TZID=UTC:20260611T170000
DTSTAMP:20260422T093846
CREATED:20250804T170605Z
LAST-MODIFIED:20260201T225429Z
UID:10007781-1781190000-1781197200@hotelbrunswick.com.au
SUMMARY:Happy Hour
DESCRIPTION:HAPPY HOUR | MO-FR 3-5PM | $7.50 Tap Beers \nWeekday Happy Hour! \nRaise your glass to $7.50 tap beers\, available Monday–Friday\, 3–5PM.Because afternoons are made for good company and cold brews. \nOpen to everyone. No membership needed. T&Cs apply. Excludes public holidays and NSW/QLD school holidays.
URL:https://hotelbrunswick.com.au/event/happy-hour-2/2026-06-11/
CATEGORIES:What's On
ATTACH;FMTTYPE=image/jpeg:https://hotelbrunswick.com.au/wp-content/uploads/2025/08/happy-hour-scaled-e1761525027291.jpg
END:VEVENT
BEGIN:VEVENT
DTSTART;TZID=UTC:20260611T180000
DTEND;TZID=UTC:20260611T190000
DTSTAMP:20260422T093846
CREATED:20251218T070057Z
LAST-MODIFIED:20260105T044514Z
UID:10006974-1781200800-1781204400@hotelbrunswick.com.au
SUMMARY:Raffle Night
DESCRIPTION:
URL:https://hotelbrunswick.com.au/event/raffle-night-thursdays-2-2/2026-06-11/
CATEGORIES:What's On
ATTACH;FMTTYPE=image/jpeg:https://hotelbrunswick.com.au/wp-content/uploads/2025/08/raffle-scaled.jpg
END:VEVENT
BEGIN:VEVENT
DTSTART;TZID=UTC:20260611T180000
DTEND;TZID=UTC:20260611T190000
DTSTAMP:20260422T093846
CREATED:20251223T161425Z
LAST-MODIFIED:20251223T161826Z
UID:10010389-1781200800-1781204400@hotelbrunswick.com.au
SUMMARY:Raffle Night
DESCRIPTION:
URL:https://hotelbrunswick.com.au/event/raffle-night-thursdays-2-2-2/2026-06-11/
CATEGORIES:What's On
ATTACH;FMTTYPE=image/jpeg:https://hotelbrunswick.com.au/wp-content/uploads/2025/08/raffle-scaled.jpg
END:VEVENT
BEGIN:VEVENT
DTSTART;TZID=UTC:20260612T150000
DTEND;TZID=UTC:20260612T170000
DTSTAMP:20260422T093846
CREATED:20250804T170605Z
LAST-MODIFIED:20260201T225429Z
UID:10007782-1781276400-1781283600@hotelbrunswick.com.au
SUMMARY:Happy Hour
DESCRIPTION:HAPPY HOUR | MO-FR 3-5PM | $7.50 Tap Beers \nWeekday Happy Hour! \nRaise your glass to $7.50 tap beers\, available Monday–Friday\, 3–5PM.Because afternoons are made for good company and cold brews. \nOpen to everyone. No membership needed. T&Cs apply. Excludes public holidays and NSW/QLD school holidays.
URL:https://hotelbrunswick.com.au/event/happy-hour-2/2026-06-12/
CATEGORIES:What's On
ATTACH;FMTTYPE=image/jpeg:https://hotelbrunswick.com.au/wp-content/uploads/2025/08/happy-hour-scaled-e1761525027291.jpg
END:VEVENT
BEGIN:VEVENT
DTSTART;TZID=UTC:20260614T160000
DTEND;TZID=UTC:20260614T200000
DTSTAMP:20260422T093846
CREATED:20241015T135233Z
LAST-MODIFIED:20250120T180639Z
UID:10003081-1781452800-1781467200@hotelbrunswick.com.au
SUMMARY:SUNDAY BRUNSDAY
DESCRIPTION:Join us every Sunday for an unforgettable afternoon of live music\, delicious food\, great vibes and company. \nShowcasing amazing talent with some of the best live music around. Admission is free\, so bring your friends and family for an enjoyable experience for all involved. \nThe perfect Sunday Session \nView Gig Guide
URL:https://hotelbrunswick.com.au/event/sundays-brunsday/2026-06-14/
CATEGORIES:What's On
ATTACH;FMTTYPE=image/jpeg:https://hotelbrunswick.com.au/wp-content/uploads/2024/10/AMD_4970-RA1-scaled.jpg
END:VEVENT
BEGIN:VEVENT
DTSTART;TZID=UTC:20260615T150000
DTEND;TZID=UTC:20260615T170000
DTSTAMP:20260422T093846
CREATED:20250804T170605Z
LAST-MODIFIED:20260201T225429Z
UID:10007783-1781535600-1781542800@hotelbrunswick.com.au
SUMMARY:Happy Hour
DESCRIPTION:HAPPY HOUR | MO-FR 3-5PM | $7.50 Tap Beers \nWeekday Happy Hour! \nRaise your glass to $7.50 tap beers\, available Monday–Friday\, 3–5PM.Because afternoons are made for good company and cold brews. \nOpen to everyone. No membership needed. T&Cs apply. Excludes public holidays and NSW/QLD school holidays.
URL:https://hotelbrunswick.com.au/event/happy-hour-2/2026-06-15/
CATEGORIES:What's On
ATTACH;FMTTYPE=image/jpeg:https://hotelbrunswick.com.au/wp-content/uploads/2025/08/happy-hour-scaled-e1761525027291.jpg
END:VEVENT
BEGIN:VEVENT
DTSTART;TZID=UTC:20260616T150000
DTEND;TZID=UTC:20260616T170000
DTSTAMP:20260422T093846
CREATED:20250804T170605Z
LAST-MODIFIED:20260201T225429Z
UID:10010712-1781622000-1781629200@hotelbrunswick.com.au
SUMMARY:Happy Hour
DESCRIPTION:HAPPY HOUR | MO-FR 3-5PM | $7.50 Tap Beers \nWeekday Happy Hour! \nRaise your glass to $7.50 tap beers\, available Monday–Friday\, 3–5PM.Because afternoons are made for good company and cold brews. \nOpen to everyone. No membership needed. T&Cs apply. Excludes public holidays and NSW/QLD school holidays.
URL:https://hotelbrunswick.com.au/event/happy-hour-2/2026-06-16/
CATEGORIES:What's On
ATTACH;FMTTYPE=image/jpeg:https://hotelbrunswick.com.au/wp-content/uploads/2025/08/happy-hour-scaled-e1761525027291.jpg
END:VEVENT
BEGIN:VEVENT
DTSTART;TZID=Australia/Sydney:20260616T180000
DTEND;TZID=Australia/Sydney:20260616T203000
DTSTAMP:20260422T093846
CREATED:20260209T235354Z
LAST-MODIFIED:20260209T235726Z
UID:10011003-1781632800-1781641800@hotelbrunswick.com.au
SUMMARY:TUESDAY TUNES
DESCRIPTION:Tuesday Tunes: Legends on the Keys | 6 PM \nEvery Tuesday\, catch a solo pianist performing two 1-hour sets: 6:00–7:00 PM and 7:30–8:30 PM. Fun\, live music to set the right tone for a Tuesday night. \nFREE Event
URL:https://hotelbrunswick.com.au/event/tuesday-tunes/2026-06-16/
CATEGORIES:What's On
ATTACH;FMTTYPE=image/jpeg:https://hotelbrunswick.com.au/wp-content/uploads/2026/02/tuesday_tunes.jpg
END:VEVENT
BEGIN:VEVENT
DTSTART;TZID=UTC:20260617T150000
DTEND;TZID=UTC:20260617T170000
DTSTAMP:20260422T093846
CREATED:20250804T170605Z
LAST-MODIFIED:20260201T225429Z
UID:10007784-1781708400-1781715600@hotelbrunswick.com.au
SUMMARY:Happy Hour
DESCRIPTION:HAPPY HOUR | MO-FR 3-5PM | $7.50 Tap Beers \nWeekday Happy Hour! \nRaise your glass to $7.50 tap beers\, available Monday–Friday\, 3–5PM.Because afternoons are made for good company and cold brews. \nOpen to everyone. No membership needed. T&Cs apply. Excludes public holidays and NSW/QLD school holidays.
URL:https://hotelbrunswick.com.au/event/happy-hour-2/2026-06-17/
CATEGORIES:What's On
ATTACH;FMTTYPE=image/jpeg:https://hotelbrunswick.com.au/wp-content/uploads/2025/08/happy-hour-scaled-e1761525027291.jpg
END:VEVENT
BEGIN:VEVENT
DTSTART;TZID=UTC:20260617T160000
DTEND;TZID=UTC:20260617T190000
DTSTAMP:20260422T093846
CREATED:20251223T155349Z
LAST-MODIFIED:20260105T044836Z
UID:10005558-1781712000-1781722800@hotelbrunswick.com.au
SUMMARY:Joker Poker
DESCRIPTION: 
URL:https://hotelbrunswick.com.au/event/joker-poker-4-2/2026-06-17/
CATEGORIES:What's On
ATTACH;FMTTYPE=image/jpeg:https://hotelbrunswick.com.au/wp-content/uploads/2025/08/happyhour-scaled.jpg
END:VEVENT
BEGIN:VEVENT
DTSTART;TZID=UTC:20260618T150000
DTEND;TZID=UTC:20260618T170000
DTSTAMP:20260422T093846
CREATED:20250804T170605Z
LAST-MODIFIED:20260201T225429Z
UID:10007785-1781794800-1781802000@hotelbrunswick.com.au
SUMMARY:Happy Hour
DESCRIPTION:HAPPY HOUR | MO-FR 3-5PM | $7.50 Tap Beers \nWeekday Happy Hour! \nRaise your glass to $7.50 tap beers\, available Monday–Friday\, 3–5PM.Because afternoons are made for good company and cold brews. \nOpen to everyone. No membership needed. T&Cs apply. Excludes public holidays and NSW/QLD school holidays.
URL:https://hotelbrunswick.com.au/event/happy-hour-2/2026-06-18/
CATEGORIES:What's On
ATTACH;FMTTYPE=image/jpeg:https://hotelbrunswick.com.au/wp-content/uploads/2025/08/happy-hour-scaled-e1761525027291.jpg
END:VEVENT
BEGIN:VEVENT
DTSTART;TZID=UTC:20260618T180000
DTEND;TZID=UTC:20260618T190000
DTSTAMP:20260422T093846
CREATED:20251218T070057Z
LAST-MODIFIED:20260105T044514Z
UID:10006975-1781805600-1781809200@hotelbrunswick.com.au
SUMMARY:Raffle Night
DESCRIPTION:
URL:https://hotelbrunswick.com.au/event/raffle-night-thursdays-2-2/2026-06-18/
CATEGORIES:What's On
ATTACH;FMTTYPE=image/jpeg:https://hotelbrunswick.com.au/wp-content/uploads/2025/08/raffle-scaled.jpg
END:VEVENT
END:VCALENDAR