BEGIN:VCALENDAR
VERSION:2.0
PRODID:-//Hotel Brunswick - ECPv6.15.17.1//NONSGML v1.0//EN
CALSCALE:GREGORIAN
METHOD:PUBLISH
X-ORIGINAL-URL:https://hotelbrunswick.com.au
X-WR-CALDESC:Events for Hotel Brunswick
REFRESH-INTERVAL;VALUE=DURATION:PT1H
X-Robots-Tag:noindex
X-PUBLISHED-TTL:PT1H
BEGIN:VTIMEZONE
TZID:UTC
BEGIN:STANDARD
TZOFFSETFROM:+0000
TZOFFSETTO:+0000
TZNAME:UTC
DTSTART:20240101T000000
END:STANDARD
END:VTIMEZONE
BEGIN:VTIMEZONE
TZID:Australia/Sydney
BEGIN:STANDARD
TZOFFSETFROM:+1100
TZOFFSETTO:+1000
TZNAME:AEST
DTSTART:20250405T160000
END:STANDARD
BEGIN:DAYLIGHT
TZOFFSETFROM:+1000
TZOFFSETTO:+1100
TZNAME:AEDT
DTSTART:20251004T160000
END:DAYLIGHT
BEGIN:STANDARD
TZOFFSETFROM:+1100
TZOFFSETTO:+1000
TZNAME:AEST
DTSTART:20260404T160000
END:STANDARD
BEGIN:DAYLIGHT
TZOFFSETFROM:+1000
TZOFFSETTO:+1100
TZNAME:AEDT
DTSTART:20261003T160000
END:DAYLIGHT
BEGIN:STANDARD
TZOFFSETFROM:+1100
TZOFFSETTO:+1000
TZNAME:AEST
DTSTART:20270403T160000
END:STANDARD
BEGIN:DAYLIGHT
TZOFFSETFROM:+1000
TZOFFSETTO:+1100
TZNAME:AEDT
DTSTART:20271002T160000
END:DAYLIGHT
END:VTIMEZONE
BEGIN:VEVENT
DTSTART;TZID=UTC:20251101T120000
DTEND;TZID=UTC:20261101T090000
DTSTAMP:20260422T042018
CREATED:20251012T155739Z
LAST-MODIFIED:20251030T141752Z
UID:10007561-1761998400-1793523600@hotelbrunswick.com.au
SUMMARY:BOTTOMLESS BRUNCH NOV
DESCRIPTION:Bottomless Brunch – First Saturday of Every Month10:00 AM | Live Music from 10:30 AM \nHey brunch lovers! Gather your crew and join us for a relaxed\, delicious Bottomless Brunch. We’re talking shareable plates full of coastal flavours – roasted pumpkin with tahini\, chilli chicken wings\, sesame prawn toast\, mini bay lobster rolls… and yes\, warm sticky date pudding to finish. \nSip bottomless Mimosas ($79) or cocktails ($99) while enjoying coastal flavours\, live music and good chats. \nShared Menu | 10:00 AM Booking OnlyMake sure your group books together so you can all sit and brunch as one. \nBook Your Brunch Now – and make the first Saturday of the month your new favourite tradition. \nCAN’T MAKE IT IN NOVEMBER?\nIf you can’t join us in November\, we’d love to see you at our December Brunch — Reservations are now open: Book here for December.
URL:https://hotelbrunswick.com.au/event/bottomless-brunch-3/
CATEGORIES:What's On
ATTACH;FMTTYPE=image/png:https://hotelbrunswick.com.au/wp-content/uploads/2025/10/Hotel-Brunswick_Bottomless-2025_Digital_Horizontal_1920x1080.png
END:VEVENT
BEGIN:VEVENT
DTSTART;TZID=UTC:20260301T160000
DTEND;TZID=UTC:20260301T200000
DTSTAMP:20260422T042018
CREATED:20241015T135233Z
LAST-MODIFIED:20250120T180639Z
UID:10003066-1772380800-1772395200@hotelbrunswick.com.au
SUMMARY:SUNDAY BRUNSDAY
DESCRIPTION:Join us every Sunday for an unforgettable afternoon of live music\, delicious food\, great vibes and company. \nShowcasing amazing talent with some of the best live music around. Admission is free\, so bring your friends and family for an enjoyable experience for all involved. \nThe perfect Sunday Session \nView Gig Guide
URL:https://hotelbrunswick.com.au/event/sundays-brunsday/2026-03-01/
CATEGORIES:What's On
ATTACH;FMTTYPE=image/jpeg:https://hotelbrunswick.com.au/wp-content/uploads/2024/10/AMD_4970-RA1-scaled.jpg
END:VEVENT
BEGIN:VEVENT
DTSTART;TZID=UTC:20260301T160000
DTEND;TZID=UTC:20260301T210000
DTSTAMP:20260422T042018
CREATED:20260127T033141Z
LAST-MODIFIED:20260127T033141Z
UID:10010665-1772380800-1772398800@hotelbrunswick.com.au
SUMMARY:PAUL A. GEORGE
DESCRIPTION:Paul A. George w/ Afrodisea1 March | Hotel Brunswick | From 4PM \nStep into an evening of rhythm\, groove\, and live energy at Hotel Brunswick. \nPaul A. George brings his immersive live-electronic experience\, blending flamenco-infused guitar\, deep downtempo grooves\, and hypnotic dancefloor moments. Expect warm basslines\, textured rhythms\, and a set that moves seamlessly between emotional depth and late-night club heat. \nAfrodisea delivers infectious Afro-centric selections\, filling the room with global beats\, groove-heavy cuts\, and feel-good dance energy from start to finish. \nA night for music lovers\, movers\, and anyone seeking something beyond the standard club set. Come early. Stay late. Let it unfold. \nFREE EVENT
URL:https://hotelbrunswick.com.au/event/paul-a-george-2/
CATEGORIES:Gig
ATTACH;FMTTYPE=image/jpeg:https://hotelbrunswick.com.au/wp-content/uploads/2026/01/paulAgeorge_2-e1769484695876.jpg
END:VEVENT
BEGIN:VEVENT
DTSTART;TZID=UTC:20260302T150000
DTEND;TZID=UTC:20260302T170000
DTSTAMP:20260422T042018
CREATED:20250804T170605Z
LAST-MODIFIED:20260201T225429Z
UID:10007723-1772463600-1772470800@hotelbrunswick.com.au
SUMMARY:Happy Hour
DESCRIPTION:HAPPY HOUR | MO-FR 3-5PM | $7.50 Tap Beers \nWeekday Happy Hour! \nRaise your glass to $7.50 tap beers\, available Monday–Friday\, 3–5PM.Because afternoons are made for good company and cold brews. \nOpen to everyone. No membership needed. T&Cs apply. Excludes public holidays and NSW/QLD school holidays.
URL:https://hotelbrunswick.com.au/event/happy-hour-2/2026-03-02/
CATEGORIES:What's On
ATTACH;FMTTYPE=image/jpeg:https://hotelbrunswick.com.au/wp-content/uploads/2025/08/happy-hour-scaled-e1761525027291.jpg
END:VEVENT
BEGIN:VEVENT
DTSTART;TZID=UTC:20260303T150000
DTEND;TZID=UTC:20260303T170000
DTSTAMP:20260422T042018
CREATED:20250804T170605Z
LAST-MODIFIED:20260201T225429Z
UID:10010697-1772550000-1772557200@hotelbrunswick.com.au
SUMMARY:Happy Hour
DESCRIPTION:HAPPY HOUR | MO-FR 3-5PM | $7.50 Tap Beers \nWeekday Happy Hour! \nRaise your glass to $7.50 tap beers\, available Monday–Friday\, 3–5PM.Because afternoons are made for good company and cold brews. \nOpen to everyone. No membership needed. T&Cs apply. Excludes public holidays and NSW/QLD school holidays.
URL:https://hotelbrunswick.com.au/event/happy-hour-2/2026-03-03/
CATEGORIES:What's On
ATTACH;FMTTYPE=image/jpeg:https://hotelbrunswick.com.au/wp-content/uploads/2025/08/happy-hour-scaled-e1761525027291.jpg
END:VEVENT
BEGIN:VEVENT
DTSTART;TZID=Australia/Sydney:20260303T180000
DTEND;TZID=Australia/Sydney:20260303T203000
DTSTAMP:20260422T042018
CREATED:20260209T235354Z
LAST-MODIFIED:20260209T235726Z
UID:10010988-1772560800-1772569800@hotelbrunswick.com.au
SUMMARY:TUESDAY TUNES
DESCRIPTION:Tuesday Tunes: Legends on the Keys | 6 PM \nEvery Tuesday\, catch a solo pianist performing two 1-hour sets: 6:00–7:00 PM and 7:30–8:30 PM. Fun\, live music to set the right tone for a Tuesday night. \nFREE Event
URL:https://hotelbrunswick.com.au/event/tuesday-tunes/2026-03-03/
CATEGORIES:What's On
ATTACH;FMTTYPE=image/jpeg:https://hotelbrunswick.com.au/wp-content/uploads/2026/02/tuesday_tunes.jpg
END:VEVENT
BEGIN:VEVENT
DTSTART;TZID=UTC:20260304T150000
DTEND;TZID=UTC:20260304T170000
DTSTAMP:20260422T042018
CREATED:20250804T170605Z
LAST-MODIFIED:20260201T225429Z
UID:10007724-1772636400-1772643600@hotelbrunswick.com.au
SUMMARY:Happy Hour
DESCRIPTION:HAPPY HOUR | MO-FR 3-5PM | $7.50 Tap Beers \nWeekday Happy Hour! \nRaise your glass to $7.50 tap beers\, available Monday–Friday\, 3–5PM.Because afternoons are made for good company and cold brews. \nOpen to everyone. No membership needed. T&Cs apply. Excludes public holidays and NSW/QLD school holidays.
URL:https://hotelbrunswick.com.au/event/happy-hour-2/2026-03-04/
CATEGORIES:What's On
ATTACH;FMTTYPE=image/jpeg:https://hotelbrunswick.com.au/wp-content/uploads/2025/08/happy-hour-scaled-e1761525027291.jpg
END:VEVENT
BEGIN:VEVENT
DTSTART;TZID=UTC:20260304T160000
DTEND;TZID=UTC:20260304T190000
DTSTAMP:20260422T042018
CREATED:20251223T155349Z
LAST-MODIFIED:20260105T044836Z
UID:10005543-1772640000-1772650800@hotelbrunswick.com.au
SUMMARY:Joker Poker
DESCRIPTION: 
URL:https://hotelbrunswick.com.au/event/joker-poker-4-2/2026-03-04/
CATEGORIES:What's On
ATTACH;FMTTYPE=image/jpeg:https://hotelbrunswick.com.au/wp-content/uploads/2025/08/happyhour-scaled.jpg
END:VEVENT
BEGIN:VEVENT
DTSTART;TZID=UTC:20260305T150000
DTEND;TZID=UTC:20260305T170000
DTSTAMP:20260422T042018
CREATED:20250804T170605Z
LAST-MODIFIED:20260201T225429Z
UID:10007725-1772722800-1772730000@hotelbrunswick.com.au
SUMMARY:Happy Hour
DESCRIPTION:HAPPY HOUR | MO-FR 3-5PM | $7.50 Tap Beers \nWeekday Happy Hour! \nRaise your glass to $7.50 tap beers\, available Monday–Friday\, 3–5PM.Because afternoons are made for good company and cold brews. \nOpen to everyone. No membership needed. T&Cs apply. Excludes public holidays and NSW/QLD school holidays.
URL:https://hotelbrunswick.com.au/event/happy-hour-2/2026-03-05/
CATEGORIES:What's On
ATTACH;FMTTYPE=image/jpeg:https://hotelbrunswick.com.au/wp-content/uploads/2025/08/happy-hour-scaled-e1761525027291.jpg
END:VEVENT
BEGIN:VEVENT
DTSTART;TZID=UTC:20260305T180000
DTEND;TZID=UTC:20260305T190000
DTSTAMP:20260422T042018
CREATED:20251218T070057Z
LAST-MODIFIED:20260105T044514Z
UID:10006960-1772733600-1772737200@hotelbrunswick.com.au
SUMMARY:Raffle Night
DESCRIPTION:
URL:https://hotelbrunswick.com.au/event/raffle-night-thursdays-2-2/2026-03-05/
CATEGORIES:What's On
ATTACH;FMTTYPE=image/jpeg:https://hotelbrunswick.com.au/wp-content/uploads/2025/08/raffle-scaled.jpg
END:VEVENT
BEGIN:VEVENT
DTSTART;TZID=UTC:20260305T180000
DTEND;TZID=UTC:20260305T190000
DTSTAMP:20260422T042018
CREATED:20251223T161425Z
LAST-MODIFIED:20251223T161826Z
UID:10010375-1772733600-1772737200@hotelbrunswick.com.au
SUMMARY:Raffle Night
DESCRIPTION:
URL:https://hotelbrunswick.com.au/event/raffle-night-thursdays-2-2-2/2026-03-05/
CATEGORIES:What's On
ATTACH;FMTTYPE=image/jpeg:https://hotelbrunswick.com.au/wp-content/uploads/2025/08/raffle-scaled.jpg
END:VEVENT
BEGIN:VEVENT
DTSTART;TZID=UTC:20260305T180000
DTEND;TZID=UTC:20260305T203000
DTSTAMP:20260422T042018
CREATED:20260206T063226Z
LAST-MODIFIED:20260206T063226Z
UID:10010980-1772733600-1772742600@hotelbrunswick.com.au
SUMMARY:CALLUM CREELMAN
DESCRIPTION:🎶 Cal Creelman Live at Hotel Brunswick5 March | 6PM | Free Event \nJoin us for an evening of warm\, feel-good tunes with rising NZ/Gold Coast talent Cal Creelman. \nOnce a “closet musician\,” Cal has quickly made his mark across the Coast’s restaurants\, bars\, cafés\, and markets — and now he’s bringing his raw\, soulful sound to Hotel Brunswick. \nWith a voice that moves effortlessly from mellow arvo-session vibes to powerful\, uplifting sing-along moments\, Cal covers everything from 80s classics to modern indie gems. Expect heartfelt hits\, hidden treasures\, and plenty of good-time energy. \nDrawing inspiration from artists like Arctic Monkeys\, Lime Cordiale\, Gang of Youths\, and DMA’S\, Cal’s acoustic style blends indie pop\, indie rock\, and a charisma that captivates any crowd. \nFree entry • Music from 6PM • All ages welcome \nSettle in\, grab a drink\, and let Cal Creelman soundtrack your summer evening at The Bruns. 🎵✨
URL:https://hotelbrunswick.com.au/event/callum-creelman-6/
CATEGORIES:Gig
ATTACH;FMTTYPE=image/jpeg:https://hotelbrunswick.com.au/wp-content/uploads/2025/02/DSC03897-1-scaled-e1763700090947.jpg
END:VEVENT
BEGIN:VEVENT
DTSTART;TZID=UTC:20260306T150000
DTEND;TZID=UTC:20260306T170000
DTSTAMP:20260422T042018
CREATED:20250804T170605Z
LAST-MODIFIED:20260201T225429Z
UID:10007726-1772809200-1772816400@hotelbrunswick.com.au
SUMMARY:Happy Hour
DESCRIPTION:HAPPY HOUR | MO-FR 3-5PM | $7.50 Tap Beers \nWeekday Happy Hour! \nRaise your glass to $7.50 tap beers\, available Monday–Friday\, 3–5PM.Because afternoons are made for good company and cold brews. \nOpen to everyone. No membership needed. T&Cs apply. Excludes public holidays and NSW/QLD school holidays.
URL:https://hotelbrunswick.com.au/event/happy-hour-2/2026-03-06/
CATEGORIES:What's On
ATTACH;FMTTYPE=image/jpeg:https://hotelbrunswick.com.au/wp-content/uploads/2025/08/happy-hour-scaled-e1761525027291.jpg
END:VEVENT
BEGIN:VEVENT
DTSTART;TZID=Australia/Sydney:20260306T190000
DTEND;TZID=Australia/Sydney:20260306T220000
DTSTAMP:20260422T042018
CREATED:20260202T225234Z
LAST-MODIFIED:20260202T225923Z
UID:10010977-1772823600-1772834400@hotelbrunswick.com.au
SUMMARY:NATTALI RIZE
DESCRIPTION:NATTALI RIZE | AUSTRALIAN ALBUM TOUR 2026  \nAs part of her 2026 International ‘LIBERATE’ ALBUM TOUR\, Nattali Rize and her show stopping band from Jamaica & Australia make their way to THE BRUNSWICK HOTEL to Unite the People with Music!  \nThe Nattali Rize live show is world renowned\, known for being high energy\, thought provoking\, inspiring and uplifting. The powerhouse band channel a deep world & reggae influence to present an epic one of a kind experience. \nNATTALI RIZE states; “With a new album in tow and a new era on the horizon for humanity\, we are fulfilling our Mission and purpose as musicians to bring sound\, word\, power & frequencies to uplift and connect to our Human Family across borders and waters. We are in a time where LIVE MUSIC is a HEALER with the ability to UNIFY us in the moment\, sending ripples of positivity into our collective reality. The album is called LIBERATE and it’s LIBERATION TIME! Come free up your body & mind on the dance floor with us!” \nHer global anthem “One People” has amassed over 9 million views on youtube\, Nattali and her group continue to connect across borders & waters with many highly acclaimed International festival appearances around the world. \nJoining this epic FREE SHOW for the community is local legend\, THE LYRICAL! \n  \n***************** \n“There is NO band that sounds like them – NONE. The music connects you with island vibrations to international lands all over the world. The creativity that has come forth from her and her band will inspire everyone to follow their heart and go for what they want in life! Thank you\, Nattali!!“ – Top Shelf Music \n“Nattali is a bright light in the world with a vision that extends beyond the stage.” – Michael Franti (Spearhead) \n“They Present as an Army on a mission!”- Deb Kloeden \n“One of the nation’s most refreshing voices” – Rolling Stone \n“INFECTIOUS!” – NPR
URL:https://hotelbrunswick.com.au/event/nattali-rize/
CATEGORIES:Gig
ATTACH;FMTTYPE=image/jpeg:https://hotelbrunswick.com.au/wp-content/uploads/2026/02/NR-25-FB-eventbanner-1.jpg
END:VEVENT
BEGIN:VEVENT
DTSTART;TZID=Australia/Sydney:20260307T163000
DTEND;TZID=Australia/Sydney:20260307T220000
DTSTAMP:20260422T042018
CREATED:20260127T010250Z
LAST-MODIFIED:20260127T010250Z
UID:10010664-1772901000-1772920800@hotelbrunswick.com.au
SUMMARY:CARNAVAL
DESCRIPTION:Brazilian Carnaval at Hotel Brunswick | Sat 7 March | 4:30PM 🎭💃🕺 \nGet ready for an explosion of colors\, rhythms\, and dance as Hotel Brunswick comes alive for Carnaval! This is an alternative take – full of joy\, music\, and fun\, while staying true to the spirit of Brazilian Carnaval. \nThe Lineup: Incredible musicians\, high-energy bands\, and performances that’ll have you dancing non-stop to Brazilian rhythms mixed with global sounds (and a few surprises along the way)! \nFREE ENTRY
URL:https://hotelbrunswick.com.au/event/carnaval-2/
CATEGORIES:Gig
ATTACH;FMTTYPE=image/jpeg:https://hotelbrunswick.com.au/wp-content/uploads/2026/01/COVEREVENT_CARNAVAL26.jpg
END:VEVENT
BEGIN:VEVENT
DTSTART;TZID=Australia/Sydney:20260308T130000
DTEND;TZID=Australia/Sydney:20260308T220000
DTSTAMP:20260422T042018
CREATED:20260211T060918Z
LAST-MODIFIED:20260219T050603Z
UID:10011253-1772974800-1773007200@hotelbrunswick.com.au
SUMMARY:LIVE WITH THE PINES: Kim Churchill & more
DESCRIPTION:LIVE WITH THE PINES | 8 MARCH FROM 1PM \nWe’re bringing together an incredible lineup of talent\, headlined by Kim Churchill this year. Join us for a full day of music and community featuring some of the finest artists around. \n8th of March: Lock it in! \nBring your mates\, kick back with $10 4 Pines schooners at The Bruns\, and settle in from 1PM for a Sunday Brunsday like no other. \nFree entry. Family friendly. Let’s make a day of it.
URL:https://hotelbrunswick.com.au/event/live-with-the-pines-2/
CATEGORIES:Gig,What's On
ATTACH;FMTTYPE=image/png:https://hotelbrunswick.com.au/wp-content/uploads/2026/02/260308_Livewiththepines_tv-1.png
END:VEVENT
BEGIN:VEVENT
DTSTART;TZID=UTC:20260308T160000
DTEND;TZID=UTC:20260308T200000
DTSTAMP:20260422T042018
CREATED:20241015T135233Z
LAST-MODIFIED:20250120T180639Z
UID:10003067-1772985600-1773000000@hotelbrunswick.com.au
SUMMARY:SUNDAY BRUNSDAY
DESCRIPTION:Join us every Sunday for an unforgettable afternoon of live music\, delicious food\, great vibes and company. \nShowcasing amazing talent with some of the best live music around. Admission is free\, so bring your friends and family for an enjoyable experience for all involved. \nThe perfect Sunday Session \nView Gig Guide
URL:https://hotelbrunswick.com.au/event/sundays-brunsday/2026-03-08/
CATEGORIES:What's On
ATTACH;FMTTYPE=image/jpeg:https://hotelbrunswick.com.au/wp-content/uploads/2024/10/AMD_4970-RA1-scaled.jpg
END:VEVENT
BEGIN:VEVENT
DTSTART;TZID=UTC:20260309T150000
DTEND;TZID=UTC:20260309T170000
DTSTAMP:20260422T042018
CREATED:20250804T170605Z
LAST-MODIFIED:20260201T225429Z
UID:10007727-1773068400-1773075600@hotelbrunswick.com.au
SUMMARY:Happy Hour
DESCRIPTION:HAPPY HOUR | MO-FR 3-5PM | $7.50 Tap Beers \nWeekday Happy Hour! \nRaise your glass to $7.50 tap beers\, available Monday–Friday\, 3–5PM.Because afternoons are made for good company and cold brews. \nOpen to everyone. No membership needed. T&Cs apply. Excludes public holidays and NSW/QLD school holidays.
URL:https://hotelbrunswick.com.au/event/happy-hour-2/2026-03-09/
CATEGORIES:What's On
ATTACH;FMTTYPE=image/jpeg:https://hotelbrunswick.com.au/wp-content/uploads/2025/08/happy-hour-scaled-e1761525027291.jpg
END:VEVENT
BEGIN:VEVENT
DTSTART;TZID=UTC:20260310T150000
DTEND;TZID=UTC:20260310T170000
DTSTAMP:20260422T042018
CREATED:20250804T170605Z
LAST-MODIFIED:20260201T225429Z
UID:10010698-1773154800-1773162000@hotelbrunswick.com.au
SUMMARY:Happy Hour
DESCRIPTION:HAPPY HOUR | MO-FR 3-5PM | $7.50 Tap Beers \nWeekday Happy Hour! \nRaise your glass to $7.50 tap beers\, available Monday–Friday\, 3–5PM.Because afternoons are made for good company and cold brews. \nOpen to everyone. No membership needed. T&Cs apply. Excludes public holidays and NSW/QLD school holidays.
URL:https://hotelbrunswick.com.au/event/happy-hour-2/2026-03-10/
CATEGORIES:What's On
ATTACH;FMTTYPE=image/jpeg:https://hotelbrunswick.com.au/wp-content/uploads/2025/08/happy-hour-scaled-e1761525027291.jpg
END:VEVENT
BEGIN:VEVENT
DTSTART;TZID=Australia/Sydney:20260310T180000
DTEND;TZID=Australia/Sydney:20260310T203000
DTSTAMP:20260422T042018
CREATED:20260209T235354Z
LAST-MODIFIED:20260209T235726Z
UID:10010989-1773165600-1773174600@hotelbrunswick.com.au
SUMMARY:TUESDAY TUNES
DESCRIPTION:Tuesday Tunes: Legends on the Keys | 6 PM \nEvery Tuesday\, catch a solo pianist performing two 1-hour sets: 6:00–7:00 PM and 7:30–8:30 PM. Fun\, live music to set the right tone for a Tuesday night. \nFREE Event
URL:https://hotelbrunswick.com.au/event/tuesday-tunes/2026-03-10/
CATEGORIES:What's On
ATTACH;FMTTYPE=image/jpeg:https://hotelbrunswick.com.au/wp-content/uploads/2026/02/tuesday_tunes.jpg
END:VEVENT
BEGIN:VEVENT
DTSTART;TZID=Australia/Sydney:20260310T180000
DTEND;TZID=Australia/Sydney:20260310T203000
DTSTAMP:20260422T042018
CREATED:20260217T014542Z
LAST-MODIFIED:20260217T014542Z
UID:10011256-1773165600-1773174600@hotelbrunswick.com.au
SUMMARY:TUESDAY TUNES: Adam Hourigan
DESCRIPTION:Tuesday Tunes: Legends on the Keys | 6 PM \nEvery Tuesday\, catch a solo pianist performing two 1-hour sets: 6:00–7:00 PM and 7:30–8:30 PM. Fun\, live music to set the right tone for a Tuesday night. \nThis week on the keys: Adam Hourigan — one man\, one piano\, playing live at Hotel Brunswick.
URL:https://hotelbrunswick.com.au/event/tuesday-tunes-adam-hourigan-3/
CATEGORIES:Gig
ATTACH;FMTTYPE=image/jpeg:https://hotelbrunswick.com.au/wp-content/uploads/2026/02/adam-hourigan.jpg
END:VEVENT
BEGIN:VEVENT
DTSTART;TZID=UTC:20260311T150000
DTEND;TZID=UTC:20260311T170000
DTSTAMP:20260422T042018
CREATED:20250804T170605Z
LAST-MODIFIED:20260201T225429Z
UID:10007728-1773241200-1773248400@hotelbrunswick.com.au
SUMMARY:Happy Hour
DESCRIPTION:HAPPY HOUR | MO-FR 3-5PM | $7.50 Tap Beers \nWeekday Happy Hour! \nRaise your glass to $7.50 tap beers\, available Monday–Friday\, 3–5PM.Because afternoons are made for good company and cold brews. \nOpen to everyone. No membership needed. T&Cs apply. Excludes public holidays and NSW/QLD school holidays.
URL:https://hotelbrunswick.com.au/event/happy-hour-2/2026-03-11/
CATEGORIES:What's On
ATTACH;FMTTYPE=image/jpeg:https://hotelbrunswick.com.au/wp-content/uploads/2025/08/happy-hour-scaled-e1761525027291.jpg
END:VEVENT
BEGIN:VEVENT
DTSTART;TZID=UTC:20260311T160000
DTEND;TZID=UTC:20260311T190000
DTSTAMP:20260422T042018
CREATED:20251223T155349Z
LAST-MODIFIED:20260105T044836Z
UID:10005544-1773244800-1773255600@hotelbrunswick.com.au
SUMMARY:Joker Poker
DESCRIPTION: 
URL:https://hotelbrunswick.com.au/event/joker-poker-4-2/2026-03-11/
CATEGORIES:What's On
ATTACH;FMTTYPE=image/jpeg:https://hotelbrunswick.com.au/wp-content/uploads/2025/08/happyhour-scaled.jpg
END:VEVENT
BEGIN:VEVENT
DTSTART;TZID=UTC:20260312T150000
DTEND;TZID=UTC:20260312T170000
DTSTAMP:20260422T042018
CREATED:20250804T170605Z
LAST-MODIFIED:20260201T225429Z
UID:10007729-1773327600-1773334800@hotelbrunswick.com.au
SUMMARY:Happy Hour
DESCRIPTION:HAPPY HOUR | MO-FR 3-5PM | $7.50 Tap Beers \nWeekday Happy Hour! \nRaise your glass to $7.50 tap beers\, available Monday–Friday\, 3–5PM.Because afternoons are made for good company and cold brews. \nOpen to everyone. No membership needed. T&Cs apply. Excludes public holidays and NSW/QLD school holidays.
URL:https://hotelbrunswick.com.au/event/happy-hour-2/2026-03-12/
CATEGORIES:What's On
ATTACH;FMTTYPE=image/jpeg:https://hotelbrunswick.com.au/wp-content/uploads/2025/08/happy-hour-scaled-e1761525027291.jpg
END:VEVENT
BEGIN:VEVENT
DTSTART;TZID=UTC:20260312T180000
DTEND;TZID=UTC:20260312T190000
DTSTAMP:20260422T042018
CREATED:20251218T070057Z
LAST-MODIFIED:20260105T044514Z
UID:10006961-1773338400-1773342000@hotelbrunswick.com.au
SUMMARY:Raffle Night
DESCRIPTION:
URL:https://hotelbrunswick.com.au/event/raffle-night-thursdays-2-2/2026-03-12/
CATEGORIES:What's On
ATTACH;FMTTYPE=image/jpeg:https://hotelbrunswick.com.au/wp-content/uploads/2025/08/raffle-scaled.jpg
END:VEVENT
BEGIN:VEVENT
DTSTART;TZID=UTC:20260312T180000
DTEND;TZID=UTC:20260312T190000
DTSTAMP:20260422T042018
CREATED:20251223T161425Z
LAST-MODIFIED:20251223T161826Z
UID:10010376-1773338400-1773342000@hotelbrunswick.com.au
SUMMARY:Raffle Night
DESCRIPTION:
URL:https://hotelbrunswick.com.au/event/raffle-night-thursdays-2-2-2/2026-03-12/
CATEGORIES:What's On
ATTACH;FMTTYPE=image/jpeg:https://hotelbrunswick.com.au/wp-content/uploads/2025/08/raffle-scaled.jpg
END:VEVENT
BEGIN:VEVENT
DTSTART;TZID=UTC:20260312T180000
DTEND;TZID=UTC:20260312T203000
DTSTAMP:20260422T042018
CREATED:20260211T012015Z
LAST-MODIFIED:20260211T012222Z
UID:10010981-1773338400-1773347400@hotelbrunswick.com.au
SUMMARY:Ole Falcor
DESCRIPTION:Ole Falcor | Hotel Brunswick | 12 March \nAcoustic Musician\, Soloist\, Band & DJ \nHailing from the vibrant coastal town of Byron Bay\, Ole Falcor is a singer-songwriter and guitarist who effortlessly blends folk\, rock\, and pop into a captivating live experience. With heartfelt lyrics\, a magnetic stage presence\, and a dedication to connecting with his audience\, Ole has toured extensively across Australia\, sharing the stage with artists such as Ash Grunwald and Hands Like Houses. \nWhen he’s not performing\, you might find Ole tinkering on cars\, running along the beach with his dog\, or penning introspective songs on his back porch—always with a genuine connection to the world around him. A qualified environmental scientist\, Ole’s passion for our planet runs as deep as his love for music\, and his performances carry an authenticity and warmth that resonate with audiences. \nImpelled by a desire to create uplifting vibes\, Ole Falcor’s music envelopes listeners in a rich\, emotive soundscape\, exploring the depth and heart of every song. \nCatch Ole Falcor live at Hotel Brunswick on 12 March. Free Event.
URL:https://hotelbrunswick.com.au/event/ole-falcor-2/
CATEGORIES:Gig
ATTACH;FMTTYPE=image/jpeg:https://hotelbrunswick.com.au/wp-content/uploads/2026/02/ole-falcor-e1770772936394.jpg
END:VEVENT
BEGIN:VEVENT
DTSTART;TZID=UTC:20260313T150000
DTEND;TZID=UTC:20260313T170000
DTSTAMP:20260422T042018
CREATED:20250804T170605Z
LAST-MODIFIED:20260201T225429Z
UID:10007730-1773414000-1773421200@hotelbrunswick.com.au
SUMMARY:Happy Hour
DESCRIPTION:HAPPY HOUR | MO-FR 3-5PM | $7.50 Tap Beers \nWeekday Happy Hour! \nRaise your glass to $7.50 tap beers\, available Monday–Friday\, 3–5PM.Because afternoons are made for good company and cold brews. \nOpen to everyone. No membership needed. T&Cs apply. Excludes public holidays and NSW/QLD school holidays.
URL:https://hotelbrunswick.com.au/event/happy-hour-2/2026-03-13/
CATEGORIES:What's On
ATTACH;FMTTYPE=image/jpeg:https://hotelbrunswick.com.au/wp-content/uploads/2025/08/happy-hour-scaled-e1761525027291.jpg
END:VEVENT
BEGIN:VEVENT
DTSTART;TZID=UTC:20260313T180000
DTEND;TZID=UTC:20260313T223000
DTSTAMP:20260422T042018
CREATED:20251223T170907Z
LAST-MODIFIED:20251223T170907Z
UID:10010626-1773424800-1773441000@hotelbrunswick.com.au
SUMMARY:OLD MERVS
DESCRIPTION:Old Mervs – See You Around Town in 2026 \nWA duo Old Mervs are keen to see you around town next year. From Toowoomba to Torquay\, Dave and Henry will be stopping in to regional centres across Queensland\, New South Wales and Victoria in February and March\, belting out tracks from their 2025 released self titled debut album and old favourites. Supports will be announced soon! \nRiding a wave of wins\, Old Mervs are celebrating a massive 2025 after the success of their ARIA-Charting debut album release and sold out tours across Australia\, the United States\, including Chicago’s Lollapalooza\, the UK and Europe. \nGET TICKETS \nWith a while between regional shows on the East Coast\, Old Mervs are stoked to see you round town soon. \nCatch them at Hotel Brunswick Friday 13th March
URL:https://hotelbrunswick.com.au/event/old-mervs/
CATEGORIES:Gig,What's On
ATTACH;FMTTYPE=image/png:https://hotelbrunswick.com.au/wp-content/uploads/2025/12/OldMervs.png
END:VEVENT
BEGIN:VEVENT
DTSTART;TZID=Australia/Sydney:20260314T100000
DTEND;TZID=Australia/Sydney:20260314T233000
DTSTAMP:20260422T042018
CREATED:20260218T025850Z
LAST-MODIFIED:20260220T035611Z
UID:10011259-1773482400-1773531000@hotelbrunswick.com.au
SUMMARY:ST PADDY'S DAY: Round Mountain Girls
DESCRIPTION:🍀 ST PADDY’S AT HOTEL BRUNS! 🍀Join us for an Irish-inspired celebration with Guinness on tap\, live music from the Round Mountain Girls\, and a DJ keeping the riverfront buzzing well into the night. \nWe’ve got some fun St Paddy’s Day extras rolling out the green carpet: best dressed comp\, Irish-themed menu items\, and only that day per year — Guinness on tap plus fun Guinness merch give-aways throughout the day. \nSlip on your green\, grab a pint\, and celebrate with your mates by the river. Venue opens from 10am. Live music from 4:30pm till late. FREE event — come along!
URL:https://hotelbrunswick.com.au/event/st-paddys-day-round-mountain-girls/
CATEGORIES:Gig,What's On
ATTACH;FMTTYPE=image/jpeg:https://hotelbrunswick.com.au/wp-content/uploads/2026/02/stpaddysday_event.jpg
END:VEVENT
END:VCALENDAR