BEGIN:VCALENDAR
VERSION:2.0
PRODID:-//Hotel Brunswick - ECPv6.15.17.1//NONSGML v1.0//EN
CALSCALE:GREGORIAN
METHOD:PUBLISH
X-WR-CALNAME:Hotel Brunswick
X-ORIGINAL-URL:https://hotelbrunswick.com.au
X-WR-CALDESC:Events for Hotel Brunswick
REFRESH-INTERVAL;VALUE=DURATION:PT1H
X-Robots-Tag:noindex
X-PUBLISHED-TTL:PT1H
BEGIN:VTIMEZONE
TZID:UTC
BEGIN:STANDARD
TZOFFSETFROM:+0000
TZOFFSETTO:+0000
TZNAME:UTC
DTSTART:20240101T000000
END:STANDARD
END:VTIMEZONE
BEGIN:VEVENT
DTSTART;TZID=UTC:20250901T150000
DTEND;TZID=UTC:20250901T170000
DTSTAMP:20260423T132307
CREATED:20250804T170605Z
LAST-MODIFIED:20260201T225429Z
UID:10007619-1756738800-1756746000@hotelbrunswick.com.au
SUMMARY:Happy Hour
DESCRIPTION:HAPPY HOUR | MO-FR 3-5PM | $7.50 Tap Beers \nWeekday Happy Hour! \nRaise your glass to $7.50 tap beers\, available Monday–Friday\, 3–5PM.Because afternoons are made for good company and cold brews. \nOpen to everyone. No membership needed. T&Cs apply. Excludes public holidays and NSW/QLD school holidays.
URL:https://hotelbrunswick.com.au/event/happy-hour-2/2025-09-01/
CATEGORIES:What's On
ATTACH;FMTTYPE=image/jpeg:https://hotelbrunswick.com.au/wp-content/uploads/2025/08/happy-hour-scaled-e1761525027291.jpg
END:VEVENT
BEGIN:VEVENT
DTSTART;TZID=UTC:20250902T150000
DTEND;TZID=UTC:20250902T170000
DTSTAMP:20260423T132307
CREATED:20250804T170605Z
LAST-MODIFIED:20260201T225429Z
UID:10010671-1756825200-1756832400@hotelbrunswick.com.au
SUMMARY:Happy Hour
DESCRIPTION:HAPPY HOUR | MO-FR 3-5PM | $7.50 Tap Beers \nWeekday Happy Hour! \nRaise your glass to $7.50 tap beers\, available Monday–Friday\, 3–5PM.Because afternoons are made for good company and cold brews. \nOpen to everyone. No membership needed. T&Cs apply. Excludes public holidays and NSW/QLD school holidays.
URL:https://hotelbrunswick.com.au/event/happy-hour-2/2025-09-02/
CATEGORIES:What's On
ATTACH;FMTTYPE=image/jpeg:https://hotelbrunswick.com.au/wp-content/uploads/2025/08/happy-hour-scaled-e1761525027291.jpg
END:VEVENT
BEGIN:VEVENT
DTSTART;TZID=UTC:20250903T150000
DTEND;TZID=UTC:20250903T170000
DTSTAMP:20260423T132307
CREATED:20250804T170605Z
LAST-MODIFIED:20260201T225429Z
UID:10007620-1756911600-1756918800@hotelbrunswick.com.au
SUMMARY:Happy Hour
DESCRIPTION:HAPPY HOUR | MO-FR 3-5PM | $7.50 Tap Beers \nWeekday Happy Hour! \nRaise your glass to $7.50 tap beers\, available Monday–Friday\, 3–5PM.Because afternoons are made for good company and cold brews. \nOpen to everyone. No membership needed. T&Cs apply. Excludes public holidays and NSW/QLD school holidays.
URL:https://hotelbrunswick.com.au/event/happy-hour-2/2025-09-03/
CATEGORIES:What's On
ATTACH;FMTTYPE=image/jpeg:https://hotelbrunswick.com.au/wp-content/uploads/2025/08/happy-hour-scaled-e1761525027291.jpg
END:VEVENT
BEGIN:VEVENT
DTSTART;TZID=UTC:20250903T160000
DTEND;TZID=UTC:20250903T190000
DTSTAMP:20260423T132307
CREATED:20250804T184144Z
LAST-MODIFIED:20251221T114032Z
UID:10005517-1756915200-1756926000@hotelbrunswick.com.au
SUMMARY:Joker Poker
DESCRIPTION:Holiday Break: Joker Poker Paused on Dec 24 & Dec 31 (XMAS Eve & NYE)
URL:https://hotelbrunswick.com.au/event/joker-poker-4/2025-09-03/
CATEGORIES:What's On
ATTACH;FMTTYPE=image/jpeg:https://hotelbrunswick.com.au/wp-content/uploads/2025/08/happyhour-scaled.jpg
END:VEVENT
BEGIN:VEVENT
DTSTART;TZID=UTC:20250903T170000
DTEND;TZID=UTC:20250903T203000
DTSTAMP:20260423T132307
CREATED:20250529T150713Z
LAST-MODIFIED:20250911T153929Z
UID:10003429-1756918800-1756931400@hotelbrunswick.com.au
SUMMARY:Steak Night
DESCRIPTION:$20 Rump \n$30 Sirloin \nserved with chips\, cos\, pickled onions\, ranch & choice of sauce
URL:https://hotelbrunswick.com.au/event/wednesday-steak-night/2025-09-03/
CATEGORIES:What's On
ATTACH;FMTTYPE=image/webp:https://hotelbrunswick.com.au/wp-content/uploads/2024/11/Bruns_The-Ducks_Steak-Special.webp
END:VEVENT
BEGIN:VEVENT
DTSTART;TZID=UTC:20250904T150000
DTEND;TZID=UTC:20250904T170000
DTSTAMP:20260423T132307
CREATED:20250804T170605Z
LAST-MODIFIED:20260201T225429Z
UID:10007621-1756998000-1757005200@hotelbrunswick.com.au
SUMMARY:Happy Hour
DESCRIPTION:HAPPY HOUR | MO-FR 3-5PM | $7.50 Tap Beers \nWeekday Happy Hour! \nRaise your glass to $7.50 tap beers\, available Monday–Friday\, 3–5PM.Because afternoons are made for good company and cold brews. \nOpen to everyone. No membership needed. T&Cs apply. Excludes public holidays and NSW/QLD school holidays.
URL:https://hotelbrunswick.com.au/event/happy-hour-2/2025-09-04/
CATEGORIES:What's On
ATTACH;FMTTYPE=image/jpeg:https://hotelbrunswick.com.au/wp-content/uploads/2025/08/happy-hour-scaled-e1761525027291.jpg
END:VEVENT
BEGIN:VEVENT
DTSTART;TZID=UTC:20250904T170000
DTEND;TZID=UTC:20250904T203000
DTSTAMP:20260423T132307
CREATED:20250804T184321Z
LAST-MODIFIED:20250911T154057Z
UID:10003951-1757005200-1757017800@hotelbrunswick.com.au
SUMMARY:1/2 price Pizza Night
DESCRIPTION:All pizzas half price
URL:https://hotelbrunswick.com.au/event/thursday-pizza-night-2/2025-09-04/
CATEGORIES:What's On
ATTACH;FMTTYPE=image/jpeg:https://hotelbrunswick.com.au/wp-content/uploads/2025/08/pizza2-scaled.jpg
END:VEVENT
BEGIN:VEVENT
DTSTART;TZID=UTC:20250904T180000
DTEND;TZID=UTC:20250904T190000
DTSTAMP:20260423T132307
CREATED:20250804T183357Z
LAST-MODIFIED:20250804T185834Z
UID:10006934-1757008800-1757012400@hotelbrunswick.com.au
SUMMARY:Raffle Night
DESCRIPTION:
URL:https://hotelbrunswick.com.au/event/raffle-night-thursdays-2/2025-09-04/
CATEGORIES:What's On
ATTACH;FMTTYPE=image/jpeg:https://hotelbrunswick.com.au/wp-content/uploads/2025/08/raffle-scaled.jpg
END:VEVENT
BEGIN:VEVENT
DTSTART;TZID=UTC:20250904T180000
DTEND;TZID=UTC:20250904T203000
DTSTAMP:20260423T132307
CREATED:20250814T211816Z
LAST-MODIFIED:20250814T211816Z
UID:10007481-1757008800-1757017800@hotelbrunswick.com.au
SUMMARY:JORDAN MAC
DESCRIPTION:
URL:https://hotelbrunswick.com.au/event/jordan-mac-4/
CATEGORIES:Gig
ATTACH;FMTTYPE=image/jpeg:https://hotelbrunswick.com.au/wp-content/uploads/2025/08/250808_JordanMac-e1765262643985.jpg
END:VEVENT
BEGIN:VEVENT
DTSTART;TZID=UTC:20250905T150000
DTEND;TZID=UTC:20250905T170000
DTSTAMP:20260423T132307
CREATED:20250804T170605Z
LAST-MODIFIED:20260201T225429Z
UID:10007622-1757084400-1757091600@hotelbrunswick.com.au
SUMMARY:Happy Hour
DESCRIPTION:HAPPY HOUR | MO-FR 3-5PM | $7.50 Tap Beers \nWeekday Happy Hour! \nRaise your glass to $7.50 tap beers\, available Monday–Friday\, 3–5PM.Because afternoons are made for good company and cold brews. \nOpen to everyone. No membership needed. T&Cs apply. Excludes public holidays and NSW/QLD school holidays.
URL:https://hotelbrunswick.com.au/event/happy-hour-2/2025-09-05/
CATEGORIES:What's On
ATTACH;FMTTYPE=image/jpeg:https://hotelbrunswick.com.au/wp-content/uploads/2025/08/happy-hour-scaled-e1761525027291.jpg
END:VEVENT
BEGIN:VEVENT
DTSTART;TZID=UTC:20250905T180000
DTEND;TZID=UTC:20250905T220000
DTSTAMP:20260423T132307
CREATED:20250729T181903Z
LAST-MODIFIED:20250824T152000Z
UID:10006122-1757095200-1757109600@hotelbrunswick.com.au
SUMMARY:NO SCRUBS: 90s + Early 00s
DESCRIPTION:SO TELL ME WHAT YOU WANT\, WHAT YOU REALLY REALLY WANT ?? \nNO SCRUBS: 90s + Early 00s Party | FRIDAY 5 SEPTEMBER \nHOTEL BRUNSWICK | DOORS @ 6PM | 18+ \n\nBUY TICKETS \n\n⭐︎⭐︎⭐︎⭐︎⭐︎⭐︎⭐︎⭐︎⭐︎⭐︎⭐︎⭐︎⭐︎⭐︎⭐︎⭐︎ \nCalling all Barbie Girls\, Teenage Dirtbags and All Stars: join No Scrubs for a 90s and early 00s party that will be Larger Than Life!! You’ll be Dancing in the Moonlight\, Spinning Around and Jumpin’ Jumpin’ as we Pump It with all the best throwback tunes from 1990 – 2009!! If you Wannabe Livin la Vida Loca with us on the dancefloor then Say You’ll Be There and get in quick for tickets! \n⭐︎⭐︎⭐︎⭐︎⭐︎⭐︎⭐︎⭐︎⭐︎⭐︎⭐︎⭐︎⭐︎⭐︎⭐︎⭐︎ \nNO SCRUBS SOUNDS LIKE: \nBackstreet Boys : Spice Girls : Britney Spears : Jesse McCartney : The Black Eyed Peas : Kelly Clarkson : Destiny’s Child : Gwen Stefani : S Club 7 : Missy Elliott : Sean Paul : The Veronicas : 5IVE : Missy Higgins : Las Ketchup : N*Sync : Thirsty Merc : Bardot : TLC : Aqua : Shania Twain : Daft Punk : Cher : Ricky Martin : Kylie Minogue : Lou Bega : Nelly Furtado : Wheatus : Fergie : Smashmouth : The Vengaboys : Shakira : Hanson : No Doubt : Craig David : Sugababes : Red Hot Chili Peppers : Lady Gaga : Blink -182 : Atomic Kitten : Green Day : Kelis : Kanye West : P!nk : Eminem : Ashanti : Good Charlotte : Mandy Moore : Robbie Williams : Christina Aguilera : 50 Cent : Beyonce : John Farnham : Rihanna : Justin Timberlake : Mya : Will Smith : Jennifer Lopez : Ja Rule : Avril Lavigne : Linkin Park : Sophie Ellis-Bextor : Metro Station : t.A.T.u : Sum 41 : Jessica Simpson : Shaggy : Vanessa Amorosi : Jagged Edge : Nelly : Usher : Outkast + heeaaaaaaps more! \n  \nPlease read the Plus One Co. company T&Cs carefully prior to purchasing your ticket – https://bit.ly/PurchaseTCs \n  \nPlease note: Our events may feature moving and flashing lights. If you have photosensitivity or any related concerns\, feel free to reach out to us with any questions!
URL:https://hotelbrunswick.com.au/event/no-scrubs/
CATEGORIES:Gig,What's On
ATTACH;FMTTYPE=image/jpeg:https://hotelbrunswick.com.au/wp-content/uploads/2025/07/1365f106-01b3-477d-9078-88ac3a177db1x600x600.jpeg
END:VEVENT
BEGIN:VEVENT
DTSTART;TZID=UTC:20250906T163000
DTEND;TZID=UTC:20250906T210000
DTSTAMP:20260423T132307
CREATED:20250814T212321Z
LAST-MODIFIED:20250814T212544Z
UID:10007482-1757176200-1757192400@hotelbrunswick.com.au
SUMMARY:WEAR THE FOX HAT
DESCRIPTION:A Northern Rivers Pub Rock Band  🎸 \nWith Support: Luke Hayward | Followed by DJ Aroc
URL:https://hotelbrunswick.com.au/event/wear-the-fox-hat-3/
CATEGORIES:Gig
ATTACH;FMTTYPE=image/jpeg:https://hotelbrunswick.com.au/wp-content/uploads/2025/08/2025_WearTheFoxHat_2.jpg
END:VEVENT
BEGIN:VEVENT
DTSTART;TZID=UTC:20250907T110000
DTEND;TZID=UTC:20250907T130000
DTSTAMP:20260423T132307
CREATED:20250814T191902Z
LAST-MODIFIED:20250817T201026Z
UID:10007480-1757242800-1757250000@hotelbrunswick.com.au
SUMMARY:FATHERS DAY BRUNCH
DESCRIPTION:🍖 Father’s Day Brunch at Hotel Bruns 🍻 \nGive Dad the morning he really wants. Gather the family and enjoy Chef Loki’s slow smoked meats platter with all the trimmings\, paired with four Travla tinnies for $89 per adult* plus BF. \nExpect porchetta\, brisket\, wings\, hot links\, turkey\, sides and sauces\, all served to share at one special 11am sitting. \nLittle ones are just $25 (pay on the day) and for non-beer drinkers we have a mimosa package or soft drinks available. \nSeats are limited and this event will sell out fast. \nBook now to secure your spot.
URL:https://hotelbrunswick.com.au/event/fathers-day-smoked-meats-brunch/
CATEGORIES:What's On
ATTACH;FMTTYPE=image/png:https://hotelbrunswick.com.au/wp-content/uploads/2025/08/250907_Fathersday_TV.png
END:VEVENT
BEGIN:VEVENT
DTSTART;TZID=UTC:20250907T160000
DTEND;TZID=UTC:20250907T200000
DTSTAMP:20260423T132307
CREATED:20241015T135233Z
LAST-MODIFIED:20250120T180639Z
UID:10003041-1757260800-1757275200@hotelbrunswick.com.au
SUMMARY:SUNDAY BRUNSDAY
DESCRIPTION:Join us every Sunday for an unforgettable afternoon of live music\, delicious food\, great vibes and company. \nShowcasing amazing talent with some of the best live music around. Admission is free\, so bring your friends and family for an enjoyable experience for all involved. \nThe perfect Sunday Session \nView Gig Guide
URL:https://hotelbrunswick.com.au/event/sundays-brunsday/2025-09-07/
CATEGORIES:What's On
ATTACH;FMTTYPE=image/jpeg:https://hotelbrunswick.com.au/wp-content/uploads/2024/10/AMD_4970-RA1-scaled.jpg
END:VEVENT
BEGIN:VEVENT
DTSTART;TZID=UTC:20250907T160000
DTEND;TZID=UTC:20250907T210000
DTSTAMP:20260423T132307
CREATED:20250807T211530Z
LAST-MODIFIED:20250807T211836Z
UID:10007474-1757260800-1757278800@hotelbrunswick.com.au
SUMMARY:THE STRIDES
DESCRIPTION:THE STRIDES| FREE EVENT| SUN 7 SEPTEMBER\n– With special guests Slim Grilla \nGet ready for an unforgettable night as The Strides bring their powerful reggae tunes to Hotel Brunswick! \nHailing from Sydney\, The Strides embodies Reggae power. Led by roots man Ras Roni\, Fijian MC LTL GZeus\, and Sierra Leonean ragga powerhouse Blacker C\, they offer an explosive\, authentic musical blend of classic roots reggae with hip-hop nuances\, their sound fuses dance hall\, dub beats\, and reggae-pop. \nWith 18 dynamic years on stage\, The Strides have rocked Australia’s major festivals like Splendour in the Grass\, Byron Bay Blues and Roots\, WOMAdelaide and Port Fairy Folk Festival\, sharing stages with legends including Tony Allen\, Julian Marley\, Groundation and Third World\, this 9-piece powerhouse stands as a reggae icon. \nThrough a fusion of cultures and instrumentation\, they unite under a universal consciousness\, cementing their status as a global musical institution. Plus\, special guests Slim Grilla will be joining to warm up the stage. \n\nCome early\, bring your friends\, and enjoy the vibes!
URL:https://hotelbrunswick.com.au/event/the-strides/
CATEGORIES:Gig
ATTACH;FMTTYPE=image/jpeg:https://hotelbrunswick.com.au/wp-content/uploads/2025/08/2025_TheStrides_ShaneRozario1514.jpg
END:VEVENT
BEGIN:VEVENT
DTSTART;TZID=UTC:20250908T150000
DTEND;TZID=UTC:20250908T170000
DTSTAMP:20260423T132307
CREATED:20250804T170605Z
LAST-MODIFIED:20260201T225429Z
UID:10007623-1757343600-1757350800@hotelbrunswick.com.au
SUMMARY:Happy Hour
DESCRIPTION:HAPPY HOUR | MO-FR 3-5PM | $7.50 Tap Beers \nWeekday Happy Hour! \nRaise your glass to $7.50 tap beers\, available Monday–Friday\, 3–5PM.Because afternoons are made for good company and cold brews. \nOpen to everyone. No membership needed. T&Cs apply. Excludes public holidays and NSW/QLD school holidays.
URL:https://hotelbrunswick.com.au/event/happy-hour-2/2025-09-08/
CATEGORIES:What's On
ATTACH;FMTTYPE=image/jpeg:https://hotelbrunswick.com.au/wp-content/uploads/2025/08/happy-hour-scaled-e1761525027291.jpg
END:VEVENT
BEGIN:VEVENT
DTSTART;TZID=UTC:20250909T150000
DTEND;TZID=UTC:20250909T170000
DTSTAMP:20260423T132307
CREATED:20250804T170605Z
LAST-MODIFIED:20260201T225429Z
UID:10010672-1757430000-1757437200@hotelbrunswick.com.au
SUMMARY:Happy Hour
DESCRIPTION:HAPPY HOUR | MO-FR 3-5PM | $7.50 Tap Beers \nWeekday Happy Hour! \nRaise your glass to $7.50 tap beers\, available Monday–Friday\, 3–5PM.Because afternoons are made for good company and cold brews. \nOpen to everyone. No membership needed. T&Cs apply. Excludes public holidays and NSW/QLD school holidays.
URL:https://hotelbrunswick.com.au/event/happy-hour-2/2025-09-09/
CATEGORIES:What's On
ATTACH;FMTTYPE=image/jpeg:https://hotelbrunswick.com.au/wp-content/uploads/2025/08/happy-hour-scaled-e1761525027291.jpg
END:VEVENT
BEGIN:VEVENT
DTSTART;TZID=UTC:20250910T150000
DTEND;TZID=UTC:20250910T170000
DTSTAMP:20260423T132307
CREATED:20250804T170605Z
LAST-MODIFIED:20260201T225429Z
UID:10007624-1757516400-1757523600@hotelbrunswick.com.au
SUMMARY:Happy Hour
DESCRIPTION:HAPPY HOUR | MO-FR 3-5PM | $7.50 Tap Beers \nWeekday Happy Hour! \nRaise your glass to $7.50 tap beers\, available Monday–Friday\, 3–5PM.Because afternoons are made for good company and cold brews. \nOpen to everyone. No membership needed. T&Cs apply. Excludes public holidays and NSW/QLD school holidays.
URL:https://hotelbrunswick.com.au/event/happy-hour-2/2025-09-10/
CATEGORIES:What's On
ATTACH;FMTTYPE=image/jpeg:https://hotelbrunswick.com.au/wp-content/uploads/2025/08/happy-hour-scaled-e1761525027291.jpg
END:VEVENT
BEGIN:VEVENT
DTSTART;TZID=UTC:20250910T160000
DTEND;TZID=UTC:20250910T190000
DTSTAMP:20260423T132307
CREATED:20250804T184144Z
LAST-MODIFIED:20251221T114032Z
UID:10005518-1757520000-1757530800@hotelbrunswick.com.au
SUMMARY:Joker Poker
DESCRIPTION:Holiday Break: Joker Poker Paused on Dec 24 & Dec 31 (XMAS Eve & NYE)
URL:https://hotelbrunswick.com.au/event/joker-poker-4/2025-09-10/
CATEGORIES:What's On
ATTACH;FMTTYPE=image/jpeg:https://hotelbrunswick.com.au/wp-content/uploads/2025/08/happyhour-scaled.jpg
END:VEVENT
BEGIN:VEVENT
DTSTART;TZID=UTC:20250911T150000
DTEND;TZID=UTC:20250911T170000
DTSTAMP:20260423T132307
CREATED:20250804T170605Z
LAST-MODIFIED:20260201T225429Z
UID:10007625-1757602800-1757610000@hotelbrunswick.com.au
SUMMARY:Happy Hour
DESCRIPTION:HAPPY HOUR | MO-FR 3-5PM | $7.50 Tap Beers \nWeekday Happy Hour! \nRaise your glass to $7.50 tap beers\, available Monday–Friday\, 3–5PM.Because afternoons are made for good company and cold brews. \nOpen to everyone. No membership needed. T&Cs apply. Excludes public holidays and NSW/QLD school holidays.
URL:https://hotelbrunswick.com.au/event/happy-hour-2/2025-09-11/
CATEGORIES:What's On
ATTACH;FMTTYPE=image/jpeg:https://hotelbrunswick.com.au/wp-content/uploads/2025/08/happy-hour-scaled-e1761525027291.jpg
END:VEVENT
BEGIN:VEVENT
DTSTART;TZID=UTC:20250911T170000
DTEND;TZID=UTC:20250911T203000
DTSTAMP:20260423T132307
CREATED:20250804T184321Z
LAST-MODIFIED:20250911T154057Z
UID:10003952-1757610000-1757622600@hotelbrunswick.com.au
SUMMARY:1/2 price Pizza Night
DESCRIPTION:All pizzas half price
URL:https://hotelbrunswick.com.au/event/thursday-pizza-night-2/2025-09-11/
CATEGORIES:What's On
ATTACH;FMTTYPE=image/jpeg:https://hotelbrunswick.com.au/wp-content/uploads/2025/08/pizza2-scaled.jpg
END:VEVENT
BEGIN:VEVENT
DTSTART;TZID=UTC:20250911T180000
DTEND;TZID=UTC:20250911T190000
DTSTAMP:20260423T132307
CREATED:20250804T183357Z
LAST-MODIFIED:20250804T185834Z
UID:10006935-1757613600-1757617200@hotelbrunswick.com.au
SUMMARY:Raffle Night
DESCRIPTION:
URL:https://hotelbrunswick.com.au/event/raffle-night-thursdays-2/2025-09-11/
CATEGORIES:What's On
ATTACH;FMTTYPE=image/jpeg:https://hotelbrunswick.com.au/wp-content/uploads/2025/08/raffle-scaled.jpg
END:VEVENT
BEGIN:VEVENT
DTSTART;TZID=UTC:20250911T180000
DTEND;TZID=UTC:20250911T203000
DTSTAMP:20260423T132308
CREATED:20250821T181340Z
LAST-MODIFIED:20250821T181340Z
UID:10007489-1757613600-1757622600@hotelbrunswick.com.au
SUMMARY:WILL CLIFT
DESCRIPTION:
URL:https://hotelbrunswick.com.au/event/will-clift/
CATEGORIES:Gig
ATTACH;FMTTYPE=image/jpeg:https://hotelbrunswick.com.au/wp-content/uploads/2025/08/2509_WillClift_crop.jpg
END:VEVENT
BEGIN:VEVENT
DTSTART;TZID=UTC:20250912T060000
DTEND;TZID=UTC:20250912T203000
DTSTAMP:20260423T132308
CREATED:20250907T210135Z
LAST-MODIFIED:20250907T210135Z
UID:10007495-1757656800-1757709000@hotelbrunswick.com.au
SUMMARY:AMBER ROSE & JACK REEVES
DESCRIPTION:Join singer-songwriter Amber Rose and multi-instrumentalist Jack Reeves for a very special evening of live music at the iconic Hotel Brunswick. \nAmber and Jack will bring a beautifully curated set of original songs alongside a handpicked selection of their personal favourites\, blending heartfelt storytelling with nostalgic tones and rich\, emotive delivery. \nExpect an atmosphere that’s equal parts soulful\, raw\, and uplifting — the kind of night where music feels both personal and timeless. Whether you’re a long-time supporter or discovering their artistry for the first time\, this performance promises to leave you moved and inspired. \nFREE EVENT
URL:https://hotelbrunswick.com.au/event/amber-rose-jack-reeves/
CATEGORIES:Gig
ATTACH;FMTTYPE=image/png:https://hotelbrunswick.com.au/wp-content/uploads/2025/09/Screenshot-2025-09-08-164835.png
END:VEVENT
BEGIN:VEVENT
DTSTART;TZID=UTC:20250912T150000
DTEND;TZID=UTC:20250912T170000
DTSTAMP:20260423T132308
CREATED:20250804T170605Z
LAST-MODIFIED:20260201T225429Z
UID:10007626-1757689200-1757696400@hotelbrunswick.com.au
SUMMARY:Happy Hour
DESCRIPTION:HAPPY HOUR | MO-FR 3-5PM | $7.50 Tap Beers \nWeekday Happy Hour! \nRaise your glass to $7.50 tap beers\, available Monday–Friday\, 3–5PM.Because afternoons are made for good company and cold brews. \nOpen to everyone. No membership needed. T&Cs apply. Excludes public holidays and NSW/QLD school holidays.
URL:https://hotelbrunswick.com.au/event/happy-hour-2/2025-09-12/
CATEGORIES:What's On
ATTACH;FMTTYPE=image/jpeg:https://hotelbrunswick.com.au/wp-content/uploads/2025/08/happy-hour-scaled-e1761525027291.jpg
END:VEVENT
BEGIN:VEVENT
DTSTART;TZID=UTC:20250913T163000
DTEND;TZID=UTC:20250913T210000
DTSTAMP:20260423T132308
CREATED:20250814T213801Z
LAST-MODIFIED:20250814T214410Z
UID:10007483-1757781000-1757797200@hotelbrunswick.com.au
SUMMARY:MATTY ROGERS
DESCRIPTION:FREE EVENT \nNorthern Rivers based Matty Rogers doesn’t play music so much as he becomes possessed by it; a conduit for the musical muse. He taps into the depths of his heart and weaves it into a dynamic musical experience of Americana blues-rock drenched in soul. \n\nRenowned for his authenticity in both songwriting and performance\, this passionate singer-songwriter approaches his craft from a place of pure vulnerability\, a quality that garners him fans of the diehard variety. \nSupported by JC & The Tree | Followed by DJ ArocFree Event\n​
URL:https://hotelbrunswick.com.au/event/matty-rogers-3/
CATEGORIES:Gig
ATTACH;FMTTYPE=image/jpeg:https://hotelbrunswick.com.au/wp-content/uploads/2025/08/2025_MattyRogers_1-scaled.jpg
END:VEVENT
BEGIN:VEVENT
DTSTART;TZID=UTC:20250914T160000
DTEND;TZID=UTC:20250914T200000
DTSTAMP:20260423T132308
CREATED:20241015T135233Z
LAST-MODIFIED:20250120T180639Z
UID:10003042-1757865600-1757880000@hotelbrunswick.com.au
SUMMARY:SUNDAY BRUNSDAY
DESCRIPTION:Join us every Sunday for an unforgettable afternoon of live music\, delicious food\, great vibes and company. \nShowcasing amazing talent with some of the best live music around. Admission is free\, so bring your friends and family for an enjoyable experience for all involved. \nThe perfect Sunday Session \nView Gig Guide
URL:https://hotelbrunswick.com.au/event/sundays-brunsday/2025-09-14/
CATEGORIES:What's On
ATTACH;FMTTYPE=image/jpeg:https://hotelbrunswick.com.au/wp-content/uploads/2024/10/AMD_4970-RA1-scaled.jpg
END:VEVENT
BEGIN:VEVENT
DTSTART;TZID=UTC:20250914T160000
DTEND;TZID=UTC:20250914T203000
DTSTAMP:20260423T132308
CREATED:20250828T212141Z
LAST-MODIFIED:20250828T212141Z
UID:10007494-1757865600-1757881800@hotelbrunswick.com.au
SUMMARY:KURILPA REACH
DESCRIPTION:KURILPA REACH | FREE EVENT | HOTEL BRUNSWICK \n Sunday\, 14 September 2025 From 4:00 PM Free Event \nGet ready for an afternoon of soulful grooves and uplifting energy as Kurilpa Reach\, Meanjin’s enigmatic 7-piece\, bring their signature blend of indie rock\, neo-soul\, roots\, rock and reggae to the Hotel Brunswick stage. \nSince forming in 2017\, Kurilpa Reach have built a reputation as one of Australia’s most dynamic live bands. With two acclaimed EPs\, six singles\, and their 2023 debut album Our House on Home Street\, the band has toured extensively across Australia and New Zealand\, lighting up stages from Woodford Folk Festival to The Zoo in Brisbane. \nExpect everything from rootsy reggae rhythms to emotional ballads\, love songs and groove-heavy tunes\, all delivered with the energy that has made them festival favorites and sought-after supports for acts like The Black Seeds\, Caravana Sun\, Tijuana Cartel\, Peach Fur\, and Shag Rock. \nDon’t miss this free show in the beer garden – bring your friends\, grab a drink\, and soak up the sounds of Kurilpa Reach by the river.
URL:https://hotelbrunswick.com.au/event/kurilpa-reach/
CATEGORIES:Gig
ATTACH;FMTTYPE=image/jpeg:https://hotelbrunswick.com.au/wp-content/uploads/2025/08/250914_KurilpaReach_2-scaled.jpeg
END:VEVENT
BEGIN:VEVENT
DTSTART;TZID=UTC:20250915T150000
DTEND;TZID=UTC:20250915T170000
DTSTAMP:20260423T132308
CREATED:20250804T170605Z
LAST-MODIFIED:20260201T225429Z
UID:10007627-1757948400-1757955600@hotelbrunswick.com.au
SUMMARY:Happy Hour
DESCRIPTION:HAPPY HOUR | MO-FR 3-5PM | $7.50 Tap Beers \nWeekday Happy Hour! \nRaise your glass to $7.50 tap beers\, available Monday–Friday\, 3–5PM.Because afternoons are made for good company and cold brews. \nOpen to everyone. No membership needed. T&Cs apply. Excludes public holidays and NSW/QLD school holidays.
URL:https://hotelbrunswick.com.au/event/happy-hour-2/2025-09-15/
CATEGORIES:What's On
ATTACH;FMTTYPE=image/jpeg:https://hotelbrunswick.com.au/wp-content/uploads/2025/08/happy-hour-scaled-e1761525027291.jpg
END:VEVENT
BEGIN:VEVENT
DTSTART;TZID=UTC:20250915T170000
DTEND;TZID=UTC:20250915T203000
DTSTAMP:20260423T132308
CREATED:20250911T155224Z
LAST-MODIFIED:20251116T140241Z
UID:10008701-1757955600-1757968200@hotelbrunswick.com.au
SUMMARY:Barra-Monday
DESCRIPTION:Enjoy fresh barramundi dishes paired with rotating white wines.\nEvery Monday from 5PM – and at a price that pairs just right. \n>> Barramundi Fillet\, Barramundi Spring Rolls\, or Barramundi Crumbed Burger \n>> Riesling\, Sem Sav\, Pinot Grigio\, Chardonnay (rotating every 4 weeks) \nWine Special: \n>> Buy 1 dish > get a $6 glass \n>> Buy 2 or more dishes > get a $25 bottle \nEvery Monday from 5PM (excluding public holidays and school holidays).
URL:https://hotelbrunswick.com.au/event/barra-monday/2025-09-15/
CATEGORIES:What's On
ATTACH;FMTTYPE=image/jpeg:https://hotelbrunswick.com.au/wp-content/uploads/2025/09/barra-scaled.jpg
END:VEVENT
END:VCALENDAR