BEGIN:VCALENDAR
VERSION:2.0
PRODID:-//Hotel Brunswick - ECPv6.15.17.1//NONSGML v1.0//EN
CALSCALE:GREGORIAN
METHOD:PUBLISH
X-WR-CALNAME:Hotel Brunswick
X-ORIGINAL-URL:https://hotelbrunswick.com.au
X-WR-CALDESC:Events for Hotel Brunswick
REFRESH-INTERVAL;VALUE=DURATION:PT1H
X-Robots-Tag:noindex
X-PUBLISHED-TTL:PT1H
BEGIN:VTIMEZONE
TZID:UTC
BEGIN:STANDARD
TZOFFSETFROM:+0000
TZOFFSETTO:+0000
TZNAME:UTC
DTSTART:20240101T000000
END:STANDARD
END:VTIMEZONE
BEGIN:VEVENT
DTSTART;TZID=UTC:20250801T180000
DTEND;TZID=UTC:20250801T220000
DTSTAMP:20260422T221242
CREATED:20250716T201331Z
LAST-MODIFIED:20250716T201331Z
UID:10006107-1754071200-1754085600@hotelbrunswick.com.au
SUMMARY:REMEMBER SPLENDOUR - DJ Appreciation Night
DESCRIPTION:Friday August 1 · From 6PM · Free Event \nWe’re throwing it back to the golden days of gumboots\, glitter\, and questionable campsite decisions. \nJoin us for ‘Remember Splendour’ — a DJ appreciation night dedicated to the bands that lit up the Splendour stage over the years. Think Arctic Monkeys\, The Strokes\, Florence + The Machine\, Tame Impala\, and all your festival favourites. \nOn the decks: Who’s Who DJ (AKA: Deegs) – spinning tracks from every era of Splendour for one nostalgia-heavy set. \n💿 Free Entry👖 Dress Code: Your best Splendour ‘fit – the louder\, the better🍻 Bar open\, vibes high \nLet’s dance like it’s day three with no responsibilities.
URL:https://hotelbrunswick.com.au/event/remember-splendour/
CATEGORIES:Gig
ATTACH;FMTTYPE=image/png:https://hotelbrunswick.com.au/wp-content/uploads/2025/07/Remember-Splendour.png
END:VEVENT
BEGIN:VEVENT
DTSTART;TZID=UTC:20250802T163000
DTEND;TZID=UTC:20250802T203000
DTSTAMP:20260422T221242
CREATED:20250723T162241Z
LAST-MODIFIED:20250723T162241Z
UID:10006117-1754152200-1754166600@hotelbrunswick.com.au
SUMMARY:The Lyrical
DESCRIPTION:
URL:https://hotelbrunswick.com.au/event/the-lyrical/
CATEGORIES:Gig
ATTACH;FMTTYPE=image/jpeg:https://hotelbrunswick.com.au/wp-content/uploads/2025/02/458167187_1052629263535740_1904678514824321015_n-e1743743937121.jpg
END:VEVENT
BEGIN:VEVENT
DTSTART;TZID=UTC:20250803T160000
DTEND;TZID=UTC:20250803T200000
DTSTAMP:20260422T221242
CREATED:20241015T135233Z
LAST-MODIFIED:20250120T180639Z
UID:10003036-1754236800-1754251200@hotelbrunswick.com.au
SUMMARY:SUNDAY BRUNSDAY
DESCRIPTION:Join us every Sunday for an unforgettable afternoon of live music\, delicious food\, great vibes and company. \nShowcasing amazing talent with some of the best live music around. Admission is free\, so bring your friends and family for an enjoyable experience for all involved. \nThe perfect Sunday Session \nView Gig Guide
URL:https://hotelbrunswick.com.au/event/sundays-brunsday/2025-08-03/
CATEGORIES:What's On
ATTACH;FMTTYPE=image/jpeg:https://hotelbrunswick.com.au/wp-content/uploads/2024/10/AMD_4970-RA1-scaled.jpg
END:VEVENT
BEGIN:VEVENT
DTSTART;TZID=UTC:20250803T160000
DTEND;TZID=UTC:20250803T200000
DTSTAMP:20260422T221242
CREATED:20250701T180627Z
LAST-MODIFIED:20250701T180627Z
UID:10006066-1754236800-1754251200@hotelbrunswick.com.au
SUMMARY:CC The Cat
DESCRIPTION:Free Live Music – Sunday Brunsday Get ready for CC the Cat – a 7-piece reggae-funk powerhouse led by the unstoppable Claire Cottone. With infectious grooves\, bold vocals\, and feel-good anthems about love\, freedom\, and growth\, they’ve been igniting dancefloors across Australia for nearly 20 years. Bring your mates\, grab a drink\, and soak up the sounds.
URL:https://hotelbrunswick.com.au/event/ccandcat/
CATEGORIES:Gig
ATTACH;FMTTYPE=image/jpeg:https://hotelbrunswick.com.au/wp-content/uploads/2025/07/508747328_1392836865738693_6588886622380653388_n.jpg
END:VEVENT
BEGIN:VEVENT
DTSTART;TZID=UTC:20250804T150000
DTEND;TZID=UTC:20250804T170000
DTSTAMP:20260422T221242
CREATED:20250804T170605Z
LAST-MODIFIED:20260201T225429Z
UID:10007603-1754319600-1754326800@hotelbrunswick.com.au
SUMMARY:Happy Hour
DESCRIPTION:HAPPY HOUR | MO-FR 3-5PM | $7.50 Tap Beers \nWeekday Happy Hour! \nRaise your glass to $7.50 tap beers\, available Monday–Friday\, 3–5PM.Because afternoons are made for good company and cold brews. \nOpen to everyone. No membership needed. T&Cs apply. Excludes public holidays and NSW/QLD school holidays.
URL:https://hotelbrunswick.com.au/event/happy-hour-2/2025-08-04/
CATEGORIES:What's On
ATTACH;FMTTYPE=image/jpeg:https://hotelbrunswick.com.au/wp-content/uploads/2025/08/happy-hour-scaled-e1761525027291.jpg
END:VEVENT
BEGIN:VEVENT
DTSTART;TZID=UTC:20250805T150000
DTEND;TZID=UTC:20250805T170000
DTSTAMP:20260422T221242
CREATED:20250804T170605Z
LAST-MODIFIED:20260201T225429Z
UID:10010667-1754406000-1754413200@hotelbrunswick.com.au
SUMMARY:Happy Hour
DESCRIPTION:HAPPY HOUR | MO-FR 3-5PM | $7.50 Tap Beers \nWeekday Happy Hour! \nRaise your glass to $7.50 tap beers\, available Monday–Friday\, 3–5PM.Because afternoons are made for good company and cold brews. \nOpen to everyone. No membership needed. T&Cs apply. Excludes public holidays and NSW/QLD school holidays.
URL:https://hotelbrunswick.com.au/event/happy-hour-2/2025-08-05/
CATEGORIES:What's On
ATTACH;FMTTYPE=image/jpeg:https://hotelbrunswick.com.au/wp-content/uploads/2025/08/happy-hour-scaled-e1761525027291.jpg
END:VEVENT
BEGIN:VEVENT
DTSTART;TZID=UTC:20250806T150000
DTEND;TZID=UTC:20250806T170000
DTSTAMP:20260422T221242
CREATED:20250804T170605Z
LAST-MODIFIED:20260201T225429Z
UID:10007604-1754492400-1754499600@hotelbrunswick.com.au
SUMMARY:Happy Hour
DESCRIPTION:HAPPY HOUR | MO-FR 3-5PM | $7.50 Tap Beers \nWeekday Happy Hour! \nRaise your glass to $7.50 tap beers\, available Monday–Friday\, 3–5PM.Because afternoons are made for good company and cold brews. \nOpen to everyone. No membership needed. T&Cs apply. Excludes public holidays and NSW/QLD school holidays.
URL:https://hotelbrunswick.com.au/event/happy-hour-2/2025-08-06/
CATEGORIES:What's On
ATTACH;FMTTYPE=image/jpeg:https://hotelbrunswick.com.au/wp-content/uploads/2025/08/happy-hour-scaled-e1761525027291.jpg
END:VEVENT
BEGIN:VEVENT
DTSTART;TZID=UTC:20250806T160000
DTEND;TZID=UTC:20250806T190000
DTSTAMP:20260422T221242
CREATED:20250804T184144Z
LAST-MODIFIED:20251221T114032Z
UID:10005513-1754496000-1754506800@hotelbrunswick.com.au
SUMMARY:Joker Poker
DESCRIPTION:Holiday Break: Joker Poker Paused on Dec 24 & Dec 31 (XMAS Eve & NYE)
URL:https://hotelbrunswick.com.au/event/joker-poker-4/2025-08-06/
CATEGORIES:What's On
ATTACH;FMTTYPE=image/jpeg:https://hotelbrunswick.com.au/wp-content/uploads/2025/08/happyhour-scaled.jpg
END:VEVENT
BEGIN:VEVENT
DTSTART;TZID=UTC:20250806T170000
DTEND;TZID=UTC:20250806T203000
DTSTAMP:20260422T221242
CREATED:20250529T150713Z
LAST-MODIFIED:20250911T153929Z
UID:10003425-1754499600-1754512200@hotelbrunswick.com.au
SUMMARY:Steak Night
DESCRIPTION:$20 Rump \n$30 Sirloin \nserved with chips\, cos\, pickled onions\, ranch & choice of sauce
URL:https://hotelbrunswick.com.au/event/wednesday-steak-night/2025-08-06/
CATEGORIES:What's On
ATTACH;FMTTYPE=image/webp:https://hotelbrunswick.com.au/wp-content/uploads/2024/11/Bruns_The-Ducks_Steak-Special.webp
END:VEVENT
BEGIN:VEVENT
DTSTART;TZID=UTC:20250807T150000
DTEND;TZID=UTC:20250807T170000
DTSTAMP:20260422T221242
CREATED:20250804T170605Z
LAST-MODIFIED:20260201T225429Z
UID:10007605-1754578800-1754586000@hotelbrunswick.com.au
SUMMARY:Happy Hour
DESCRIPTION:HAPPY HOUR | MO-FR 3-5PM | $7.50 Tap Beers \nWeekday Happy Hour! \nRaise your glass to $7.50 tap beers\, available Monday–Friday\, 3–5PM.Because afternoons are made for good company and cold brews. \nOpen to everyone. No membership needed. T&Cs apply. Excludes public holidays and NSW/QLD school holidays.
URL:https://hotelbrunswick.com.au/event/happy-hour-2/2025-08-07/
CATEGORIES:What's On
ATTACH;FMTTYPE=image/jpeg:https://hotelbrunswick.com.au/wp-content/uploads/2025/08/happy-hour-scaled-e1761525027291.jpg
END:VEVENT
BEGIN:VEVENT
DTSTART;TZID=UTC:20250807T170000
DTEND;TZID=UTC:20250807T203000
DTSTAMP:20260422T221242
CREATED:20250804T184321Z
LAST-MODIFIED:20250911T154057Z
UID:10003947-1754586000-1754598600@hotelbrunswick.com.au
SUMMARY:1/2 price Pizza Night
DESCRIPTION:All pizzas half price
URL:https://hotelbrunswick.com.au/event/thursday-pizza-night-2/2025-08-07/
CATEGORIES:What's On
ATTACH;FMTTYPE=image/jpeg:https://hotelbrunswick.com.au/wp-content/uploads/2025/08/pizza2-scaled.jpg
END:VEVENT
BEGIN:VEVENT
DTSTART;TZID=UTC:20250807T180000
DTEND;TZID=UTC:20250807T190000
DTSTAMP:20260422T221242
CREATED:20250804T183357Z
LAST-MODIFIED:20250804T185834Z
UID:10006930-1754589600-1754593200@hotelbrunswick.com.au
SUMMARY:Raffle Night
DESCRIPTION:
URL:https://hotelbrunswick.com.au/event/raffle-night-thursdays-2/2025-08-07/
CATEGORIES:What's On
ATTACH;FMTTYPE=image/jpeg:https://hotelbrunswick.com.au/wp-content/uploads/2025/08/raffle-scaled.jpg
END:VEVENT
BEGIN:VEVENT
DTSTART;TZID=UTC:20250807T180000
DTEND;TZID=UTC:20250807T220000
DTSTAMP:20260422T221242
CREATED:20250701T183215Z
LAST-MODIFIED:20251208T193822Z
UID:10006067-1754589600-1754604000@hotelbrunswick.com.au
SUMMARY:Benny O'Dwyer
DESCRIPTION:
URL:https://hotelbrunswick.com.au/event/bennyodwyer/
CATEGORIES:Gig
ATTACH;FMTTYPE=image/avif:https://hotelbrunswick.com.au/wp-content/uploads/2025/07/IMG_1053_JPG.avif
END:VEVENT
BEGIN:VEVENT
DTSTART;TZID=UTC:20250808T150000
DTEND;TZID=UTC:20250808T170000
DTSTAMP:20260422T221242
CREATED:20250804T170605Z
LAST-MODIFIED:20260201T225429Z
UID:10007606-1754665200-1754672400@hotelbrunswick.com.au
SUMMARY:Happy Hour
DESCRIPTION:HAPPY HOUR | MO-FR 3-5PM | $7.50 Tap Beers \nWeekday Happy Hour! \nRaise your glass to $7.50 tap beers\, available Monday–Friday\, 3–5PM.Because afternoons are made for good company and cold brews. \nOpen to everyone. No membership needed. T&Cs apply. Excludes public holidays and NSW/QLD school holidays.
URL:https://hotelbrunswick.com.au/event/happy-hour-2/2025-08-08/
CATEGORIES:What's On
ATTACH;FMTTYPE=image/jpeg:https://hotelbrunswick.com.au/wp-content/uploads/2025/08/happy-hour-scaled-e1761525027291.jpg
END:VEVENT
BEGIN:VEVENT
DTSTART;TZID=UTC:20250808T180000
DTEND;TZID=UTC:20250808T203000
DTSTAMP:20260422T221243
CREATED:20250804T140603Z
LAST-MODIFIED:20250804T140641Z
UID:10006124-1754676000-1754685000@hotelbrunswick.com.au
SUMMARY:JORDAN MAC
DESCRIPTION:
URL:https://hotelbrunswick.com.au/event/jordan-mac-3/
CATEGORIES:Gig
ATTACH;FMTTYPE=image/jpeg:https://hotelbrunswick.com.au/wp-content/uploads/2025/08/250808_JordanMac-e1765262643985.jpg
END:VEVENT
BEGIN:VEVENT
DTSTART;TZID=UTC:20250809T163000
DTEND;TZID=UTC:20250809T210000
DTSTAMP:20260422T221243
CREATED:20250703T151556Z
LAST-MODIFIED:20250703T151556Z
UID:10006072-1754757000-1754773200@hotelbrunswick.com.au
SUMMARY:FULL MOON REGGAE PARTY
DESCRIPTION:🌕 FULL MOON REGGAE PARTY 🌕Friday 9 August 2025 | From 4:30pm ’til lateHotel Brunswick | Free Entry \nWe’re lighting up the beer garden for a full moon celebration packed with soul\, roots\, and rhythm. Bring your dancing feet and settle in for an evening of live music that flows as easy as a Friday arvo beer. \n🎤 Ladi Abundance – A powerhouse performer blending soulful vocals with live looping to create hypnotic\, high-vibe soundscapes that hit you in the heart and the hips.🌺 Empress Katia – Smooth\, soulful\, and rooted in reggae tradition\, Empress Katia brings deep grooves and conscious energy to the stage.🎧 Rachel by the Stream – Producer\, DJ\, and genre-bender\, Rachel weaves global sounds and uplifting beats into a dancefloor journey that feels like sunshine.🌿 Lionheart Rebellion – Local legends with a deep roots sound\, Lionheart Rebellion are all about unity\, rhythm\, and reggae you can feel in your chest. \n✨ Free entry✨ Cold drinks + pub eats✨ Big energy\, full moon feels \nNo tickets\, no fuss – just good music\, good people\, and a night to remember.
URL:https://hotelbrunswick.com.au/event/full-moon-reggae-party-3/
CATEGORIES:Gig
ATTACH;FMTTYPE=image/jpeg:https://hotelbrunswick.com.au/wp-content/uploads/2025/07/07c2be07-e08a-42a9-8761-1ff7043162d8.jpeg
END:VEVENT
BEGIN:VEVENT
DTSTART;TZID=UTC:20250810T160000
DTEND;TZID=UTC:20250810T200000
DTSTAMP:20260422T221243
CREATED:20241015T135233Z
LAST-MODIFIED:20250120T180639Z
UID:10003037-1754841600-1754856000@hotelbrunswick.com.au
SUMMARY:SUNDAY BRUNSDAY
DESCRIPTION:Join us every Sunday for an unforgettable afternoon of live music\, delicious food\, great vibes and company. \nShowcasing amazing talent with some of the best live music around. Admission is free\, so bring your friends and family for an enjoyable experience for all involved. \nThe perfect Sunday Session \nView Gig Guide
URL:https://hotelbrunswick.com.au/event/sundays-brunsday/2025-08-10/
CATEGORIES:What's On
ATTACH;FMTTYPE=image/jpeg:https://hotelbrunswick.com.au/wp-content/uploads/2024/10/AMD_4970-RA1-scaled.jpg
END:VEVENT
BEGIN:VEVENT
DTSTART;TZID=UTC:20250810T160000
DTEND;TZID=UTC:20250810T220000
DTSTAMP:20260422T221243
CREATED:20250702T190006Z
LAST-MODIFIED:20250702T190217Z
UID:10006071-1754841600-1754863200@hotelbrunswick.com.au
SUMMARY:Brolga
DESCRIPTION:🎶 Brolga Live at Hotel Brunswick – with Special Guests Blind Corners & Arianna 🎶 \nSunday 10 August | Free Show
URL:https://hotelbrunswick.com.au/event/brolga/
CATEGORIES:Gig
ATTACH;FMTTYPE=image/jpeg:https://hotelbrunswick.com.au/wp-content/uploads/2025/07/BROLGA-RUSTY3PR-1-scaled.jpg
END:VEVENT
BEGIN:VEVENT
DTSTART;TZID=UTC:20250811T150000
DTEND;TZID=UTC:20250811T170000
DTSTAMP:20260422T221243
CREATED:20250804T170605Z
LAST-MODIFIED:20260201T225429Z
UID:10007607-1754924400-1754931600@hotelbrunswick.com.au
SUMMARY:Happy Hour
DESCRIPTION:HAPPY HOUR | MO-FR 3-5PM | $7.50 Tap Beers \nWeekday Happy Hour! \nRaise your glass to $7.50 tap beers\, available Monday–Friday\, 3–5PM.Because afternoons are made for good company and cold brews. \nOpen to everyone. No membership needed. T&Cs apply. Excludes public holidays and NSW/QLD school holidays.
URL:https://hotelbrunswick.com.au/event/happy-hour-2/2025-08-11/
CATEGORIES:What's On
ATTACH;FMTTYPE=image/jpeg:https://hotelbrunswick.com.au/wp-content/uploads/2025/08/happy-hour-scaled-e1761525027291.jpg
END:VEVENT
BEGIN:VEVENT
DTSTART;TZID=UTC:20250812T150000
DTEND;TZID=UTC:20250812T170000
DTSTAMP:20260422T221243
CREATED:20250804T170605Z
LAST-MODIFIED:20260201T225429Z
UID:10010668-1755010800-1755018000@hotelbrunswick.com.au
SUMMARY:Happy Hour
DESCRIPTION:HAPPY HOUR | MO-FR 3-5PM | $7.50 Tap Beers \nWeekday Happy Hour! \nRaise your glass to $7.50 tap beers\, available Monday–Friday\, 3–5PM.Because afternoons are made for good company and cold brews. \nOpen to everyone. No membership needed. T&Cs apply. Excludes public holidays and NSW/QLD school holidays.
URL:https://hotelbrunswick.com.au/event/happy-hour-2/2025-08-12/
CATEGORIES:What's On
ATTACH;FMTTYPE=image/jpeg:https://hotelbrunswick.com.au/wp-content/uploads/2025/08/happy-hour-scaled-e1761525027291.jpg
END:VEVENT
BEGIN:VEVENT
DTSTART;TZID=UTC:20250813T150000
DTEND;TZID=UTC:20250813T170000
DTSTAMP:20260422T221243
CREATED:20250804T170605Z
LAST-MODIFIED:20260201T225429Z
UID:10007608-1755097200-1755104400@hotelbrunswick.com.au
SUMMARY:Happy Hour
DESCRIPTION:HAPPY HOUR | MO-FR 3-5PM | $7.50 Tap Beers \nWeekday Happy Hour! \nRaise your glass to $7.50 tap beers\, available Monday–Friday\, 3–5PM.Because afternoons are made for good company and cold brews. \nOpen to everyone. No membership needed. T&Cs apply. Excludes public holidays and NSW/QLD school holidays.
URL:https://hotelbrunswick.com.au/event/happy-hour-2/2025-08-13/
CATEGORIES:What's On
ATTACH;FMTTYPE=image/jpeg:https://hotelbrunswick.com.au/wp-content/uploads/2025/08/happy-hour-scaled-e1761525027291.jpg
END:VEVENT
BEGIN:VEVENT
DTSTART;TZID=UTC:20250813T160000
DTEND;TZID=UTC:20250813T190000
DTSTAMP:20260422T221243
CREATED:20250804T184144Z
LAST-MODIFIED:20251221T114032Z
UID:10005514-1755100800-1755111600@hotelbrunswick.com.au
SUMMARY:Joker Poker
DESCRIPTION:Holiday Break: Joker Poker Paused on Dec 24 & Dec 31 (XMAS Eve & NYE)
URL:https://hotelbrunswick.com.au/event/joker-poker-4/2025-08-13/
CATEGORIES:What's On
ATTACH;FMTTYPE=image/jpeg:https://hotelbrunswick.com.au/wp-content/uploads/2025/08/happyhour-scaled.jpg
END:VEVENT
BEGIN:VEVENT
DTSTART;TZID=UTC:20250813T170000
DTEND;TZID=UTC:20250813T203000
DTSTAMP:20260422T221243
CREATED:20250529T150713Z
LAST-MODIFIED:20250911T153929Z
UID:10003426-1755104400-1755117000@hotelbrunswick.com.au
SUMMARY:Steak Night
DESCRIPTION:$20 Rump \n$30 Sirloin \nserved with chips\, cos\, pickled onions\, ranch & choice of sauce
URL:https://hotelbrunswick.com.au/event/wednesday-steak-night/2025-08-13/
CATEGORIES:What's On
ATTACH;FMTTYPE=image/webp:https://hotelbrunswick.com.au/wp-content/uploads/2024/11/Bruns_The-Ducks_Steak-Special.webp
END:VEVENT
BEGIN:VEVENT
DTSTART;TZID=UTC:20250814T150000
DTEND;TZID=UTC:20250814T170000
DTSTAMP:20260422T221243
CREATED:20250804T170605Z
LAST-MODIFIED:20260201T225429Z
UID:10007609-1755183600-1755190800@hotelbrunswick.com.au
SUMMARY:Happy Hour
DESCRIPTION:HAPPY HOUR | MO-FR 3-5PM | $7.50 Tap Beers \nWeekday Happy Hour! \nRaise your glass to $7.50 tap beers\, available Monday–Friday\, 3–5PM.Because afternoons are made for good company and cold brews. \nOpen to everyone. No membership needed. T&Cs apply. Excludes public holidays and NSW/QLD school holidays.
URL:https://hotelbrunswick.com.au/event/happy-hour-2/2025-08-14/
CATEGORIES:What's On
ATTACH;FMTTYPE=image/jpeg:https://hotelbrunswick.com.au/wp-content/uploads/2025/08/happy-hour-scaled-e1761525027291.jpg
END:VEVENT
BEGIN:VEVENT
DTSTART;TZID=UTC:20250814T170000
DTEND;TZID=UTC:20250814T203000
DTSTAMP:20260422T221243
CREATED:20250804T184321Z
LAST-MODIFIED:20250911T154057Z
UID:10003948-1755190800-1755203400@hotelbrunswick.com.au
SUMMARY:1/2 price Pizza Night
DESCRIPTION:All pizzas half price
URL:https://hotelbrunswick.com.au/event/thursday-pizza-night-2/2025-08-14/
CATEGORIES:What's On
ATTACH;FMTTYPE=image/jpeg:https://hotelbrunswick.com.au/wp-content/uploads/2025/08/pizza2-scaled.jpg
END:VEVENT
BEGIN:VEVENT
DTSTART;TZID=UTC:20250814T180000
DTEND;TZID=UTC:20250814T190000
DTSTAMP:20260422T221243
CREATED:20250804T183357Z
LAST-MODIFIED:20250804T185834Z
UID:10006931-1755194400-1755198000@hotelbrunswick.com.au
SUMMARY:Raffle Night
DESCRIPTION:
URL:https://hotelbrunswick.com.au/event/raffle-night-thursdays-2/2025-08-14/
CATEGORIES:What's On
ATTACH;FMTTYPE=image/jpeg:https://hotelbrunswick.com.au/wp-content/uploads/2025/08/raffle-scaled.jpg
END:VEVENT
BEGIN:VEVENT
DTSTART;TZID=UTC:20250814T180000
DTEND;TZID=UTC:20250814T220000
DTSTAMP:20260422T221243
CREATED:20250701T183501Z
LAST-MODIFIED:20250701T183501Z
UID:10006068-1755194400-1755208800@hotelbrunswick.com.au
SUMMARY:Callum Creelman
DESCRIPTION:
URL:https://hotelbrunswick.com.au/event/callum-creelman-4/
CATEGORIES:Gig
ATTACH;FMTTYPE=image/jpeg:https://hotelbrunswick.com.au/wp-content/uploads/2025/07/Callum-Creelman.jpg
END:VEVENT
BEGIN:VEVENT
DTSTART;TZID=UTC:20250815T150000
DTEND;TZID=UTC:20250815T170000
DTSTAMP:20260422T221243
CREATED:20250804T170605Z
LAST-MODIFIED:20260201T225429Z
UID:10007610-1755270000-1755277200@hotelbrunswick.com.au
SUMMARY:Happy Hour
DESCRIPTION:HAPPY HOUR | MO-FR 3-5PM | $7.50 Tap Beers \nWeekday Happy Hour! \nRaise your glass to $7.50 tap beers\, available Monday–Friday\, 3–5PM.Because afternoons are made for good company and cold brews. \nOpen to everyone. No membership needed. T&Cs apply. Excludes public holidays and NSW/QLD school holidays.
URL:https://hotelbrunswick.com.au/event/happy-hour-2/2025-08-15/
CATEGORIES:What's On
ATTACH;FMTTYPE=image/jpeg:https://hotelbrunswick.com.au/wp-content/uploads/2025/08/happy-hour-scaled-e1761525027291.jpg
END:VEVENT
BEGIN:VEVENT
DTSTART;TZID=UTC:20250815T180000
DTEND;TZID=UTC:20250815T220000
DTSTAMP:20260422T221243
CREATED:20250705T210526Z
LAST-MODIFIED:20250807T222902Z
UID:10006074-1755280800-1755295200@hotelbrunswick.com.au
SUMMARY:TAKING BACK SATURDAY: Emo & Pop Punk Night
DESCRIPTION:🖤 I’M IN THE BUSINESS OF MISERY 🖤 \nTAKING BACK SATURDAY \nEMO & POP PUNK NIGHT \nFRIDAY 15TH AUGUST 2025 \nHOTEL BRUNSWICK \nDOORS OPEN 6PM | 18+ \nBUY TICKET \n✰✰✰✰✰✰✰✰✰✰✰✰✰✰✰✰✰✰ \nJoin us for a night of MMRS\, closing the god damn door and marching to The Black Parade. \n✰✰✰✰✰✰✰✰✰✰✰✰✰✰✰✰✰✰ \nSOUNDS LIKE: \nFall Out Boy : My Chemical Romance : Paramore : blink-182 : Panic! At The Disco : Bring Me The Horizon : Avril Lavigne : Green Day : Linkin Park : Mayday Parade : A Day To Remember : The All-American Rejects : Sum 41 : Good Charlotte : Taking Back Sunday : Pierce The Veil : The Used : Evanescence : AFI : The Red Jumpsuit Apparatus : Neck Deep : Sleeping With Sirens : The Story So Far : Trophy Eyes : You Me At Six : The Veronicas : Metro Station : Real Friends : Stand Atlantic : Yellowcard : The Offspring : Story Of The Year : Citizen : Turnover : Basement : Title Fight : Modern Baseball : Jimmy Eat World : +44 : Kisschasy : Tonight Alive : Boys Like Girls : Knuckle Puck : State Champs : Hot Mulligan : The Wonder Years : We The Kings : New Found Glory : 30 Seconds To Mars : Gym Glass Heroes : 3OH!3 : The Amity Affliction : Bad Omens : Twenty One Pilots : The Maine : Box Car Racer : Relient K : The Academy Is… : Cobra Starship : Motion City Soundtrack : Cute Is What We Aim For : Dashboard Confessional + HEAPS MORE! \nCome and dance the night away with us to all your pop punk and emo faves!! \n✰✰✰✰✰✰✰✰✰✰✰✰✰✰✰✰✰✰ \nPhotosensitivity Information: This event will have changing and moving stage lighting. No Strobes will be used \nTaking Back Saturday do not tolerate anti social behaviour and ask everyone to look after #1 and look after all \nPlease read the Plus One Co. company T&Cs carefully prior to purchasing your ticket – https://bit.ly/PurchaseTCs
URL:https://hotelbrunswick.com.au/event/emopoppunk/
CATEGORIES:Gig,What's On
ATTACH;FMTTYPE=image/png:https://hotelbrunswick.com.au/wp-content/uploads/2025/07/TBS-GEN-2-BANNER.png
END:VEVENT
BEGIN:VEVENT
DTSTART;TZID=UTC:20250816T130000
DTEND;TZID=UTC:20250816T170000
DTSTAMP:20260422T221243
CREATED:20250803T204251Z
LAST-MODIFIED:20250808T005938Z
UID:10006123-1755349200-1755363600@hotelbrunswick.com.au
SUMMARY:MINI FAMILY CARNIVAL
DESCRIPTION:We’re throwing a Mini Family Carnival on Saturday 16th August! Come celebrate with us at the Bruns Pub that day! \nIt’s gonna be a big day of FREE fun:\n✨ FREE ENTRY | FREE GAMES | FREE FAIRY FLOSS ✨\n🎵 Plus live-music after 5PM! \nNo tickets needed. Bring the whole family for an afternoon full of games and carnival fun! 🙂 \n📍 Hotel Brunswick\n🗓️ Sat 16 Aug | From 1pm \n 
URL:https://hotelbrunswick.com.au/event/mini-family-carnival/
CATEGORIES:What's On
ATTACH;FMTTYPE=image/png:https://hotelbrunswick.com.au/wp-content/uploads/2025/08/250816_MiniCarnival_TV.png
END:VEVENT
END:VCALENDAR