BEGIN:VCALENDAR
VERSION:2.0
PRODID:-//Hotel Brunswick - ECPv6.15.17.1//NONSGML v1.0//EN
CALSCALE:GREGORIAN
METHOD:PUBLISH
X-WR-CALNAME:Hotel Brunswick
X-ORIGINAL-URL:https://hotelbrunswick.com.au
X-WR-CALDESC:Events for Hotel Brunswick
REFRESH-INTERVAL;VALUE=DURATION:PT1H
X-Robots-Tag:noindex
X-PUBLISHED-TTL:PT1H
BEGIN:VTIMEZONE
TZID:UTC
BEGIN:STANDARD
TZOFFSETFROM:+0000
TZOFFSETTO:+0000
TZNAME:UTC
DTSTART:20250101T000000
END:STANDARD
END:VTIMEZONE
BEGIN:VTIMEZONE
TZID:Australia/Sydney
BEGIN:STANDARD
TZOFFSETFROM:+1100
TZOFFSETTO:+1000
TZNAME:AEST
DTSTART:20250405T160000
END:STANDARD
BEGIN:DAYLIGHT
TZOFFSETFROM:+1000
TZOFFSETTO:+1100
TZNAME:AEDT
DTSTART:20251004T160000
END:DAYLIGHT
BEGIN:STANDARD
TZOFFSETFROM:+1100
TZOFFSETTO:+1000
TZNAME:AEST
DTSTART:20260404T160000
END:STANDARD
BEGIN:DAYLIGHT
TZOFFSETFROM:+1000
TZOFFSETTO:+1100
TZNAME:AEDT
DTSTART:20261003T160000
END:DAYLIGHT
BEGIN:STANDARD
TZOFFSETFROM:+1100
TZOFFSETTO:+1000
TZNAME:AEST
DTSTART:20270403T160000
END:STANDARD
BEGIN:DAYLIGHT
TZOFFSETFROM:+1000
TZOFFSETTO:+1100
TZNAME:AEDT
DTSTART:20271002T160000
END:DAYLIGHT
END:VTIMEZONE
BEGIN:VEVENT
DTSTART;TZID=UTC:20260510T160000
DTEND;TZID=UTC:20260510T200000
DTSTAMP:20260423T163641
CREATED:20260403T052951Z
LAST-MODIFIED:20260403T052951Z
UID:10011349-1778428800-1778443200@hotelbrunswick.com.au
SUMMARY:BULLHORN
DESCRIPTION:SUNDAY BRUNSDAY | 10 May \nBULLHORN are returning to Hotel Brunswick in May! \nNew wave brass band\, BULLHORN\, are an acoustic force of nature with a line up including 7 horn players\, 1 drummer and 1 monster MC. Their high octane\, combination of hard hitting hip hop\, funk\, soul\, jazz\, reggae always fills the dancefloor. \nFREE EVENT | Sunday 10 May | From 4PM with support
URL:https://hotelbrunswick.com.au/event/bullhorn-2/
CATEGORIES:Gig
ATTACH;FMTTYPE=image/jpeg:https://hotelbrunswick.com.au/wp-content/uploads/2025/10/bullhorn-e1760926607850.jpg
END:VEVENT
BEGIN:VEVENT
DTSTART;TZID=Australia/Sydney:20260512T180000
DTEND;TZID=Australia/Sydney:20260512T203000
DTSTAMP:20260423T163641
CREATED:20260422T074034Z
LAST-MODIFIED:20260422T074034Z
UID:10011361-1778608800-1778617800@hotelbrunswick.com.au
SUMMARY:TUESDAY TUNES: Adam Hourigan
DESCRIPTION:Tuesday Tunes: Legends on the Keys | 6PM \nEvery Tuesday\, catch a solo pianist performing two 1-hour sets: 6:00–7:00PM and 7:30–8:30PM. Fun\, live music to set the right tone for a Tuesday night. \nThis week on the keys: Adam Hourigan — one man\, one piano\, playing live at Hotel Brunswick.
URL:https://hotelbrunswick.com.au/event/tuesday-tunes-adam-hourigan-7/
CATEGORIES:Gig
ATTACH;FMTTYPE=image/jpeg:https://hotelbrunswick.com.au/wp-content/uploads/2026/02/adam-hourigan.jpg
END:VEVENT
BEGIN:VEVENT
DTSTART;TZID=Australia/Sydney:20260514T180000
DTEND;TZID=Australia/Sydney:20260514T203000
DTSTAMP:20260423T163641
CREATED:20260423T035243Z
LAST-MODIFIED:20260423T041008Z
UID:10011364-1778781600-1778790600@hotelbrunswick.com.au
SUMMARY:MEG CARLIN
DESCRIPTION:Meg Carlin | Hotel Brunswick | Thursday 14 May | 6PM \nSouth Australian singer-songwriter Meg Carlin brings her warm acoustic sound to Hotel Brunswick for one night only. \nFresh off tour alongside Jack Botts and Felipe Baldomir\, and with credits playing alongside Kim Churchill and Dusty Boots\, Meg brings genuine road-earned experience to every performance. Her solo show is intimate and unhurried — just Meg\, her guitar\, and a carefully chosen mix of originals and covers that settle perfectly into a relaxed evening. \nIf you’re after the ideal soundtrack to wind down your Thursday\, this is it. \nFree entry | 6PM
URL:https://hotelbrunswick.com.au/event/meg-carlin/
CATEGORIES:Gig
ATTACH;FMTTYPE=image/jpeg:https://hotelbrunswick.com.au/wp-content/uploads/2026/04/megcarlin_1920x1080.jpg
END:VEVENT
BEGIN:VEVENT
DTSTART;TZID=Australia/Sydney:20260516T163000
DTEND;TZID=Australia/Sydney:20260516T220000
DTSTAMP:20260423T163641
CREATED:20260423T041503Z
LAST-MODIFIED:20260423T042126Z
UID:10011365-1778949000-1778968800@hotelbrunswick.com.au
SUMMARY:JOABE REIS
DESCRIPTION:JOABE REIS 16 May | 4:30PM | Free Entry \nBrazilian trombonist\, composer and producer Joabe Reis is one of the most exciting voices in the new wave of instrumental jazz coming out of Brazil — and Hotel Brunswick is thrilled to have him for a one-off afternoon session. \nJoabe’s sound is rooted in jazz but shaped by Hip-Hop\, Neo Soul\, Funk and Pop\, creating something that feels equally at home in a late-night club or a sun-soaked festival set. His critically acclaimed debut album featured jazz luminaries Toninho Horta and Nelson Ayres alongside New York trombonist Elliot Mason of the Lincoln Center Orchestra\, and announced him as an artist of serious calibre. \nSince then\, he’s only grown. In 2024 alone he toured Europe across eight concerts\, performed at Rock in Rio — Brazil’s biggest festival — and joined Macy Gray on her Brazilian tour with four sold-out nights at the iconic Blue Note São Paulo. He’s also shared the stage with celebrated Brazilian artist Ed Motta and been personally invited by Toninho Horta to perform in tribute to the legendary Raul de Souza. \nA rare chance to catch one of Brazil’s most in-demand jazz artists in an intimate setting. \nSupported by Maravilha trio – followed by DJ \nFree Entry | Doors from 4:30PM
URL:https://hotelbrunswick.com.au/event/joabe-reis/
CATEGORIES:Gig
ATTACH;FMTTYPE=image/jpeg:https://hotelbrunswick.com.au/wp-content/uploads/2026/04/joabereis_1920x1080.jpg
END:VEVENT
BEGIN:VEVENT
DTSTART;TZID=Australia/Sydney:20260517T160000
DTEND;TZID=Australia/Sydney:20260517T200000
DTSTAMP:20260423T163641
CREATED:20260422T074917Z
LAST-MODIFIED:20260422T074917Z
UID:10011362-1779033600-1779048000@hotelbrunswick.com.au
SUMMARY:MOONTIDE
DESCRIPTION:MOONTIDE | Hotel Brunswick | Free Event | 17 May \nMoontide brings his full live show to the Bruns for the first time\, joined by Asha Franco. \nTouring their biggest show to date\, the 4-piece close out a summer run of festival appearances with a special hometown performance. Expect a lush\, trippy blend of electronic and poetic beauty – featuring mostly new music set for release later in 2026. Following rave responses to their closing festival sets across the summer\, the band return ready to expand the live experience for a home crowd. \nAsha Franco opens the evening with an eclectic\, globally-inspired DJ set. \n4pm – 8pm
URL:https://hotelbrunswick.com.au/event/moontide/
CATEGORIES:Gig
ATTACH;FMTTYPE=image/jpeg:https://hotelbrunswick.com.au/wp-content/uploads/2026/04/260517_Moontide_tv.jpg
END:VEVENT
BEGIN:VEVENT
DTSTART;TZID=Australia/Sydney:20260519T180000
DTEND;TZID=Australia/Sydney:20260519T203000
DTSTAMP:20260423T163641
CREATED:20260422T075017Z
LAST-MODIFIED:20260422T075026Z
UID:10011363-1779213600-1779222600@hotelbrunswick.com.au
SUMMARY:TUESDAY TUNES: Rafa The Pianist
DESCRIPTION:Tuesday Tunes: Legends on the Keys | 6 PM \nEvery Tuesday\, catch a solo pianist performing two 1-hour sets: 6:00–7:00 PM and 7:30–8:30 PM. Fun\, live music to set the right tone for a Tuesday night. \nThis week on the keys: Rafa The Pianist — one man\, one piano\, playing live at Hotel Brunswick.
URL:https://hotelbrunswick.com.au/event/tuesday-tunes-rafa-the-pianist-6/
CATEGORIES:Gig
ATTACH;FMTTYPE=image/jpeg:https://hotelbrunswick.com.au/wp-content/uploads/2026/02/rafathepianist-e1771292933566.jpg
END:VEVENT
BEGIN:VEVENT
DTSTART;TZID=UTC:20260521T180000
DTEND;TZID=UTC:20260521T203000
DTSTAMP:20260423T163641
CREATED:20260109T024434Z
LAST-MODIFIED:20260423T042811Z
UID:10010636-1779386400-1779395400@hotelbrunswick.com.au
SUMMARY:Adam James
DESCRIPTION:Adam James | Live at Hotel Brunswick📅 Thursday\, 21 May 2026🕕 From 6PM📍 Hotel Brunswick💸 FREE Event \nAfter years of hard work and good living\, Adam James has forged a sound all his own. With train-driven folk strums\, a pounding stomp\, and lyrics of raw honesty\, his music explores everything from the warmth of the sun to the depths of life’s darker caves. \nJoin us for a night of rhythm\, storytelling\, and soul at the Hotel Brunswick — free entry\,
URL:https://hotelbrunswick.com.au/event/adam-james-5/
CATEGORIES:Gig
ATTACH;FMTTYPE=image/jpeg:https://hotelbrunswick.com.au/wp-content/uploads/2025/04/467740097_912074527691160_6802785499297742698_n-e1744844594150.jpg
END:VEVENT
BEGIN:VEVENT
DTSTART;TZID=UTC:20260523T163000
DTEND;TZID=UTC:20260523T220000
DTSTAMP:20260423T163641
CREATED:20260423T052109Z
LAST-MODIFIED:20260423T052156Z
UID:10011366-1779553800-1779573600@hotelbrunswick.com.au
SUMMARY:LOCAL LEGENDS Vol. 4
DESCRIPTION:Local Legends Vol. 4 | ft. Tay Oskee\, Finojet & more!\nHotel Brunswick | 23 May 2026 | From 4:30PM \nWe’re celebrating the incredible artists shaping the sound of the Northern Rivers and beyond — and we want you there.\nReturning for its fourth edition\, Local Legends Vol. 4 brings together a powerhouse lineup of local artists who embody the raw spirit and creativity this region is known for. \nTay Oskee brings heartfelt folk-pop shaped by his roots in Arnhem Land and Mission Beach\, while FINOJET is a rising multi-instrumental indie-folk force fresh off touring with Xavier Rudd across Australia and Europe. More local artists to be announced soon. \nExpect luminous performances\, deep connection\, and wild musical chemistry — a celebration of artistry\, community\, and the power of sound. \nFree Entry | From 4:30PM
URL:https://hotelbrunswick.com.au/event/local-legends-vol-4/
CATEGORIES:Gig,What's On
ATTACH;FMTTYPE=image/jpeg:https://hotelbrunswick.com.au/wp-content/uploads/2026/04/260528_LocalLegends_tv_supp.jpg
END:VEVENT
BEGIN:VEVENT
DTSTART;TZID=Australia/Sydney:20260526T180000
DTEND;TZID=Australia/Sydney:20260526T203000
DTSTAMP:20260423T163641
CREATED:20260423T052823Z
LAST-MODIFIED:20260423T052823Z
UID:10011367-1779818400-1779827400@hotelbrunswick.com.au
SUMMARY:TUESDAY TUNES: Rafa The Pianist
DESCRIPTION:Tuesday Tunes: Legends on the Keys | 6 PM \nEvery Tuesday\, catch a solo pianist performing two 1-hour sets: 6:00–7:00 PM and 7:30–8:30 PM. Fun\, live music to set the right tone for a Tuesday night. \nThis week on the keys: Rafa The Pianist — one man\, one piano\, playing live at Hotel Brunswick.
URL:https://hotelbrunswick.com.au/event/tuesday-tunes-rafa-the-pianist-7/
CATEGORIES:Gig
ATTACH;FMTTYPE=image/jpeg:https://hotelbrunswick.com.au/wp-content/uploads/2026/02/rafathepianist-e1771292933566.jpg
END:VEVENT
BEGIN:VEVENT
DTSTART;TZID=Australia/Sydney:20260529T180000
DTEND;TZID=Australia/Sydney:20260529T223000
DTSTAMP:20260423T163641
CREATED:20260325T060011Z
LAST-MODIFIED:20260325T013921Z
UID:10011291-1780077600-1780093800@hotelbrunswick.com.au
SUMMARY:SHREK RAVE
DESCRIPTION:Check out the FIRST EVER Shrek Rave at Hotel Brunswick 🐸💚 Friday 29th May — enter the swamp if you dare… \nOnions have layers—this party has levels! DJs spinning Shrek anthems and rave bangers all night long to bring out your inner ogre! Special drinks\, wild visuals\, and Shrektacular giveaways await. \nYou’re invited to our swamp for SHREK RAVE! Tickets on sale NOW — link in bio.
URL:https://hotelbrunswick.com.au/event/shrek-rave/
CATEGORIES:Gig,What's On
ATTACH;FMTTYPE=image/jpeg:https://hotelbrunswick.com.au/wp-content/uploads/2026/03/SHREK-RAVE-2025-NEW-FLYER-BRUNSWICK-DATE-445261113_600x300.jpg
END:VEVENT
BEGIN:VEVENT
DTSTART;TZID=UTC:20260531T160000
DTEND;TZID=UTC:20260531T200000
DTSTAMP:20260423T163641
CREATED:20260403T054901Z
LAST-MODIFIED:20260403T054952Z
UID:10011350-1780243200-1780257600@hotelbrunswick.com.au
SUMMARY:THE STRIDES
DESCRIPTION:THE STRIDES| FREE EVENT| SUN 31 MAY\n– With special guests Slim Grilla \nGet ready for a unforgettable Sunday sesh as The Strides bring their powerful reggae tunes to Hotel Brunswick! \nHailing from Sydney\, The Strides embodies Reggae power. Led by roots man Ras Roni\, Fijian MC LTL GZeus\, and Sierra Leonean ragga powerhouse Blacker C\, they offer an explosive\, authentic musical blend of classic roots reggae with hip-hop nuances\, their sound fuses dance hall\, dub beats\, and reggae-pop. \nWith 18 dynamic years on stage\, The Strides have rocked Australia’s major festivals like Splendour in the Grass\, Byron Bay Blues and Roots\, WOMAdelaide and Port Fairy Folk Festival\, sharing stages with legends including Tony Allen\, Julian Marley\, Groundation and Third World\, this 9-piece powerhouse stands as a reggae icon. \nThrough a fusion of cultures and instrumentation\, they unite under a universal consciousness\, cementing their status as a global musical institution. Plus\, special guests Slim Grilla will be joining to warm up the stage. \n\nCome early\, bring your friends\, and enjoy the vibes!
URL:https://hotelbrunswick.com.au/event/the-strides-2/
CATEGORIES:Gig
ATTACH;FMTTYPE=image/jpeg:https://hotelbrunswick.com.au/wp-content/uploads/2025/08/2025_TheStrides_ShaneRozario1514.jpg
END:VEVENT
BEGIN:VEVENT
DTSTART;TZID=Australia/Sydney:20260605T190000
DTEND;TZID=Australia/Sydney:20260605T220000
DTSTAMP:20260423T163641
CREATED:20260311T040054Z
LAST-MODIFIED:20260315T232711Z
UID:10011261-1780686000-1780696800@hotelbrunswick.com.au
SUMMARY:ARC PLAYS EAGLES
DESCRIPTION:ARC PLAYS EAGLES\nHOTEL BRUNSWICK | 5 JUNE \nThe local supergroup Australian Rock Collective (ARC) is going on tour to bring the Eagles’ legendary album HOTEL CALIFORNIA to life this June\, along with a selection of the band’s greatest hits.\n \nARC is undoubtedly Australia’s most celebrated supergroup\, with a combined 33 ARIA Awards and 16 Top Ten ARIA Albums. Comprised of four living legends of Australian rock music – Kram (Spiderbait)\, Darren Middleton (Powderfinger)\, Mark Wilson (Jet) and Davey Lane (You Am I) – ARC bring not just the rabid enthusiasm of friends who grew up as diehard fans of rock music and its legacy\, but the chops\, skills and experience of musicians who have directly contributed to it. \nThis is music played for music fans\, by music fans. The tour starts at Hotel Brunswick\, NSW on Friday 5 June! \nTICKETS ON SALE NOW. \nPresented by Live Nation.
URL:https://hotelbrunswick.com.au/event/hotel-california-the-50th-anniversary/
CATEGORIES:Gig,What's On
ATTACH;FMTTYPE=image/jpeg:https://hotelbrunswick.com.au/wp-content/uploads/2026/02/260605_ARC_web.jpg
END:VEVENT
BEGIN:VEVENT
DTSTART;TZID=UTC:20260606T180000
DTEND;TZID=UTC:20260606T220000
DTSTAMP:20260423T163641
CREATED:20250807T220455Z
LAST-MODIFIED:20260213T021214Z
UID:10007475-1780768800-1780783200@hotelbrunswick.com.au
SUMMARY:PETE MURRAY
DESCRIPTION:NEW DATE: SAT 6 JUNE | Hotel Brunswick \nPete Murray is bringing his exciting full-live-band show to Hotel Brunswick to celebrate the release of his latest album ‘Longing’. Pete will be performing songs from the new record as well as his biggest and most-loved hits. \nDon’t miss this chance to see one of Australia’s greatest songwriters perform with some of the best musicians in the country in what promises to be an awesome night of live entertainment. \n 
URL:https://hotelbrunswick.com.au/event/pete-murray/
CATEGORIES:Gig,What's On
ATTACH;FMTTYPE=image/jpeg:https://hotelbrunswick.com.au/wp-content/uploads/2025/08/pete-murray.jpg
END:VEVENT
BEGIN:VEVENT
DTSTART;TZID=Australia/Sydney:20260724T180000
DTEND;TZID=Australia/Sydney:20260724T220000
DTSTAMP:20260423T163641
CREATED:20260323T004103Z
LAST-MODIFIED:20260327T042128Z
UID:10011288-1784916000-1784930400@hotelbrunswick.com.au
SUMMARY:BRAD COX
DESCRIPTION:BRAD COX | HOTEL BRUNSWICK | FRIDAY 24 JULY 2026 \nThe one and only Brad Cox announces his Multiple Dimensions Australia tour for this winter! 🤠🎸 The three-time Golden Guitar winner will grace the stage all around the country including a show at Hotel Brunswick! Joining the ride are special guests The Vanns and Max Jackson. \nTickets On Sale Now. \n  \n 
URL:https://hotelbrunswick.com.au/event/brad-cox/
CATEGORIES:Gig,What's On
ATTACH;FMTTYPE=image/jpeg:https://hotelbrunswick.com.au/wp-content/uploads/2026/03/BC-WEB-1920x1080-1.jpg
END:VEVENT
END:VCALENDAR