BEGIN:VCALENDAR
VERSION:2.0
PRODID:-//Hotel Brunswick - ECPv6.15.17.1//NONSGML v1.0//EN
CALSCALE:GREGORIAN
METHOD:PUBLISH
X-ORIGINAL-URL:https://hotelbrunswick.com.au
X-WR-CALDESC:Events for Hotel Brunswick
REFRESH-INTERVAL;VALUE=DURATION:PT1H
X-Robots-Tag:noindex
X-PUBLISHED-TTL:PT1H
BEGIN:VTIMEZONE
TZID:UTC
BEGIN:STANDARD
TZOFFSETFROM:+0000
TZOFFSETTO:+0000
TZNAME:UTC
DTSTART:20250101T000000
END:STANDARD
END:VTIMEZONE
BEGIN:VTIMEZONE
TZID:Australia/Sydney
BEGIN:STANDARD
TZOFFSETFROM:+1100
TZOFFSETTO:+1000
TZNAME:AEST
DTSTART:20250405T160000
END:STANDARD
BEGIN:DAYLIGHT
TZOFFSETFROM:+1000
TZOFFSETTO:+1100
TZNAME:AEDT
DTSTART:20251004T160000
END:DAYLIGHT
BEGIN:STANDARD
TZOFFSETFROM:+1100
TZOFFSETTO:+1000
TZNAME:AEST
DTSTART:20260404T160000
END:STANDARD
BEGIN:DAYLIGHT
TZOFFSETFROM:+1000
TZOFFSETTO:+1100
TZNAME:AEDT
DTSTART:20261003T160000
END:DAYLIGHT
BEGIN:STANDARD
TZOFFSETFROM:+1100
TZOFFSETTO:+1000
TZNAME:AEST
DTSTART:20270403T160000
END:STANDARD
BEGIN:DAYLIGHT
TZOFFSETFROM:+1000
TZOFFSETTO:+1100
TZNAME:AEDT
DTSTART:20271002T160000
END:DAYLIGHT
END:VTIMEZONE
BEGIN:VEVENT
DTSTART;TZID=UTC:20260615T150000
DTEND;TZID=UTC:20260615T170000
DTSTAMP:20260422T175526
CREATED:20250804T170605Z
LAST-MODIFIED:20260201T225429Z
UID:10007783-1781535600-1781542800@hotelbrunswick.com.au
SUMMARY:Happy Hour
DESCRIPTION:HAPPY HOUR | MO-FR 3-5PM | $7.50 Tap Beers \nWeekday Happy Hour! \nRaise your glass to $7.50 tap beers\, available Monday–Friday\, 3–5PM.Because afternoons are made for good company and cold brews. \nOpen to everyone. No membership needed. T&Cs apply. Excludes public holidays and NSW/QLD school holidays.
URL:https://hotelbrunswick.com.au/event/happy-hour-2/2026-06-15/
CATEGORIES:What's On
ATTACH;FMTTYPE=image/jpeg:https://hotelbrunswick.com.au/wp-content/uploads/2025/08/happy-hour-scaled-e1761525027291.jpg
END:VEVENT
BEGIN:VEVENT
DTSTART;TZID=Australia/Sydney:20260616T180000
DTEND;TZID=Australia/Sydney:20260616T203000
DTSTAMP:20260422T175526
CREATED:20260209T235354Z
LAST-MODIFIED:20260209T235726Z
UID:10011003-1781632800-1781641800@hotelbrunswick.com.au
SUMMARY:TUESDAY TUNES
DESCRIPTION:Tuesday Tunes: Legends on the Keys | 6 PM \nEvery Tuesday\, catch a solo pianist performing two 1-hour sets: 6:00–7:00 PM and 7:30–8:30 PM. Fun\, live music to set the right tone for a Tuesday night. \nFREE Event
URL:https://hotelbrunswick.com.au/event/tuesday-tunes/2026-06-16/
CATEGORIES:What's On
ATTACH;FMTTYPE=image/jpeg:https://hotelbrunswick.com.au/wp-content/uploads/2026/02/tuesday_tunes.jpg
END:VEVENT
BEGIN:VEVENT
DTSTART;TZID=UTC:20260617T160000
DTEND;TZID=UTC:20260617T190000
DTSTAMP:20260422T175526
CREATED:20251223T155349Z
LAST-MODIFIED:20260105T044836Z
UID:10005558-1781712000-1781722800@hotelbrunswick.com.au
SUMMARY:Joker Poker
DESCRIPTION: 
URL:https://hotelbrunswick.com.au/event/joker-poker-4-2/2026-06-17/
CATEGORIES:What's On
ATTACH;FMTTYPE=image/jpeg:https://hotelbrunswick.com.au/wp-content/uploads/2025/08/happyhour-scaled.jpg
END:VEVENT
BEGIN:VEVENT
DTSTART;TZID=UTC:20260618T180000
DTEND;TZID=UTC:20260618T190000
DTSTAMP:20260422T175526
CREATED:20251218T070057Z
LAST-MODIFIED:20260105T044514Z
UID:10006975-1781805600-1781809200@hotelbrunswick.com.au
SUMMARY:Raffle Night
DESCRIPTION:
URL:https://hotelbrunswick.com.au/event/raffle-night-thursdays-2-2/2026-06-18/
CATEGORIES:What's On
ATTACH;FMTTYPE=image/jpeg:https://hotelbrunswick.com.au/wp-content/uploads/2025/08/raffle-scaled.jpg
END:VEVENT
BEGIN:VEVENT
DTSTART;TZID=UTC:20260618T180000
DTEND;TZID=UTC:20260618T190000
DTSTAMP:20260422T175526
CREATED:20251223T161425Z
LAST-MODIFIED:20251223T161826Z
UID:10010390-1781805600-1781809200@hotelbrunswick.com.au
SUMMARY:Raffle Night
DESCRIPTION:
URL:https://hotelbrunswick.com.au/event/raffle-night-thursdays-2-2-2/2026-06-18/
CATEGORIES:What's On
ATTACH;FMTTYPE=image/jpeg:https://hotelbrunswick.com.au/wp-content/uploads/2025/08/raffle-scaled.jpg
END:VEVENT
BEGIN:VEVENT
DTSTART;TZID=UTC:20260621T160000
DTEND;TZID=UTC:20260621T200000
DTSTAMP:20260422T175526
CREATED:20241015T135233Z
LAST-MODIFIED:20250120T180639Z
UID:10003082-1782057600-1782072000@hotelbrunswick.com.au
SUMMARY:SUNDAY BRUNSDAY
DESCRIPTION:Join us every Sunday for an unforgettable afternoon of live music\, delicious food\, great vibes and company. \nShowcasing amazing talent with some of the best live music around. Admission is free\, so bring your friends and family for an enjoyable experience for all involved. \nThe perfect Sunday Session \nView Gig Guide
URL:https://hotelbrunswick.com.au/event/sundays-brunsday/2026-06-21/
CATEGORIES:What's On
ATTACH;FMTTYPE=image/jpeg:https://hotelbrunswick.com.au/wp-content/uploads/2024/10/AMD_4970-RA1-scaled.jpg
END:VEVENT
BEGIN:VEVENT
DTSTART;TZID=Australia/Sydney:20260724T180000
DTEND;TZID=Australia/Sydney:20260724T220000
DTSTAMP:20260422T175526
CREATED:20260323T004103Z
LAST-MODIFIED:20260327T042128Z
UID:10011288-1784916000-1784930400@hotelbrunswick.com.au
SUMMARY:BRAD COX
DESCRIPTION:BRAD COX | HOTEL BRUNSWICK | FRIDAY 24 JULY 2026 \nThe one and only Brad Cox announces his Multiple Dimensions Australia tour for this winter! 🤠🎸 The three-time Golden Guitar winner will grace the stage all around the country including a show at Hotel Brunswick! Joining the ride are special guests The Vanns and Max Jackson. \nTickets On Sale Now. \n  \n 
URL:https://hotelbrunswick.com.au/event/brad-cox/
CATEGORIES:Gig,What's On
ATTACH;FMTTYPE=image/jpeg:https://hotelbrunswick.com.au/wp-content/uploads/2026/03/BC-WEB-1920x1080-1.jpg
END:VEVENT
END:VCALENDAR