BEGIN:VCALENDAR
VERSION:2.0
PRODID:-//Hotel Brunswick - ECPv6.15.17.1//NONSGML v1.0//EN
CALSCALE:GREGORIAN
METHOD:PUBLISH
X-WR-CALNAME:Hotel Brunswick
X-ORIGINAL-URL:https://hotelbrunswick.com.au
X-WR-CALDESC:Events for Hotel Brunswick
REFRESH-INTERVAL;VALUE=DURATION:PT1H
X-Robots-Tag:noindex
X-PUBLISHED-TTL:PT1H
BEGIN:VTIMEZONE
TZID:Australia/Sydney
BEGIN:STANDARD
TZOFFSETFROM:+1100
TZOFFSETTO:+1000
TZNAME:AEST
DTSTART:20250405T160000
END:STANDARD
BEGIN:DAYLIGHT
TZOFFSETFROM:+1000
TZOFFSETTO:+1100
TZNAME:AEDT
DTSTART:20251004T160000
END:DAYLIGHT
BEGIN:STANDARD
TZOFFSETFROM:+1100
TZOFFSETTO:+1000
TZNAME:AEST
DTSTART:20260404T160000
END:STANDARD
BEGIN:DAYLIGHT
TZOFFSETFROM:+1000
TZOFFSETTO:+1100
TZNAME:AEDT
DTSTART:20261003T160000
END:DAYLIGHT
BEGIN:STANDARD
TZOFFSETFROM:+1100
TZOFFSETTO:+1000
TZNAME:AEST
DTSTART:20270403T160000
END:STANDARD
BEGIN:DAYLIGHT
TZOFFSETFROM:+1000
TZOFFSETTO:+1100
TZNAME:AEDT
DTSTART:20271002T160000
END:DAYLIGHT
END:VTIMEZONE
BEGIN:VEVENT
DTSTART;TZID=Australia/Sydney:20260605T190000
DTEND;TZID=Australia/Sydney:20260605T220000
DTSTAMP:20260422T153222
CREATED:20260311T040054Z
LAST-MODIFIED:20260315T232711Z
UID:10011261-1780686000-1780696800@hotelbrunswick.com.au
SUMMARY:ARC PLAYS EAGLES
DESCRIPTION:ARC PLAYS EAGLES\nHOTEL BRUNSWICK | 5 JUNE \nThe local supergroup Australian Rock Collective (ARC) is going on tour to bring the Eagles’ legendary album HOTEL CALIFORNIA to life this June\, along with a selection of the band’s greatest hits.\n \nARC is undoubtedly Australia’s most celebrated supergroup\, with a combined 33 ARIA Awards and 16 Top Ten ARIA Albums. Comprised of four living legends of Australian rock music – Kram (Spiderbait)\, Darren Middleton (Powderfinger)\, Mark Wilson (Jet) and Davey Lane (You Am I) – ARC bring not just the rabid enthusiasm of friends who grew up as diehard fans of rock music and its legacy\, but the chops\, skills and experience of musicians who have directly contributed to it. \nThis is music played for music fans\, by music fans. The tour starts at Hotel Brunswick\, NSW on Friday 5 June! \nTICKETS ON SALE NOW. \nPresented by Live Nation.
URL:https://hotelbrunswick.com.au/event/hotel-california-the-50th-anniversary/
CATEGORIES:Gig,What's On
ATTACH;FMTTYPE=image/jpeg:https://hotelbrunswick.com.au/wp-content/uploads/2026/02/260605_ARC_web.jpg
END:VEVENT
END:VCALENDAR