BEGIN:VCALENDAR
VERSION:2.0
PRODID:-//Hotel Brunswick - ECPv6.15.17.1//NONSGML v1.0//EN
CALSCALE:GREGORIAN
METHOD:PUBLISH
X-WR-CALNAME:Hotel Brunswick
X-ORIGINAL-URL:https://hotelbrunswick.com.au
X-WR-CALDESC:Events for Hotel Brunswick
REFRESH-INTERVAL;VALUE=DURATION:PT1H
X-Robots-Tag:noindex
X-PUBLISHED-TTL:PT1H
BEGIN:VTIMEZONE
TZID:UTC
BEGIN:STANDARD
TZOFFSETFROM:+0000
TZOFFSETTO:+0000
TZNAME:UTC
DTSTART:20250101T000000
END:STANDARD
END:VTIMEZONE
BEGIN:VEVENT
DTSTART;TZID=UTC:20260531T160000
DTEND;TZID=UTC:20260531T200000
DTSTAMP:20260422T093538
CREATED:20260403T054901Z
LAST-MODIFIED:20260403T054952Z
UID:10011350-1780243200-1780257600@hotelbrunswick.com.au
SUMMARY:THE STRIDES
DESCRIPTION:THE STRIDES| FREE EVENT| SUN 31 MAY\n– With special guests Slim Grilla \nGet ready for a unforgettable Sunday sesh as The Strides bring their powerful reggae tunes to Hotel Brunswick! \nHailing from Sydney\, The Strides embodies Reggae power. Led by roots man Ras Roni\, Fijian MC LTL GZeus\, and Sierra Leonean ragga powerhouse Blacker C\, they offer an explosive\, authentic musical blend of classic roots reggae with hip-hop nuances\, their sound fuses dance hall\, dub beats\, and reggae-pop. \nWith 18 dynamic years on stage\, The Strides have rocked Australia’s major festivals like Splendour in the Grass\, Byron Bay Blues and Roots\, WOMAdelaide and Port Fairy Folk Festival\, sharing stages with legends including Tony Allen\, Julian Marley\, Groundation and Third World\, this 9-piece powerhouse stands as a reggae icon. \nThrough a fusion of cultures and instrumentation\, they unite under a universal consciousness\, cementing their status as a global musical institution. Plus\, special guests Slim Grilla will be joining to warm up the stage. \n\nCome early\, bring your friends\, and enjoy the vibes!
URL:https://hotelbrunswick.com.au/event/the-strides-2/
CATEGORIES:Gig
ATTACH;FMTTYPE=image/jpeg:https://hotelbrunswick.com.au/wp-content/uploads/2025/08/2025_TheStrides_ShaneRozario1514.jpg
END:VEVENT
END:VCALENDAR