BEGIN:VCALENDAR
VERSION:2.0
PRODID:-//Hotel Brunswick - ECPv6.15.17.1//NONSGML v1.0//EN
CALSCALE:GREGORIAN
METHOD:PUBLISH
X-ORIGINAL-URL:https://hotelbrunswick.com.au
X-WR-CALDESC:Events for Hotel Brunswick
REFRESH-INTERVAL;VALUE=DURATION:PT1H
X-Robots-Tag:noindex
X-PUBLISHED-TTL:PT1H
BEGIN:VTIMEZONE
TZID:Australia/Sydney
BEGIN:STANDARD
TZOFFSETFROM:+1100
TZOFFSETTO:+1000
TZNAME:AEST
DTSTART:20250405T160000
END:STANDARD
BEGIN:DAYLIGHT
TZOFFSETFROM:+1000
TZOFFSETTO:+1100
TZNAME:AEDT
DTSTART:20251004T160000
END:DAYLIGHT
BEGIN:STANDARD
TZOFFSETFROM:+1100
TZOFFSETTO:+1000
TZNAME:AEST
DTSTART:20260404T160000
END:STANDARD
BEGIN:DAYLIGHT
TZOFFSETFROM:+1000
TZOFFSETTO:+1100
TZNAME:AEDT
DTSTART:20261003T160000
END:DAYLIGHT
BEGIN:STANDARD
TZOFFSETFROM:+1100
TZOFFSETTO:+1000
TZNAME:AEST
DTSTART:20270403T160000
END:STANDARD
BEGIN:DAYLIGHT
TZOFFSETFROM:+1000
TZOFFSETTO:+1100
TZNAME:AEDT
DTSTART:20271002T160000
END:DAYLIGHT
END:VTIMEZONE
BEGIN:VEVENT
DTSTART;TZID=Australia/Sydney:20260526T180000
DTEND;TZID=Australia/Sydney:20260526T203000
DTSTAMP:20260424T023333
CREATED:20260423T052823Z
LAST-MODIFIED:20260423T052823Z
UID:10011367-1779818400-1779827400@hotelbrunswick.com.au
SUMMARY:TUESDAY TUNES: Rafa The Pianist
DESCRIPTION:Tuesday Tunes: Legends on the Keys | 6 PM \nEvery Tuesday\, catch a solo pianist performing two 1-hour sets: 6:00–7:00 PM and 7:30–8:30 PM. Fun\, live music to set the right tone for a Tuesday night. \nThis week on the keys: Rafa The Pianist — one man\, one piano\, playing live at Hotel Brunswick.
URL:https://hotelbrunswick.com.au/event/tuesday-tunes-rafa-the-pianist-7/
CATEGORIES:Gig
ATTACH;FMTTYPE=image/jpeg:https://hotelbrunswick.com.au/wp-content/uploads/2026/02/rafathepianist-e1771292933566.jpg
END:VEVENT
END:VCALENDAR