BEGIN:VCALENDAR
VERSION:2.0
PRODID:-//Hotel Brunswick - ECPv6.15.17.1//NONSGML v1.0//EN
CALSCALE:GREGORIAN
METHOD:PUBLISH
X-WR-CALNAME:Hotel Brunswick
X-ORIGINAL-URL:https://hotelbrunswick.com.au
X-WR-CALDESC:Events for Hotel Brunswick
REFRESH-INTERVAL;VALUE=DURATION:PT1H
X-Robots-Tag:noindex
X-PUBLISHED-TTL:PT1H
BEGIN:VTIMEZONE
TZID:Australia/Sydney
BEGIN:STANDARD
TZOFFSETFROM:+1100
TZOFFSETTO:+1000
TZNAME:AEST
DTSTART:20250405T160000
END:STANDARD
BEGIN:DAYLIGHT
TZOFFSETFROM:+1000
TZOFFSETTO:+1100
TZNAME:AEDT
DTSTART:20251004T160000
END:DAYLIGHT
BEGIN:STANDARD
TZOFFSETFROM:+1100
TZOFFSETTO:+1000
TZNAME:AEST
DTSTART:20260404T160000
END:STANDARD
BEGIN:DAYLIGHT
TZOFFSETFROM:+1000
TZOFFSETTO:+1100
TZNAME:AEDT
DTSTART:20261003T160000
END:DAYLIGHT
BEGIN:STANDARD
TZOFFSETFROM:+1100
TZOFFSETTO:+1000
TZNAME:AEST
DTSTART:20270403T160000
END:STANDARD
BEGIN:DAYLIGHT
TZOFFSETFROM:+1000
TZOFFSETTO:+1100
TZNAME:AEDT
DTSTART:20271002T160000
END:DAYLIGHT
END:VTIMEZONE
BEGIN:VEVENT
DTSTART;TZID=Australia/Sydney:20260515T180000
DTEND;TZID=Australia/Sydney:20260515T220000
DTSTAMP:20260422T093644
CREATED:20260310T035908Z
LAST-MODIFIED:20260310T040124Z
UID:10011266-1778868000-1778882400@hotelbrunswick.com.au
SUMMARY:RADIO FREE ALICE
DESCRIPTION:RADIO FREE ALICE | HOTEL BRUNSWICK | 15 MAY \n🎸 Radio Free Alice are coming to Brunswick Heads\, NSW. \nMelbourne’s finest new wave\, post-punk four-piece band play their debut Hotel Brunswick show on Friday 15 May as part of Great Southern Nights 2026. We are stoked. \nWith support. \nTickets On Sale Now.
URL:https://hotelbrunswick.com.au/event/radio-free-alice/
CATEGORIES:Gig,What's On
ATTACH;FMTTYPE=image/jpeg:https://hotelbrunswick.com.au/wp-content/uploads/2026/03/RFA-Press-Shot-scaled-e1773115130452.jpg
END:VEVENT
END:VCALENDAR