BEGIN:VCALENDAR
VERSION:2.0
PRODID:-//Hotel Brunswick - ECPv6.15.17.1//NONSGML v1.0//EN
CALSCALE:GREGORIAN
METHOD:PUBLISH
X-WR-CALNAME:Hotel Brunswick
X-ORIGINAL-URL:https://hotelbrunswick.com.au
X-WR-CALDESC:Events for Hotel Brunswick
REFRESH-INTERVAL;VALUE=DURATION:PT1H
X-Robots-Tag:noindex
X-PUBLISHED-TTL:PT1H
BEGIN:VTIMEZONE
TZID:Australia/Sydney
BEGIN:STANDARD
TZOFFSETFROM:+1100
TZOFFSETTO:+1000
TZNAME:AEST
DTSTART:20250405T160000
END:STANDARD
BEGIN:DAYLIGHT
TZOFFSETFROM:+1000
TZOFFSETTO:+1100
TZNAME:AEDT
DTSTART:20251004T160000
END:DAYLIGHT
BEGIN:STANDARD
TZOFFSETFROM:+1100
TZOFFSETTO:+1000
TZNAME:AEST
DTSTART:20260404T160000
END:STANDARD
BEGIN:DAYLIGHT
TZOFFSETFROM:+1000
TZOFFSETTO:+1100
TZNAME:AEDT
DTSTART:20261003T160000
END:DAYLIGHT
BEGIN:STANDARD
TZOFFSETFROM:+1100
TZOFFSETTO:+1000
TZNAME:AEST
DTSTART:20270403T160000
END:STANDARD
BEGIN:DAYLIGHT
TZOFFSETFROM:+1000
TZOFFSETTO:+1100
TZNAME:AEDT
DTSTART:20271002T160000
END:DAYLIGHT
END:VTIMEZONE
BEGIN:VEVENT
DTSTART;TZID=Australia/Sydney:20260507T180000
DTEND;TZID=Australia/Sydney:20260507T203000
DTSTAMP:20260423T213940
CREATED:20260413T035442Z
LAST-MODIFIED:20260413T035442Z
UID:10011357-1778176800-1778185800@hotelbrunswick.com.au
SUMMARY:NATHAN KAYE
DESCRIPTION:🎶 NATHAN KAYE | Hotel Brunswick 🎶 \nThursday 7 May | From 6 PM | FREE Entry \nExperience an uplifting one-man music festival with Nathan Kaye – a spellbinding singer\, hilarious storyteller\, lap steel guitarist\, funky didgeridoo player\, and human beatbox all in one. Known for pioneering didgeridoo beatboxing\, his live shows are equal parts soulful\, funny\, and electrifying. \nNathan has shared stages with Wolfmother\, Jason Mraz\, Pete Murray\, and Birds of Tokyo\, and performed at iconic venues worldwide including Glastonbury\, Edinburgh Festival\, and The Viper Room (LA). \nCrafting philosophical truths wrapped in rich melodies\, Nathan’s music is the perfect soundtrack for an epic road trip or a cozy evening by the fire. \n✨ FREE event 
URL:https://hotelbrunswick.com.au/event/nathan-kaye-4/
CATEGORIES:Gig
ATTACH;FMTTYPE=image/png:https://hotelbrunswick.com.au/wp-content/uploads/2025/10/NathanKaye-e1760932513275.png
END:VEVENT
END:VCALENDAR