BEGIN:VCALENDAR
VERSION:2.0
PRODID:-//Hotel Brunswick - ECPv6.15.17.1//NONSGML v1.0//EN
CALSCALE:GREGORIAN
METHOD:PUBLISH
X-WR-CALNAME:Hotel Brunswick
X-ORIGINAL-URL:https://hotelbrunswick.com.au
X-WR-CALDESC:Events for Hotel Brunswick
REFRESH-INTERVAL;VALUE=DURATION:PT1H
X-Robots-Tag:noindex
X-PUBLISHED-TTL:PT1H
BEGIN:VTIMEZONE
TZID:Australia/Sydney
BEGIN:STANDARD
TZOFFSETFROM:+1100
TZOFFSETTO:+1000
TZNAME:AEST
DTSTART:20250405T160000
END:STANDARD
BEGIN:DAYLIGHT
TZOFFSETFROM:+1000
TZOFFSETTO:+1100
TZNAME:AEDT
DTSTART:20251004T160000
END:DAYLIGHT
BEGIN:STANDARD
TZOFFSETFROM:+1100
TZOFFSETTO:+1000
TZNAME:AEST
DTSTART:20260404T160000
END:STANDARD
BEGIN:DAYLIGHT
TZOFFSETFROM:+1000
TZOFFSETTO:+1100
TZNAME:AEDT
DTSTART:20261003T160000
END:DAYLIGHT
BEGIN:STANDARD
TZOFFSETFROM:+1100
TZOFFSETTO:+1000
TZNAME:AEST
DTSTART:20270403T160000
END:STANDARD
BEGIN:DAYLIGHT
TZOFFSETFROM:+1000
TZOFFSETTO:+1100
TZNAME:AEDT
DTSTART:20271002T160000
END:DAYLIGHT
END:VTIMEZONE
BEGIN:VEVENT
DTSTART;TZID=Australia/Sydney:20260502T180000
DTEND;TZID=Australia/Sydney:20260502T220000
DTSTAMP:20260423T214845
CREATED:20260412T234818Z
LAST-MODIFIED:20260413T003128Z
UID:10011353-1777744800-1777759200@hotelbrunswick.com.au
SUMMARY:L.A.B
DESCRIPTION:L.A.B | Hotel Brunswick | 2 May 6PM \nWe can’t get enough…🔥 L.A.B are coming to Hotel Brunswick on 2 May for a special one-off intimate show! After a massive summer of shows\, this is a rare chance to catch one of NZ’s biggest bands up close and personal in the Northern Rivers. \nThis one will sell out fast. Tickets on sale now. \nThanks to Great Southern Nights\, Loop & Select Music
URL:https://hotelbrunswick.com.au/event/l-a-b/
CATEGORIES:Gig,What's On
ATTACH;FMTTYPE=image/png:https://hotelbrunswick.com.au/wp-content/uploads/2026/04/LAB_web.png
END:VEVENT
END:VCALENDAR