BEGIN:VCALENDAR
VERSION:2.0
PRODID:-//Hotel Brunswick - ECPv6.15.17.1//NONSGML v1.0//EN
CALSCALE:GREGORIAN
METHOD:PUBLISH
X-ORIGINAL-URL:https://hotelbrunswick.com.au
X-WR-CALDESC:Events for Hotel Brunswick
REFRESH-INTERVAL;VALUE=DURATION:PT1H
X-Robots-Tag:noindex
X-PUBLISHED-TTL:PT1H
BEGIN:VTIMEZONE
TZID:Australia/Sydney
BEGIN:STANDARD
TZOFFSETFROM:+1100
TZOFFSETTO:+1000
TZNAME:AEST
DTSTART:20250405T160000
END:STANDARD
BEGIN:DAYLIGHT
TZOFFSETFROM:+1000
TZOFFSETTO:+1100
TZNAME:AEDT
DTSTART:20251004T160000
END:DAYLIGHT
BEGIN:STANDARD
TZOFFSETFROM:+1100
TZOFFSETTO:+1000
TZNAME:AEST
DTSTART:20260404T160000
END:STANDARD
BEGIN:DAYLIGHT
TZOFFSETFROM:+1000
TZOFFSETTO:+1100
TZNAME:AEDT
DTSTART:20261003T160000
END:DAYLIGHT
BEGIN:STANDARD
TZOFFSETFROM:+1100
TZOFFSETTO:+1000
TZNAME:AEST
DTSTART:20270403T160000
END:STANDARD
BEGIN:DAYLIGHT
TZOFFSETFROM:+1000
TZOFFSETTO:+1100
TZNAME:AEDT
DTSTART:20271002T160000
END:DAYLIGHT
END:VTIMEZONE
BEGIN:VEVENT
DTSTART;TZID=Australia/Sydney:20260424T180000
DTEND;TZID=Australia/Sydney:20260424T220000
DTSTAMP:20260422T071422
CREATED:20260129T231300Z
LAST-MODIFIED:20260129T233554Z
UID:10010666-1777053600-1777068000@hotelbrunswick.com.au
SUMMARY:THE PRESETS DJ SET
DESCRIPTION:The Presets DJs are coming to Hotel Brunswick on Friday 24 April! \nFormed in 2003\, Julian Hamilton and Kim Moyes reshaped Aussie sounds\, fusing dance music with rock’n’roll energy. From Beams to the triple-platinum Apocalypso — featuring the iconic ‘My People’ — their impact is undeniable. \n🏆 5× ARIA Awards + J Award and more.\nBeyond that: Julian has collaborated with Flight Facilities & Steve Angello\, while Kim is a heavyweight DJ\, producer (DMA’s\, Northeast Party House) & co-founder of Here To Hell. \nLocal DJ legend TAYA. will be supporting – bringing a pinch of extra fire to The Bruns dance floor. \nThis one’s huge. Dance floors will move. 💥\n🎟 Tickets on sale now!
URL:https://hotelbrunswick.com.au/event/the-presets-dj-set-2/
CATEGORIES:Gig,What's On
ATTACH;FMTTYPE=image/jpeg:https://hotelbrunswick.com.au/wp-content/uploads/2026/01/Presets_2-scaled-e1769728357349.jpeg
END:VEVENT
END:VCALENDAR