BEGIN:VCALENDAR
VERSION:2.0
PRODID:-//Hotel Brunswick - ECPv6.15.17.1//NONSGML v1.0//EN
CALSCALE:GREGORIAN
METHOD:PUBLISH
X-ORIGINAL-URL:https://hotelbrunswick.com.au
X-WR-CALDESC:Events for Hotel Brunswick
REFRESH-INTERVAL;VALUE=DURATION:PT1H
X-Robots-Tag:noindex
X-PUBLISHED-TTL:PT1H
BEGIN:VTIMEZONE
TZID:UTC
BEGIN:STANDARD
TZOFFSETFROM:+0000
TZOFFSETTO:+0000
TZNAME:UTC
DTSTART:20250101T000000
END:STANDARD
END:VTIMEZONE
BEGIN:VTIMEZONE
TZID:Australia/Sydney
BEGIN:STANDARD
TZOFFSETFROM:+1100
TZOFFSETTO:+1000
TZNAME:AEST
DTSTART:20250405T160000
END:STANDARD
BEGIN:DAYLIGHT
TZOFFSETFROM:+1000
TZOFFSETTO:+1100
TZNAME:AEDT
DTSTART:20251004T160000
END:DAYLIGHT
BEGIN:STANDARD
TZOFFSETFROM:+1100
TZOFFSETTO:+1000
TZNAME:AEST
DTSTART:20260404T160000
END:STANDARD
BEGIN:DAYLIGHT
TZOFFSETFROM:+1000
TZOFFSETTO:+1100
TZNAME:AEDT
DTSTART:20261003T160000
END:DAYLIGHT
BEGIN:STANDARD
TZOFFSETFROM:+1100
TZOFFSETTO:+1000
TZNAME:AEST
DTSTART:20270403T160000
END:STANDARD
BEGIN:DAYLIGHT
TZOFFSETFROM:+1000
TZOFFSETTO:+1100
TZNAME:AEDT
DTSTART:20271002T160000
END:DAYLIGHT
END:VTIMEZONE
BEGIN:VEVENT
DTSTART;TZID=UTC:20260421T150000
DTEND;TZID=UTC:20260421T170000
DTSTAMP:20260422T070211
CREATED:20250804T170605Z
LAST-MODIFIED:20260201T225429Z
UID:10010704-1776783600-1776790800@hotelbrunswick.com.au
SUMMARY:Happy Hour
DESCRIPTION:HAPPY HOUR | MO-FR 3-5PM | $7.50 Tap Beers \nWeekday Happy Hour! \nRaise your glass to $7.50 tap beers\, available Monday–Friday\, 3–5PM.Because afternoons are made for good company and cold brews. \nOpen to everyone. No membership needed. T&Cs apply. Excludes public holidays and NSW/QLD school holidays.
URL:https://hotelbrunswick.com.au/event/happy-hour-2/2026-04-21/
CATEGORIES:What's On
ATTACH;FMTTYPE=image/jpeg:https://hotelbrunswick.com.au/wp-content/uploads/2025/08/happy-hour-scaled-e1761525027291.jpg
END:VEVENT
BEGIN:VEVENT
DTSTART;TZID=Australia/Sydney:20260421T180000
DTEND;TZID=Australia/Sydney:20260421T203000
DTSTAMP:20260422T070211
CREATED:20260209T235354Z
LAST-MODIFIED:20260209T235726Z
UID:10010995-1776794400-1776803400@hotelbrunswick.com.au
SUMMARY:TUESDAY TUNES
DESCRIPTION:Tuesday Tunes: Legends on the Keys | 6 PM \nEvery Tuesday\, catch a solo pianist performing two 1-hour sets: 6:00–7:00 PM and 7:30–8:30 PM. Fun\, live music to set the right tone for a Tuesday night. \nFREE Event
URL:https://hotelbrunswick.com.au/event/tuesday-tunes/2026-04-21/
CATEGORIES:What's On
ATTACH;FMTTYPE=image/jpeg:https://hotelbrunswick.com.au/wp-content/uploads/2026/02/tuesday_tunes.jpg
END:VEVENT
BEGIN:VEVENT
DTSTART;TZID=Australia/Sydney:20260421T180000
DTEND;TZID=Australia/Sydney:20260421T203000
DTSTAMP:20260422T070211
CREATED:20260403T045621Z
LAST-MODIFIED:20260403T045621Z
UID:10011347-1776794400-1776803400@hotelbrunswick.com.au
SUMMARY:TUESDAY TUNES: Rafa The Pianist
DESCRIPTION:Tuesday Tunes: Legends on the Keys | 6 PM \nEvery Tuesday\, catch a solo pianist performing two 1-hour sets: 6:00–7:00 PM and 7:30–8:30 PM. Fun\, live music to set the right tone for a Tuesday night. \nThis week on the keys: Rafa The Pianist — one man\, one piano\, playing live at Hotel Brunswick.
URL:https://hotelbrunswick.com.au/event/tuesday-tunes-rafa-the-pianist-5/
CATEGORIES:Gig
ATTACH;FMTTYPE=image/jpeg:https://hotelbrunswick.com.au/wp-content/uploads/2026/02/rafathepianist-e1771292933566.jpg
END:VEVENT
END:VCALENDAR